Workbook

Sheet Opdateringstidspunkt
B2: Selskab | C2: Seneste opdateringsdato | D2: Opdateret af | E2: Hvad er opdateret
B3: BAT | C3: 46041 | D3: Gitte | E3: FC2025. Der er faldende udgifter grundet nedjustering i køreplantimer, men der er især fald i indtægter og passagertal siden seneste prognose.
B4: FynBus | C4: 46042 | D4: Julia | E4: 16.1.2026: FC2025 (efter 3. kvartal) og B2026. Odense Letbane er taget ud, da Odense Letbane ikke er en del af FBs regnskab. Ved SPB for RSD mangler afklaring om FB skal tage fællesudgifterne med eller ej. 20.1.2026: Korrigeret med fællesudgifter ved regionens SPB, disse er udgået, da de er opgjort ved ST
B5: Midttrafik | C5: 46246 | D5: Christian | E5: Tilføjet køreplantimer + passagerer og udfyldt med data fra anden rapport - Se gerne jeres egen igennem og tjek op
B6: Movia | C6: 46037 | D6: Frank | E6: R2025 og FC2026 efter 1. kvartal
B7: NT | C7: 46181 | D7: Lars | E7: R2019, R2020, R2021, R2022, R2023, R2024, R2025, B2026 og FC2026 på ejerniveau
B8: Sydtrafik | C8: 46253 | D8: Jannie | E8: Opdateret med kommunefordeling, køreplantimer, passagertal samt FC2026
B9: FynBus | C9: 46175 | D9: Julia | E9: R2025 og FC2026 efter 1. kvartal
B10: Movia | C10: 46182 | D10: Frank | E10: R2025 - Der er ikke udfyldt for Estimat 1 2026 og B2027, da de først bestyrelsesbehandles 23. juni 2026 -
B11: FynBus | C11: 46249 | D11: Julia | E11: Opdateret med køreplantimer og passagerer for busserne for perioden 2024 - FC2026
B12: NT | C12: 46255 | D12: Thomas | E12: Opdateret med køreplantimer, Tog KM og påstigere
B13: Movia | C13: 46255 | D13: Shafeeq | E13: Opdateret fra R2019-B2027 med fordeling på kommune/region niveau. Køreplantimer og passagerer mangler at blive fordelt på kommune niveau.
B14: Movia | C14: 46260 | D14: Shafeeq | E14: Køreplantimer og passagerer opdateret. Dvs. alt som er muligt fra R2019 til B2027 er opdateret

Sheet Trafikselskaber Samlet
A2: ØKONOMISKE NØGLETAL FOR TRAFIKSELSKABERNE - TRAFIKSELSKABERNE SAMLET (LØBENDE PRISER)
B4: Passagerindtægter (mDKK) | O4: Operatørudgifter (mDKK) | AB4: Supportudgifter/fællesudgifter (mDKK) | AO4: Pensioner (mDKK) | BB4: Finansielle poster (mDKK) | BO4: Statskompensation (mDKK) | CB4: Samlede udgifter (mDKK) | CO4: Tilskudsbehov (mDKK) | DB4: Supportudgifter/fællesudgifters andel af samlede udgifter | DO4: Køreplantimer BUS | EB4: Køreplantimer til baner | EO4: Antal passagerer | FB4: Antal km (til baner)
B5: R2019 | C5: R2020 | D5: R2021 | E5: R2022 | F5: R2023 | G5: R2024 | H5: R2025 | I5: B2026 | J5: FC2026 | K5: R2026 | L5: B2027 | M5: FC2027 | N5: R2027 | O5: R2019 | P5: R2020 | Q5: R2021 | R5: R2022 | S5: R2023 | T5: R2024 | U5: R2025 | V5: B2026 | W5: FC2026 | X5: R2026 | Y5: B2027 | Z5: FC2027 | AA5: R2027 | AB5: R2019 | AC5: R2020 | AD5: R2021 | AE5: R2022 | AF5: R2023 | AG5: R2024 | AH5: R2025 | AI5: B2026 | AJ5: FC2026 | AK5: R2026 | AL5: B2027 | AM5: FC2027 | AN5: R2027 | AO5: R2019 | AP5: R2020 | AQ5: R2021 | AR5: R2022 | AS5: R2023 | AT5: R2024 | AU5: R2025 | AV5: B2026 | AW5: FC2026 | AX5: R2026 | AY5: B2027 | AZ5: FC2027 | BA5: R2027 | BB5: R2019 | BC5: R2020 | BD5: R2021 | BE5: R2022 | BF5: R2023 | BG5: R2024 | BH5: R2025 | BI5: B2026 | BJ5: FC2026 | BK5: R2026 | BL5: B2027 | BM5: FC2027 | BN5: R2027 | BO5: R2019 | BP5: R2020 | BQ5: R2021 | BR5: R2022 | BS5: R2023 | BT5: R2024 | BU5: R2025 | BV5: B2026 | BW5: FC2026 | BX5: R2026 | BY5: B2027 | BZ5: FC2027 | CA5: R2027 | CB5: R2019 | CC5: R2020 | CD5: R2021 | CE5: R2022 | CF5: R2023 | CG5: R2024 | CH5: R2025 | CI5: B2026 | CJ5: FC2026 | CK5: R2026 | CL5: B2027 | CM5: FC2027 | CN5: R2027 | CO5: R2019 | CP5: R2020 | CQ5: R2021 | CR5: R2022 | CS5: R2023 | CT5: R2024 | CU5: R2025 | CV5: B2026 | CW5: FC2026 | CX5: R2026 | CY5: B2027 | CZ5: FC2027 | DA5: R2027 | DB5: R2019 | DC5: R2020 | DD5: R2021 | DE5: R2022 | DF5: R2023 | DG5: R2024 | DH5: R2025 | DI5: B2026 | DJ5: FC2026 | DK5: R2026 | DL5: B2027 | DM5: FC2027 | DN5: R2027 | DO5: R2019 | DP5: R2020 | DQ5: R2021 | DR5: R2022 | DS5: R2023 | DT5: R2024 | DU5: R2025 | DV5: B2026 | DW5: FC2026 | DX5: R2026 | DY5: B2027 | DZ5: FC2027 | EA5: R2027 | EB5: R2019 | EC5: R2020 | ED5: R2021 | EE5: R2022 | EF5: R2023 | EG5: R2024 | EH5: R2025 | EI5: B2026 | EJ5: FC2026 | EK5: R2026 | EL5: B2027 | EM5: FC2027 | EN5: R2027 | EO5: R2019 | EP5: R2020 | EQ5: R2021 | ER5: R2022 | ES5: R2023 | ET5: R2024 | EU5: R2025 | EV5: B2026 | EW5: FC2026 | EX5: R2026 | EY5: B2027 | EZ5: FC2027 | FA5: R2027 | FB5: R2019 | FC5: R2020 | FD5: R2021 | FE5: R2022 | FF5: R2023 | FG5: R2024 | FH5: R2025 | FI5: B2026 | FJ5: FC2026 | FK5: R2026 | FL5: B2027 | FM5: FC2027 | FN5: R2027
A6: BAT | B6: =+BAT!F6 -> 29.4 | C6: =+BAT!G6 -> 22.4 | D6: =+BAT!H6 -> 22.1 | E6: =+BAT!I6 -> 24.44 | F6: =+BAT!J6 -> 26.639 | G6: =+BAT!K6 -> 26.69 | H6: =+BAT!L6 -> 26.4 | I6: =+BAT!M6 -> 29 | ... EN6: =+BAT!ER6 -> 0 | EO6: =IFERROR(+BAT!ES6,"") -> 0 | EP6: =IFERROR(+BAT!ET6,"") -> 0 | EQ6: =IFERROR(+BAT!EU6,"") -> 0 | ER6: =IFERROR(+BAT!EV6,"") -> 0 | ES6: =IFERROR(+BAT!EW6,"") -> 0 | ET6: =IFERROR(+BAT!EX6,"") -> 0 | EU6: =IFERROR(+BAT!EY6,"") -> 0 | EV6: =IFERROR(+BAT!EZ6,"") -> 0 | ... FA6: =IFERROR(+BAT!FE6,"") -> 0 | FB6: =+BAT!FF6 -> 0 | FC6: =+BAT!FG6 -> 0 | FD6: =+BAT!FH6 -> 0 | FE6: =+BAT!FI6 -> 0 | FF6: =+BAT!FJ6 -> 0 | FG6: =+BAT!FK6 -> 0 | FH6: =+BAT!FL6 -> 0 | FI6: =+BAT!FM6 -> 0 | ... FN6: =+BAT!FR6 -> 0
A7: FynBus | B7: =+FynBus!F6 -> 202.614 | C7: =+FynBus!G6 -> 139.022 | D7: =+FynBus!H6 -> 158.543 | E7: =+FynBus!I6 -> 165.102 | F7: =+FynBus!J6 -> 170.738 | G7: =+FynBus!K6 -> 169.568 | H7: =+FynBus!L6 -> 180.784 | I7: =+FynBus!M6 -> 199.32548 | ... EN7: =+FynBus!ER6 -> 0 | EO7: =IFERROR(+FynBus!ES6,"") -> 14521000 | EP7: =IFERROR(+FynBus!ET6,"") -> 9472000 | EQ7: =IFERROR(+FynBus!EU6,"") -> 8938000 | ER7: =IFERROR(+FynBus!EV6,"") -> 11162000 | ES7: =IFERROR(+FynBus!EW6,"") -> 11074000 | ET7: =IFERROR(+FynBus!EX6,"") -> 11301000 | EU7: =IFERROR(+FynBus!EY6,"") -> 10962000 | EV7: =IFERROR(+FynBus!EZ6,"") -> 10971000 | ... FA7: =IFERROR(+FynBus!FE6,"") -> 0 | FB7: =+FynBus!FF6 -> 0 | FC7: =+FynBus!FG6 -> 0 | FD7: =+FynBus!FH6 -> 0 | FE7: =+FynBus!FI6 -> 0 | FF7: =+FynBus!FJ6 -> 0 | FG7: =+FynBus!FK6 -> 0 | FH7: =+FynBus!FL6 -> 0 | FI7: =+FynBus!FM6 -> 0 | ... FN7: =+FynBus!FR6 -> 0
A8: Midttrafik | B8: =+'Midttrafik '!F6 -> 785.5 | C8: =+'Midttrafik '!G6 -> 559.3 | D8: =+'Midttrafik '!H6 -> 570 | E8: =+'Midttrafik '!I6 -> 770.9 | F8: =+'Midttrafik '!J6 -> 842.9 | G8: =+'Midttrafik '!K6 -> 907.2 | H8: =+'Midttrafik '!L6 -> 872.02989 | I8: =+'Midttrafik '!M6 -> 889.216 | ... EN8: =+'Midttrafik '!ER6 -> 0 | EO8: =IFERROR(+'Midttrafik '!ES6,"") -> 52753730 | EP8: =IFERROR(+'Midttrafik '!ET6,"") -> 34554824 | EQ8: =IFERROR(+'Midttrafik '!EU6,"") -> 34298387 | ER8: =IFERROR(+'Midttrafik '!EV6,"") -> 45544621 | ES8: =IFERROR(+'Midttrafik '!EW6,"") -> 49153595 | ET8: =IFERROR(+'Midttrafik '!EX6,"") -> 55626000 | EU8: =IFERROR(+'Midttrafik '!EY6,"") -> 54820000 | EV8: =IFERROR(+'Midttrafik '!EZ6,"") -> 54904000 | ... FA8: =IFERROR(+'Midttrafik '!FE6,"") -> 0 | FB8: =+'Midttrafik '!FF6 -> 2967950 | FC8: =+'Midttrafik '!FG6 -> 3186555 | FD8: =+'Midttrafik '!FH6 -> 3989278 | FE8: =+'Midttrafik '!FI6 -> 4125086 | FF8: =+'Midttrafik '!FJ6 -> 4214795 | FG8: =+'Midttrafik '!FK6 -> 4190000 | FH8: =+'Midttrafik '!FL6 -> 4136815 | FI8: =+'Midttrafik '!FM6 -> 4305000 | ... FN8: =+'Midttrafik '!FR6 -> 0
A9: Movia | B9: =+Movia!F6 -> 1930.1836 | C9: =+Movia!G6 -> 1296.4217 | D9: =+Movia!H6 -> 1417.6208 | E9: =+Movia!I6 -> 1696.1999 | F9: =+Movia!J6 -> 1934.6118 | G9: =+Movia!K6 -> 2142.7692 | H9: =+Movia!L6 -> 2119.2035 | I9: =+Movia!M6 -> 2058.2007 | ... DJ9: =+Movia!DN6 -> 0.1194 | DK9: =+Movia!DP6 -> 0.1196 | DL9: =+Movia!DQ6 -> 0 | DM9: =+Movia!DR6 -> 0 | DN9: =+Movia!DS6 -> 4232703.6 | DO9: =+Movia!DS6 -> 4232703.6 | DP9: =+Movia!DT6 -> 4084195.9 | DQ9: =+Movia!DU6 -> 4077598.3 | DR9: =+Movia!DV6 -> 4119024 | DS9: =+Movia!DW6 -> 4114494 | DT9: =+Movia!DX6 -> 4061247.3 | DU9: =+Movia!DY6 -> 4028943.2 | DV9: =+Movia!DZ6 -> 3997256.4 | ... EN9: =+Movia!ER6 -> 0 | EO9: =IFERROR(+Movia!ES6,"") -> 2.0164672e+08 | EP9: =IFERROR(+Movia!ET6,"") -> 1.3019101e+08 | EQ9: =IFERROR(+Movia!EU6,"") -> 1.2877374e+08 | ER9: =IFERROR(+Movia!EV6,"") -> 1.6012939e+08 | ES9: =IFERROR(+Movia!EW6,"") -> 1.7361206e+08 | ET9: =IFERROR(+Movia!EX6,"") -> 1.7549617e+08 | EU9: =IFERROR(+Movia!EY6,"") -> 1.7281672e+08 | EV9: =IFERROR(+Movia!EZ6,"") -> 1.7031482e+08 | ... FA9: =IFERROR(+Movia!FE6,"") -> 0 | FB9: =+Movia!FF6 -> 7825683 | FC9: =+Movia!FG6 -> 7629001 | FD9: =+Movia!FH6 -> 8034836 | FE9: =+Movia!FI6 -> 7998171 | FF9: =+Movia!FJ6 -> 7987375 | FG9: =+Movia!FK6 -> 8076229 | FH9: =+Movia!FL6 -> 8442977 | FI9: =+Movia!FM6 -> 8932495 | ... FN9: =+Movia!FR6 -> 0
A10: NT | B10: =+NT!F6 -> 382.594 | C10: =+NT!G6 -> 265.2835 | D10: =+NT!H6 -> 276.69426 | E10: =+NT!I6 -> 351.11102 | F10: =+NT!J6 -> 395.21593 | G10: =+NT!K6 -> 411.49739 | H10: =+NT!L6 -> 423.43723 | I10: =+NT!M6 -> 454.69167 | ... EN10: =+NT!ER6 -> 0 | EO10: =IFERROR(+NT!ES6,"") -> 24021490 | EP10: =IFERROR(+NT!ET6,"") -> 14430098 | EQ10: =IFERROR(+NT!EU6,"") -> 13634360 | ER10: =IFERROR(+NT!EV6,"") -> 18523868 | ES10: =IFERROR(+NT!EW6,"") -> 20781764 | ET10: =IFERROR(+NT!EX6,"") -> 20736314 | EU10: =IFERROR(+NT!EY6,"") -> 21621168 | EV10: =IFERROR(+NT!EZ6,"") -> 0 | ... FA10: =IFERROR(+NT!FE6,"") -> 0 | FB10: =+NT!FF6 -> 2978604 | FC10: =+NT!FG6 -> 2785257 | FD10: =+NT!FH6 -> 3095161.5 | FE10: =+NT!FI6 -> 3070974 | FF10: =+NT!FJ6 -> 3113098 | FG10: =+NT!FK6 -> 2804180 | FH10: =+NT!FL6 -> 3088580 | FI10: =+NT!FM6 -> 3504902 | ... FN10: =+NT!FR6 -> 0
A11: Sydtrafik | B11: =+Sydtrafik!F6 -> 264.5 | C11: =+Sydtrafik!G6 -> 200.7 | D11: =+Sydtrafik!H6 -> 177.3 | E11: =+Sydtrafik!I6 -> 246.3 | F11: =+Sydtrafik!J6 -> 259.6 | G11: =+Sydtrafik!K6 -> 272.6 | H11: =+Sydtrafik!L6 -> 262.6 | I11: =+Sydtrafik!M6 -> 260.1 | ... EN11: =+Sydtrafik!ER6 -> 0 | EO11: =IFERROR(+Sydtrafik!ES6,"") -> 14338372 | EP11: =IFERROR(+Sydtrafik!ET6,"") -> 9420348 | EQ11: =IFERROR(+Sydtrafik!EU6,"") -> 8490102 | ER11: =IFERROR(+Sydtrafik!EV6,"") -> 11534884 | ES11: =IFERROR(+Sydtrafik!EW6,"") -> 11772238 | ET11: =IFERROR(+Sydtrafik!EX6,"") -> 11891197 | EU11: =IFERROR(+Sydtrafik!EY6,"") -> 12221230 | EV11: =IFERROR(+Sydtrafik!EZ6,"") -> 0 | ... FA11: =IFERROR(+Sydtrafik!FE6,"") -> 0 | FB11: =+Sydtrafik!FF6 -> 310000 | FC11: =+Sydtrafik!FG6 -> 305000 | FD11: =+Sydtrafik!FH6 -> 304000 | FE11: =+Sydtrafik!FI6 -> 310000 | FF11: =+Sydtrafik!FJ6 -> 306000 | FG11: =+Sydtrafik!FK6 -> 316000 | FH11: =+Sydtrafik!FL6 -> 297581 | FI11: =+Sydtrafik!FM6 -> 297581 | ... FN11: =+Sydtrafik!FR6 -> 0
A12: Total | B12: =SUBTOTAL(9,B6:B11) -> 3594.7916 | C12: =SUBTOTAL(9,C6:C11) -> 2483.1272 | D12: =SUBTOTAL(9,D6:D11) -> 2622.2581 | E12: =SUBTOTAL(9,E6:E11) -> 3254.0529 | F12: =SUBTOTAL(9,F6:F11) -> 3629.7047 | G12: =SUBTOTAL(9,G6:G11) -> 3930.3246 | H12: =SUBTOTAL(9,H6:H11) -> 3884.4546 | I12: =SUBTOTAL(9,I6:I11) -> 3890.5339 | ... N12: =SUBTOTAL(9,N6:N11) -> 0 | O12: =SUM(O6:O11) -> 8787.4087 | P12: =SUM(P6:P11) -> 8634.2357 | Q12: =SUM(Q6:Q11) -> 9041.8363 | R12: =SUM(R6:R11) -> 9938.7931 | S12: =SUM(S6:S11) -> 10075.8 | T12: =SUM(T6:T11) -> 10109.395 | U12: =SUM(U6:U11) -> 10189.787 | V12: =SUM(V6:V11) -> 10368.048 | ... AA12: =SUM(AA6:AA11) -> 0 | AB12: =SUBTOTAL(9,AB6:AB11) -> 1182.4607 | AC12: =SUBTOTAL(9,AC6:AC11) -> 1175.3691 | AD12: =SUBTOTAL(9,AD6:AD11) -> 1254.5254 | AE12: =SUBTOTAL(9,AE6:AE11) -> 1217.1844 | AF12: =SUBTOTAL(9,AF6:AF11) -> 1266.611 | AG12: =SUBTOTAL(9,AG6:AG11) -> 1326.0695 | AH12: =SUBTOTAL(9,AH6:AH11) -> 1362.0491 | AI12: =SUBTOTAL(9,AI6:AI11) -> 1469.0504 | ... AN12: =SUBTOTAL(9,AN6:AN11) -> 0 | AO12: =SUM(AO6:AO11) -> 31.50885 | AP12: =SUM(AP6:AP11) -> 38.08653 | AQ12: =SUM(AQ6:AQ11) -> 38.96542 | AR12: =SUM(AR6:AR11) -> 54.46696 | AS12: =SUM(AS6:AS11) -> 40.09313 | AT12: =SUM(AT6:AT11) -> 44.75122 | AU12: =SUM(AU6:AU11) -> 43.56857 | AV12: =SUM(AV6:AV11) -> 53.40312 | ... BA12: =SUM(BA6:BA11) -> 0 | BB12: =SUBTOTAL(9,BB6:BB11) -> 31.815664 | BC12: =SUBTOTAL(9,BC6:BC11) -> 54.596457 | BD12: =SUBTOTAL(9,BD6:BD11) -> 18.01462 | BE12: =SUBTOTAL(9,BE6:BE11) -> 25.871937 | BF12: =SUBTOTAL(9,BF6:BF11) -> 14.390751 | BG12: =SUBTOTAL(9,BG6:BG11) -> -2.5332176 | BH12: =SUBTOTAL(9,BH6:BH11) -> 16.846591 | BI12: =SUBTOTAL(9,BI6:BI11) -> 9.5225989 | ... CA12: =SUBTOTAL(9,CA6:CA11) -> 0 | CB12: =+BB12+AO12+AB12+O12 -> 10033.194 | CC12: =+BC12+AP12+AC12+P12 -> 9902.2878 | CD12: =+BD12+AQ12+AD12+Q12 -> 10353.342 | CE12: =+BE12+AR12+AE12+R12 -> 11236.316 | CF12: =+BF12+AS12+AF12+S12 -> 11396.895 | CG12: =+BG12+AT12+AG12+T12 -> 11477.683 | CH12: =+BH12+AU12+AH12+U12 -> 11612.251 | CI12: =+BI12+AV12+AI12+V12 -> 11900.025 | ... CN12: =+BN12+BA12+AN12+AA12 -> 0 | CO12: =SUM(CO6:CO11) -> 6438.4023 | CP12: =SUM(CP6:CP11) -> 6525.759 | CQ12: =SUM(CQ6:CQ11) -> 6684.1985 | CR12: =SUM(CR6:CR11) -> 7714.3314 | CS12: =SUM(CS6:CS11) -> 7597.283 | CT12: =SUM(CT6:CT11) -> 7546.2993 | CU12: =SUM(CU6:CU11) -> 7727.7963 | CV12: =SUM(CV6:CV11) -> 8009.4906 | ... DA12: =SUM(DA6:DA11) -> 0 | DB12: =+AB12/CB12 -> 0.11785487 | DC12: =+AC12/CC12 -> 0.11869672 | DD12: =+AD12/CD12 -> 0.12117106 | DE12: =+AE12/CE12 -> 0.10832593 | DF12: =+AF12/CF12 -> 0.1111365 | DG12: =+AG12/CG12 -> 0.1155346 | DH12: =IFERROR((+AH12/CH12),0) -> 0.11729415 | DI12: =IFERROR((+AI12/CI12),0) -> 0.12344936 | DJ12: =IFERROR((+AJ12/CJ12),0) -> 0.12120793 | DK12: =IFERROR((+AK12/CK12),0) -> 0 | DL12: =IFERROR((+AL12/CL12),0) -> 0.11955627 | DM12: =IFERROR((+AM12/CM12),0) -> 0 | DN12: =IFERROR((+AN12/CN12),0) -> 0 | DO12: =SUM(DO6:DO11) -> 8586158.6 | DP12: =SUM(DP6:DP11) -> 8382211.9 | DQ12: =SUM(DQ6:DQ11) -> 8330758.5 | DR12: =SUM(DR6:DR11) -> 8334624.1 | DS12: =SUM(DS6:DS11) -> 8196206.3 | DT12: =SUM(DT6:DT11) -> 8018514.7 | DU12: =SUM(DU6:DU11) -> 7924309.2 | DV12: =SUM(DV6:DV11) -> 7896049.4 | ... EN12: =SUM(EN6:EN11) -> 0 | EO12: =SUBTOTAL(9,EO6:EO11) -> 3.0728131e+08 | EP12: =SUBTOTAL(9,EP6:EP11) -> 1.9806828e+08 | EQ12: =SUBTOTAL(9,EQ6:EQ11) -> 1.9413459e+08 | ER12: =SUBTOTAL(9,ER6:ER11) -> 2.4689476e+08 | ES12: =SUBTOTAL(9,ES6:ES11) -> 2.6639366e+08 | ET12: =SUBTOTAL(9,ET6:ET11) -> 2.7505068e+08 | EU12: =SUBTOTAL(9,EU6:EU11) -> 2.7244112e+08 | EV12: =SUBTOTAL(9,EV6:EV11) -> 2.3618982e+08 | ... FA12: =SUBTOTAL(9,FA6:FA11) -> 0 | FB12: =SUM(FB6:FB11) -> 14082237 | FC12: =SUM(FC6:FC11) -> 13905813 | FD12: =SUM(FD6:FD11) -> 15423276 | FE12: =SUM(FE6:FE11) -> 15504231 | FF12: =SUM(FF6:FF11) -> 15621268 | FG12: =SUM(FG6:FG11) -> 15386409 | FH12: =SUM(FH6:FH11) -> 15965953 | FI12: =SUM(FI6:FI11) -> 17039978 | ... FN12: =SUM(FN6:FN11) -> 0
A13: Note: Ud over de opgjorte udgifter afholder trafikselskaberne udgifter til investering i nyt rejsekort. Trafikvirksomhederne som ejer Rejsekort (dvs. incl. DSB og Metroselskabet) har i 2022 fået en låneramme på 550 mio. kr. til dette. Trafikselskabernes andel af lånerammen udgør 263 mio. kr. | EO13: Note: Antal passagerer er selskabernes samlede passagertal (bus, baner og flextrafik). Opdelingen på transporttype findes på arket "Samlet pr. transporttype", som også indeholder indeks for operatørudgifter pr. køreplantime og for passagertal.
A15: Pris og lønstigning fra KL akkumuleret | B15: =+BB15 -> 1 | C15: =+BC15 -> 1.021 | D15: =+BD15 -> 1.038357 | E15: =+BE15 -> 1.0767762 | F15: =+BF15 -> 1.1069259 | G15: =+BG15 -> 1.151203 | H15: =+BH15 -> 1.1937975 | I15: =+BI15 -> 1.2308052 | ... M15: =+BM15 -> 0 | O15: =+B15 -> 1 | P15: =+C15 -> 1.021 | Q15: =+D15 -> 1.038357 | R15: =+E15 -> 1.0767762 | S15: =+F15 -> 1.1069259 | T15: =+G15 -> 1.151203 | U15: =+H15 -> 1.1937975 | V15: =+I15 -> 1.2308052 | ... X15: =+K15 -> 1.2308052 | AB15: =+O15 -> 1 | AC15: =+P15 -> 1.021 | AD15: =+Q15 -> 1.038357 | AE15: =+R15 -> 1.0767762 | AF15: =+S15 -> 1.1069259 | AG15: =+T15 -> 1.151203 | AH15: =+U15 -> 1.1937975 | AI15: =+V15 -> 1.2308052 | ... AK15: =+X15 -> 1.2308052 | AO15: =+AB15 -> 1 | AP15: =+AC15 -> 1.021 | AQ15: =+AD15 -> 1.038357 | AR15: =+AE15 -> 1.0767762 | AS15: =+AF15 -> 1.1069259 | AT15: =+AG15 -> 1.151203 | AU15: =+AH15 -> 1.1937975 | AV15: =+AI15 -> 1.2308052 | ... AX15: =+AK15 -> 1.2308052 | BB15: =+'PL fra KL'!M33 -> 1 | BC15: =+'PL fra KL'!M34 -> 1.021 | BD15: =+'PL fra KL'!M35 -> 1.038357 | BE15: =+'PL fra KL'!M36 -> 1.0767762 | BF15: =+'PL fra KL'!M37 -> 1.1069259 | BG15: =+'PL fra KL'!M38 -> 1.151203 | BH15: =+'PL fra KL'!M39 -> 1.1937975 | BI15: ='PL fra KL'!M40 -> 1.2308052 | BJ15: ='PL fra KL'!M40 -> 1.2308052 | BK15: ='PL fra KL'!M40 -> 1.2308052 | BO15: =+BB15 -> 1 | BP15: =+BC15 -> 1.021 | BQ15: =+BD15 -> 1.038357 | BR15: =+BE15 -> 1.0767762 | BS15: =+BF15 -> 1.1069259 | BT15: =+BG15 -> 1.151203 | BU15: =+BH15 -> 1.1937975 | BV15: =+BI15 -> 1.2308052 | ... BX15: =+BK15 -> 1.2308052 | CB15: =+BO15 -> 1 | CC15: =+BP15 -> 1.021 | CD15: =+BQ15 -> 1.038357 | CE15: =+BR15 -> 1.0767762 | CF15: =+BS15 -> 1.1069259 | CG15: =+BT15 -> 1.151203 | CH15: =+BU15 -> 1.1937975 | CI15: =+BV15 -> 1.2308052 | ... CK15: =+BX15 -> 1.2308052 | CO15: =+CB15 -> 1 | CP15: =+CC15 -> 1.021 | CQ15: =+CD15 -> 1.038357 | CR15: =+CE15 -> 1.0767762 | CS15: =+CF15 -> 1.1069259 | CT15: =+CG15 -> 1.151203 | CU15: =+CH15 -> 1.1937975 | CV15: =+CI15 -> 1.2308052 | ... CX15: =+CK15 -> 1.2308052 | DO15: 1 | DP15: 1 | DQ15: 1 | DR15: 1 | DS15: 1 | DT15: 1 | DU15: 1 | DV15: 1 | DW15: 1 | DX15: 1 | DY15: 1 | DZ15: 1 | EA15: 1 | EB15: 1 | EC15: 1 | ED15: 1 | EE15: 1 | EF15: 1 | EG15: 1 | EH15: 1 | EI15: 1 | EJ15: 1 | EK15: 1 | EL15: 1 | EM15: 1 | EN15: 1 | EO15: 1 | EP15: 1 | EQ15: 1 | ER15: 1 | ES15: 1 | ET15: 1 | EU15: 1 | EV15: 1 | EW15: 1 | EX15: 1 | EY15: 1 | EZ15: 1 | FA15: 1 | FB15: 1 | FC15: 1 | FD15: 1 | FE15: 1 | FF15: 1 | FG15: 1 | FH15: 1 | FI15: 1 | FJ15: 1 | FK15: 1 | FL15: 1 | FM15: 1 | FN15: 1
A16: Note: Der er herunder brugt pris og lønstigning fra KL til at omregne til faste priser. I trafikselskabernes indeksregulering af operatørbetalingerne har brændstof (diesel, el, gas mv.) højere vægt end i den generelle PL for kommuner og regioner - I fx 2022 hvor priserne på brændstof steg meget, er trafikselskabernes indeks derfor steget mere end PL. Modsat i 2020, hvor brændstofpriserne var lave, steg PL mere end trafikselskabernes indeks.
A17: ØKONOMISKE NØGLETAL FOR TRAFIKSELSKABERNE - HERUNDER TRAFIKSELSKABERNE SAMLET (I FASTE 2019-PRISER)
B18: Passagerindtægter (mDKK) | O18: Operatørudgifter (mDKK) | AB18: Supportudgifter/fællesudgifter (mDKK) | AO18: Pensioner (mDKK) | BB18: Finansielle poster (mDKK) | BO18: Statskompensation (mDKK) | CB18: Samlede udgifter (mDKK) | CO18: Tilskudsbehov (mDKK) | DB18: Supportudgifter/fællesudgifters andel af samlede udgifter | DO18: Køreplantimer BUS | EB18: Køreplantimer til baner | EO18: Antal passagerer
B19: R2019 | C19: R2020 | D19: R2021 | E19: R2022 | F19: R2023 | G19: R2024 | H19: R2025 | I19: B2026 | J19: FC2026 | K19: R2026 | L19: B2027 | M19: FC2027 | N19: R2027 | O19: R2019 | P19: R2020 | Q19: R2021 | R19: R2022 | S19: R2023 | T19: R2024 | U19: R2025 | V19: B2026 | W19: FC2026 | X19: R2026 | Y19: B2027 | Z19: FC2027 | AA19: R2027 | AB19: R2019 | AC19: R2020 | AD19: R2021 | AE19: R2022 | AF19: R2023 | AG19: R2024 | AH19: R2025 | AI19: B2026 | AJ19: FC2026 | AK19: R2026 | AL19: B2027 | AM19: FC2027 | AN19: R2027 | AO19: R2019 | AP19: R2020 | AQ19: R2021 | AR19: R2022 | AS19: R2023 | AT19: R2024 | AU19: R2025 | AV19: B2026 | AW19: FC2026 | AX19: R2026 | AY19: B2027 | AZ19: FC2027 | BA19: R2027 | BB19: R2019 | BC19: R2020 | BD19: R2021 | BE19: R2022 | BF19: R2023 | BG19: R2024 | BH19: R2025 | BI19: B2026 | BJ19: FC2026 | BK19: R2026 | BL19: B2027 | BM19: FC2027 | BN19: R2027 | BO19: R2019 | BP19: R2020 | BQ19: R2021 | BR19: R2022 | BS19: R2023 | BT19: R2024 | BU19: R2025 | BV19: B2026 | BW19: FC2026 | BX19: R2026 | BY19: B2027 | BZ19: FC2027 | CA19: R2027 | CB19: R2019 | CC19: R2020 | CD19: R2021 | CE19: R2022 | CF19: R2023 | CG19: R2024 | CH19: R2025 | CI19: B2026 | CJ19: FC2026 | CK19: R2026 | CL19: B2027 | CM19: FC2027 | CN19: R2027 | CO19: R2019 | CP19: R2020 | CQ19: R2021 | CR19: R2022 | CS19: R2023 | CT19: R2024 | CU19: R2025 | CV19: B2026 | CW19: FC2026 | CX19: R2026 | CY19: B2027 | CZ19: FC2027 | DA19: R2027 | DB19: R2019 | DC19: R2020 | DD19: R2021 | DE19: R2022 | DF19: R2023 | DG19: R2024 | DH19: R2025 | DI19: B2026 | DJ19: FC2026 | DK19: R2026 | DL19: B2027 | DM19: FC2027 | DN19: R2027 | DO19: R2019 | DP19: R2020 | DQ19: R2021 | DR19: R2022 | DS19: R2023 | DT19: R2024 | DU19: R2025 | DV19: B2026 | DW19: FC2026 | DX19: R2026 | DY19: B2027 | DZ19: FC2027 | EA19: R2027 | EB19: R2019 | EC19: R2020 | ED19: R2021 | EE19: R2022 | EF19: R2023 | EG19: R2024 | EH19: R2025 | EI19: B2026 | EJ19: FC2026 | EK19: R2026 | EL19: B2027 | EM19: FC2027 | EN19: R2027 | EO19: R2019 | EP19: R2020 | EQ19: R2021 | ER19: R2022 | ES19: R2023 | ET19: R2024 | EU19: R2025 | EV19: B2026 | EW19: FC2026 | EX19: R2026 | EY19: B2027 | EZ19: FC2027 | FA19: R2027
A20: BAT | B20: =IFERROR(B6/B$15,"") -> 29.4 | C20: =IFERROR(C6/C$15,"") -> 21.939275 | D20: =IFERROR(D6/D$15,"") -> 21.283624 | E20: =IFERROR(E6/E$15,"") -> 22.697381 | F20: =IFERROR(F6/F$15,"") -> 24.065747 | G20: =IFERROR(G6/G$15,"") -> 23.184443 | H20: =IFERROR(H6/H$15,"") -> 22.114303 | I20: =IFERROR(I6/I$15,"") -> 23.561811 | ... AN20: =IFERROR(AN6/AN$15,"") | AO20: =IFERROR(AO6,"") -> 0 | AP20: =IFERROR(AP6,"") -> 0 | AQ20: =IFERROR(AQ6,"") -> 0 | AR20: =IFERROR(AR6,"") -> 0 | AS20: =IFERROR(AS6,"") -> 0 | AT20: =IFERROR(AT6,"") -> 0 | AU20: =IFERROR(AU6,"") -> 0 | AV20: =IFERROR(AV6,"") -> 0 | ... BA20: =IFERROR(BA6,"") -> 0 | BB20: =IFERROR(BB6/BB$15,"") -> 0 | BC20: =IFERROR(BC6/BC$15,"") -> 0 | BD20: =IFERROR(BD6/BD$15,"") -> 0 | BE20: =IFERROR(BE6/BE$15,"") -> 0 | BF20: =IFERROR(BF6/BF$15,"") -> 0 | BG20: =IFERROR(BG6/BG$15,"") -> 0 | BH20: =IFERROR(BH6/BH$15,"") -> 0 | BI20: =IFERROR(BI6/BI$15,"") -> 0 | ... DA20: =IFERROR(DA6/DA$15,"") | DB20: =IFERROR(AB20/CB20,"") -> 0.12418301 | DC20: =IFERROR(AC20/CC20,"") -> 0.13047364 | DD20: =IFERROR(AD20/CD20,"") -> 0.1530782 | DE20: =IFERROR(AE20/CE20,"") -> 0.0944 | DF20: =IFERROR(AF20/CF20,"") -> 0.11251981 | DG20: =IFERROR(AG20/CG20,"") -> 0.1 | DH20: =IFERROR(AH20/CH20,"") -> 0.07910628 | DI20: =IFERROR(AI20/CI20,"") -> 0.089506173 | ... DN20: =IFERROR(AN20/CN20,"") | DO20: =IFERROR(DO6/DO$15,"") -> 88761 | DP20: =IFERROR(DP6/DP$15,"") -> 88761 | DQ20: =IFERROR(DQ6/DQ$15,"") -> 78740 | DR20: =IFERROR(DR6/DR$15,"") -> 78740 | DS20: =IFERROR(DS6/DS$15,"") -> 84587 | DT20: =IFERROR(DT6/DT$15,"") -> 81757 | DU20: =IFERROR(DU6/DU$15,"") -> 72390 | DV20: =IFERROR(DV6/DV$15,"") -> 72035 | ... FA20: =IFERROR(FA6/FA$15,"") -> 0
A21: FynBus | B21: =IFERROR(B7/B$15,"") -> 202.614 | C21: =IFERROR(C7/C$15,"") -> 136.16259 | D21: =IFERROR(D7/D$15,"") -> 152.68641 | E21: =IFERROR(E7/E$15,"") -> 153.32991 | F21: =IFERROR(F7/F$15,"") -> 154.24519 | G21: =IFERROR(G7/G$15,"") -> 147.29635 | H21: =IFERROR(H7/H$15,"") -> 151.43607 | I21: =IFERROR(I7/I$15,"") -> 161.94721 | ... AN21: =IFERROR(AN7/AN$15,"") | AO21: =IFERROR(AO7,"") -> 5.5 | AP21: =IFERROR(AP7,"") -> 9.8 | AQ21: =IFERROR(AQ7,"") -> 9.8 | AR21: =IFERROR(AR7,"") -> 23.2 | AS21: =IFERROR(AS7,"") -> 7.3 | AT21: =IFERROR(AT7,"") -> 8.1 | AU21: =IFERROR(AU7,"") -> 8.109 | AV21: =IFERROR(AV7,"") -> 12.498 | ... BA21: =IFERROR(BA7,"") -> 0 | BB21: =IFERROR(BB7/BB$15,"") -> 0.164 | BC21: =IFERROR(BC7/BC$15,"") -> -0.13124388 | BD21: =IFERROR(BD7/BD$15,"") -> 0.030817917 | BE21: =IFERROR(BE7/BE$15,"") -> 0.44113159 | BF21: =IFERROR(BF7/BF$15,"") -> 1.4472513 | BG21: =IFERROR(BG7/BG$15,"") -> -0.62717002 | BH21: =IFERROR(BH7/BH$15,"") -> -0.14910402 | BI21: =IFERROR(BI7/BI$15,"") -> 0.17224496 | ... DA21: =IFERROR(DA7/DA$15,"") | DB21: =IFERROR(AB21/CB21,"") -> 0.15154389 | DC21: =IFERROR(AC21/CC21,"") -> 0.15806155 | DD21: =IFERROR(AD21/CD21,"") -> 0.15204869 | DE21: =IFERROR(AE21/CE21,"") -> 0.14704227 | DF21: =IFERROR(AF21/CF21,"") -> 0.151554 | DG21: =IFERROR(AG21/CG21,"") -> 0.15210016 | DH21: =IFERROR(AH21/CH21,"") -> 0.16250903 | DI21: =IFERROR(AI21/CI21,"") -> 0.17745208 | ... DN21: =IFERROR(AN21/CN21,"") | DO21: =IFERROR(DO7/DO$15,"") -> 613716 | DP21: =IFERROR(DP7/DP$15,"") -> 612621 | DQ21: =IFERROR(DQ7/DQ$15,"") -> 613426 | DR21: =IFERROR(DR7/DR$15,"") -> 594508 | DS21: =IFERROR(DS7/DS$15,"") -> 556367 | DT21: =IFERROR(DT7/DT$15,"") -> 547218 | DU21: =IFERROR(DU7/DU$15,"") -> 551266 | DV21: =IFERROR(DV7/DV$15,"") -> 548559 | ... FA21: =IFERROR(FA7/FA$15,"") -> 0
A22: Midttrafik | B22: =IFERROR(B8/B$15,"") -> 785.5 | C22: =IFERROR(C8/C$15,"") -> 547.79628 | D22: =IFERROR(D8/D$15,"") -> 548.94415 | E22: =IFERROR(E8/E$15,"") -> 715.93335 | F22: =IFERROR(F8/F$15,"") -> 761.47822 | G22: =IFERROR(G8/G$15,"") -> 788.04521 | H22: =IFERROR(H8/H$15,"") -> 730.46718 | I22: =IFERROR(I8/I$15,"") -> 722.46688 | ... AN22: =IFERROR(AN8/AN$15,"") | AO22: =IFERROR(AO8,"") -> 1.8 | AP22: =IFERROR(AP8,"") -> 1.8 | AQ22: =IFERROR(AQ8,"") -> 1.8 | AR22: =IFERROR(AR8,"") -> 2.4 | AS22: =IFERROR(AS8,"") -> 2.6 | AT22: =IFERROR(AT8,"") -> 2.9 | AU22: =IFERROR(AU8,"") -> 3.37374 | AV22: =IFERROR(AV8,"") -> 3.28 | ... BA22: =IFERROR(BA8,"") -> 0 | BB22: =IFERROR(BB8/BB$15,"") -> 2.9 | BC22: =IFERROR(BC8/BC$15,"") -> -1.1753183 | BD22: =IFERROR(BD8/BD$15,"") -> 4.1411576 | BE22: =IFERROR(BE8/BE$15,"") -> 12.816034 | BF22: =IFERROR(BF8/BF$15,"") -> -9.3050489 | BG22: =IFERROR(BG8/BG$15,"") -> -9.034028 | BH22: =IFERROR(BH8/BH$15,"") -> -4.7985423 | BI22: =IFERROR(BI8/BI$15,"") -> 0 | ... DA22: =IFERROR(DA8/DA$15,"") | DB22: =IFERROR(AB22/CB22,"") -> 0.11831865 | DC22: =IFERROR(AC22/CC22,"") -> 0.10690192 | DD22: =IFERROR(AD22/CD22,"") -> 0.11870599 | DE22: =IFERROR(AE22/CE22,"") -> 0.10784595 | DF22: =IFERROR(AF22/CF22,"") -> 0.11296471 | DG22: =IFERROR(AG22/CG22,"") -> 0.1106793 | DH22: =IFERROR(AH22/CH22,"") -> 0.11674211 | DI22: =IFERROR(AI22/CI22,"") -> 0.12169984 | ... DN22: =IFERROR(AN22/CN22,"") | DO22: =IFERROR(DO8/DO$15,"") -> 1895043.9 | DP22: =IFERROR(DP8/DP$15,"") -> 1854608.3 | DQ22: =IFERROR(DQ8/DQ$15,"") -> 1854469.6 | DR22: =IFERROR(DR8/DR$15,"") -> 1847286 | DS22: =IFERROR(DS8/DS$15,"") -> 1791486.2 | DT22: =IFERROR(DT8/DT$15,"") -> 1713778.4 | DU22: =IFERROR(DU8/DU$15,"") -> 1655443 | DV22: =IFERROR(DV8/DV$15,"") -> 1647967 | ... FA22: =IFERROR(FA8/FA$15,"") -> 0
A23: Movia | B23: =IFERROR(B9/B$15,"") -> 1930.1836 | C23: =IFERROR(C9/C$15,"") -> 1269.7568 | D23: =IFERROR(D9/D$15,"") -> 1365.2538 | E23: =IFERROR(E9/E$15,"") -> 1575.2576 | F23: =IFERROR(F9/F$15,"") -> 1747.7337 | G23: =IFERROR(G9/G$15,"") -> 1861.3305 | H23: =IFERROR(H9/H$15,"") -> 1775.1784 | I23: =IFERROR(I9/I$15,"") -> 1672.2392 | ... AN23: =IFERROR(AN9/AN$15,"") | AO23: =IFERROR(AO9,"") -> 24.20885 | AP23: =IFERROR(AP9,"") -> 26.48653 | AQ23: =IFERROR(AQ9,"") -> 27.36542 | AR23: =IFERROR(AR9,"") -> 28.86696 | AS23: =IFERROR(AS9,"") -> 30.19313 | AT23: =IFERROR(AT9,"") -> 33.75122 | AU23: =IFERROR(AU9,"") -> 32.08583 | AV23: =IFERROR(AV9,"") -> 37.62512 | ... BA23: =IFERROR(BA9,"") -> 0 | BB23: =IFERROR(BB9/BB$15,"") -> 24.96694 | BC23: =IFERROR(BC9/BC$15,"") -> 48.295289 | BD23: =IFERROR(BD9/BD$15,"") -> 9.680293 | BE23: =IFERROR(BE9/BE$15,"") -> 9.2784182 | BF23: =IFERROR(BF9/BF$15,"") -> 16.189909 | BG23: =IFERROR(BG9/BG$15,"") -> 6.0233861 | BH23: =IFERROR(BH9/BH$15,"") -> 13.805859 | BI23: =IFERROR(BI9/BI$15,"") -> 3.3311445 | ... DA23: =IFERROR(DA9/DA$15,"") | DB23: =IFERROR(AB23/CB23,"") -> 0.11648275 | DC23: =IFERROR(AC23/CC23,"") -> 0.11974469 | DD23: =IFERROR(AD23/CD23,"") -> 0.12283195 | DE23: =IFERROR(AE23/CE23,"") -> 0.10633025 | DF23: =IFERROR(AF23/CF23,"") -> 0.10939389 | DG23: =IFERROR(AG23/CG23,"") -> 0.11975495 | DH23: =IFERROR(AH23/CH23,"") -> 0.11919168 | DI23: =IFERROR(AI23/CI23,"") -> 0.12359891 | ... DN23: =IFERROR(AN23/CN23,"") | DO23: =IFERROR(DO9/DO$15,"") -> 4232703.6 | DP23: =IFERROR(DP9/DP$15,"") -> 4084195.9 | DQ23: =IFERROR(DQ9/DQ$15,"") -> 4077598.3 | DR23: =IFERROR(DR9/DR$15,"") -> 4119024 | DS23: =IFERROR(DS9/DS$15,"") -> 4114494 | DT23: =IFERROR(DT9/DT$15,"") -> 4061247.3 | DU23: =IFERROR(DU9/DU$15,"") -> 4028943.2 | DV23: =IFERROR(DV9/DV$15,"") -> 3997256.4 | ... FA23: =IFERROR(FA9/FA$15,"") -> 0
A24: NT | B24: =IFERROR(B10/B$15,"") -> 382.594 | C24: =IFERROR(C10/C$15,"") -> 259.82713 | D24: =IFERROR(D10/D$15,"") -> 266.47315 | E24: =IFERROR(E10/E$15,"") -> 326.07613 | F24: =IFERROR(F10/F$15,"") -> 357.03917 | G24: =IFERROR(G10/G$15,"") -> 357.4499 | H24: =IFERROR(H10/H$15,"") -> 354.69771 | I24: =IFERROR(I10/I$15,"") -> 369.42618 | ... AN24: =IFERROR(AN10/AN$15,"") | AO24: =IFERROR(AO10,"") -> 0 | AP24: =IFERROR(AP10,"") -> 0 | AQ24: =IFERROR(AQ10,"") -> 0 | AR24: =IFERROR(AR10,"") -> 0 | AS24: =IFERROR(AS10,"") -> 0 | AT24: =IFERROR(AT10,"") -> 0 | AU24: =IFERROR(AU10,"") -> 0 | AV24: =IFERROR(AV10,"") -> 0 | ... BA24: =IFERROR(BA10,"") -> 0 | BB24: =IFERROR(BB10/BB$15,"") -> 3.4847235 | BC24: =IFERROR(BC10/BC$15,"") -> 5.7991841 | BD24: =IFERROR(BD10/BD$15,"") -> 3.3042781 | BE24: =IFERROR(BE10/BE$15,"") -> 0.74867674 | BF24: =IFERROR(BF10/BF$15,"") -> 5.8429577 | BG24: =IFERROR(BG10/BG$15,"") -> 3.2614947 | BH24: =IFERROR(BH10/BH$15,"") -> 4.3321238 | BI24: =IFERROR(BI10/BI$15,"") -> 5.224717 | ... DA24: =IFERROR(DA10/DA$15,"") | DB24: =IFERROR(AB24/CB24,"") -> 0.10739753 | DC24: =IFERROR(AC24/CC24,"") -> 0.11569071 | DD24: =IFERROR(AD24/CD24,"") -> 0.10290491 | DE24: =IFERROR(AE24/CE24,"") -> 0.092596489 | DF24: =IFERROR(AF24/CF24,"") -> 0.0974882 | DG24: =IFERROR(AG24/CG24,"") -> 0.099163672 | DH24: =IFERROR(AH24/CH24,"") -> 0.096793003 | DI24: =IFERROR(AI24/CI24,"") -> 0.10374302 | ... DN24: =IFERROR(AN24/CN24,"") | DO24: =IFERROR(DO10/DO$15,"") -> 914096.12 | DP24: =IFERROR(DP10/DP$15,"") -> 908325.76 | DQ24: =IFERROR(DQ10/DQ$15,"") -> 902110.55 | DR24: =IFERROR(DR10/DR$15,"") -> 899044.1 | DS24: =IFERROR(DS10/DS$15,"") -> 863332.1 | DT24: =IFERROR(DT10/DT$15,"") -> 840986 | DU24: =IFERROR(DU10/DU$15,"") -> 844435 | DV24: =IFERROR(DV10/DV$15,"") -> 852061 | ... FA24: =IFERROR(FA10/FA$15,"") -> 0
A25: Sydtrafik | B25: =IFERROR(B11/B$15,"") -> 264.5 | C25: =IFERROR(C11/C$15,"") -> 196.57199 | D25: =IFERROR(D11/D$15,"") -> 170.75052 | E25: =IFERROR(E11/E$15,"") -> 228.73834 | F25: =IFERROR(F11/F$15,"") -> 234.52337 | G25: =IFERROR(G11/G$15,"") -> 236.79577 | H25: =IFERROR(H11/H$15,"") -> 219.97031 | I25: =IFERROR(I11/I$15,"") -> 211.32507 | ... AN25: =IFERROR(AN11/AN$15,"") | AO25: =IFERROR(AO11,"") -> 0 | AP25: =IFERROR(AP11,"") -> 0 | AQ25: =IFERROR(AQ11,"") -> 0 | AR25: =IFERROR(AR11,"") -> 0 | AS25: =IFERROR(AS11,"") -> 0 | AT25: =IFERROR(AT11,"") -> 0 | AU25: =IFERROR(AU11,"") -> 0 | AV25: =IFERROR(AV11,"") -> 0 | ... BA25: =IFERROR(BA11,"") -> 0 | BB25: =IFERROR(BB11/BB$15,"") -> 0.3 | BC25: =IFERROR(BC11/BC$15,"") -> 0.68560235 | BD25: =IFERROR(BD11/BD$15,"") -> 0.19261198 | BE25: =IFERROR(BE11/BE$15,"") -> 0.74295847 | BF25: =IFERROR(BF11/BF$15,"") -> -1.1744236 | BG25: =IFERROR(BG11/BG$15,"") -> -1.8241787 | BH25: =IFERROR(BH11/BH$15,"") -> 0.92142931 | BI25: =IFERROR(BI11/BI$15,"") -> -0.99122102 | ... DA25: =IFERROR(DA11/DA$15,"") | DB25: =IFERROR(AB25/CB25,"") -> 0.11375819 | DC25: =IFERROR(AC25/CC25,"") -> 0.11578624 | DD25: =IFERROR(AD25/CD25,"") -> 0.11968085 | DE25: =IFERROR(AE25/CE25,"") -> 0.11432363 | DF25: =IFERROR(AF25/CF25,"") -> 0.10701141 | DG25: =IFERROR(AG25/CG25,"") -> 0.10469118 | DH25: =IFERROR(AH25/CH25,"") -> 0.11020296 | DI25: =IFERROR(AI25/CI25,"") -> 0.12026702 | ... DN25: =IFERROR(AN25/CN25,"") | DO25: =IFERROR(DO11/DO$15,"") -> 841838 | DP25: =IFERROR(DP11/DP$15,"") -> 833700 | DQ25: =IFERROR(DQ11/DQ$15,"") -> 804414 | DR25: =IFERROR(DR11/DR$15,"") -> 796022 | DS25: =IFERROR(DS11/DS$15,"") -> 785940 | DT25: =IFERROR(DT11/DT$15,"") -> 773528 | DU25: =IFERROR(DU11/DU$15,"") -> 771832 | DV25: =IFERROR(DV11/DV$15,"") -> 778171 | ... FA25: =IFERROR(FA11/FA$15,"") -> 0
A26: Total | B26: =IFERROR(SUBTOTAL(9,B20:B25),"") -> 3594.7916 | C26: =IFERROR(SUBTOTAL(9,C20:C25),"") -> 2432.0541 | D26: =IFERROR(SUBTOTAL(9,D20:D25),"") -> 2525.3916 | E26: =IFERROR(SUBTOTAL(9,E20:E25),"") -> 3022.0327 | F26: =IFERROR(SUBTOTAL(9,F20:F25),"") -> 3279.0854 | G26: =IFERROR(SUBTOTAL(9,G20:G25),"") -> 3414.1022 | H26: =IFERROR(SUBTOTAL(9,H20:H25),"") -> 3253.8639 | I26: =IFERROR(SUBTOTAL(9,I20:I25),"") -> 3160.9664 | ... AN26: =IFERROR(SUBTOTAL(9,AN20:AN25),"") -> 0 | AO26: =IFERROR(SUM(AO20:AO25),"") -> 31.50885 | AP26: =IFERROR(SUM(AP20:AP25),"") -> 38.08653 | AQ26: =IFERROR(SUM(AQ20:AQ25),"") -> 38.96542 | AR26: =IFERROR(SUM(AR20:AR25),"") -> 54.46696 | AS26: =IFERROR(SUM(AS20:AS25),"") -> 40.09313 | AT26: =IFERROR(SUM(AT20:AT25),"") -> 44.75122 | AU26: =IFERROR(SUM(AU20:AU25),"") -> 43.56857 | AV26: =IFERROR(SUM(AV20:AV25),"") -> 53.40312 | ... BA26: =IFERROR(SUM(BA20:BA25),"") -> 0 | BB26: =IFERROR(SUBTOTAL(9,BB20:BB25),"") -> 31.815664 | BC26: =IFERROR(SUBTOTAL(9,BC20:BC25),"") -> 53.473513 | BD26: =IFERROR(SUBTOTAL(9,BD20:BD25),"") -> 17.349159 | BE26: =IFERROR(SUBTOTAL(9,BE20:BE25),"") -> 24.027219 | BF26: =IFERROR(SUBTOTAL(9,BF20:BF25),"") -> 13.000645 | BG26: =IFERROR(SUBTOTAL(9,BG20:BG25),"") -> -2.200496 | BH26: =IFERROR(SUBTOTAL(9,BH20:BH25),"") -> 14.111766 | BI26: =IFERROR(SUBTOTAL(9,BI20:BI25),"") -> 7.7368854 | ... DA26: =IFERROR(SUBTOTAL(9,DA20:DA25),"") -> 0 | DB26: =IFERROR(AB26/CB26,"") -> 0.11785487 | DC26: =IFERROR(AC26/CC26,"") -> 0.11869672 | DD26: =IFERROR(AD26/CD26,"") -> 0.12117106 | DE26: =IFERROR(AE26/CE26,"") -> 0.10832593 | DF26: =IFERROR(AF26/CF26,"") -> 0.1111365 | DG26: =IFERROR(AG26/CG26,"") -> 0.1155346 | DH26: =IFERROR(AH26/CH26,"") -> 0.11729415 | DI26: =IFERROR(AI26/CI26,"") -> 0.12344936 | ... DN26: =IFERROR(AN26/CN26,"") | DO26: =IFERROR(DO12/$DO$15,"") -> 8586158.6 | DP26: =IFERROR(DP12/$DO$15,"") -> 8382211.9 | DQ26: =IFERROR(DQ12/$DO$15,"") -> 8330758.5 | DR26: =IFERROR(DR12/$DO$15,"") -> 8334624.1 | DS26: =IFERROR(DS12/$DO$15,"") -> 8196206.3 | DT26: =IFERROR(DT12/$DO$15,"") -> 8018514.7 | DU26: =IFERROR(DU12/$DO$15,"") -> 7924309.2 | DV26: =IFERROR(DV12/$DO$15,"") -> 7896049.4 | ... FA26: =IFERROR(FA12/$DO$15,"") -> 0
A27: Note: Ud over de opgjorte udgifter afholder trafikselskaberne udgifter til investering i nyt rejsekort. Trafikvirksomhederne som ejer Rejsekort (dvs. incl. DSB og Metroselskabet) har i 2022 fået en låneramme på 550 mio. kr. til dette. Trafikselskabernes andel af lånerammen udgør 263 mio. kr.
I28: =+I26/B26-1 -> -0.1206816 | V28: =+V26/O26-1 -> -0.041379159 | AI28: =+AI26/AB26-1 -> 0.009393796 | CI28: =+CI26/CB26-1 -> -0.036350004 | CV28: =+CV26/CO26-1 -> 0.010735362
CI29: =+CI26/CG26-1 -> -0.030257986 | CV29: =+CV26/CT26-1 -> -0.0072647369

Sheet Samlet pr. transporttype
A1: ØKONOMISKE NØGLETAL FOR TRAFIKSELSKABERNE PR. TRANSPORTTYPE (LØBENDE PRISER)
A3: Transporttype / trafikselskab | B3: Passagerindtægter (mDKK) | P3: Operatørudgifter (mDKK) | AD3: Supportudgifter/fællesudgifter (mDKK) | AR3: Pensioner (mDKK) | BF3: Finansielle poster (mDKK) | BT3: Statskompensation (mDKK) | CH3: Samlede udgifter (mDKK) | CV3: Tilskudsbehov (mDKK) | DJ3: Supportudgifter/fællesudgifters andel af samlede udgifter | DX3: Køreplantimer BUS | EL3: Køreplantimer til baner | EZ3: Antal passagerer | FN3: Antal km (til baner) | GB3: OPERATØRUDGIFTER PR. KØREPLANTIME (DKK) | GP3: KØREPLANTIMER - INDEKS (R2019 = 100) | HD3: OPERATØRUDGIFTER PR. KØREPLANTIME - INDEKS (R2019 = 100) | HR3: PASSAGERTAL - INDEKS (R2019 = 100)
B4: R2019 | C4: R2020 | D4: R2021 | E4: R2022 | F4: R2023 | G4: R2024 | H4: R2025 | I4: B2026 | J4: FC2026 | K4: R2026 | L4: B2027 | M4: FC2027 | N4: R2027 | P4: R2019 | Q4: R2020 | R4: R2021 | S4: R2022 | T4: R2023 | U4: R2024 | V4: R2025 | W4: B2026 | X4: FC2026 | Y4: R2026 | Z4: B2027 | AA4: FC2027 | AB4: R2027 | AD4: R2019 | AE4: R2020 | AF4: R2021 | AG4: R2022 | AH4: R2023 | AI4: R2024 | AJ4: R2025 | AK4: B2026 | AL4: FC2026 | AM4: R2026 | AN4: B2027 | AO4: FC2027 | AP4: R2027 | AR4: R2019 | AS4: R2020 | AT4: R2021 | AU4: R2022 | AV4: R2023 | AW4: R2024 | AX4: R2025 | AY4: B2026 | AZ4: FC2026 | BA4: R2026 | BB4: B2027 | BC4: FC2027 | BD4: R2027 | BF4: R2019 | BG4: R2020 | BH4: R2021 | BI4: R2022 | BJ4: R2023 | BK4: R2024 | BL4: R2025 | BM4: B2026 | BN4: FC2026 | BO4: R2026 | BP4: B2027 | BQ4: FC2027 | BR4: R2027 | BT4: R2019 | BU4: R2020 | BV4: R2021 | BW4: R2022 | BX4: R2023 | BY4: R2024 | BZ4: R2025 | CA4: B2026 | CB4: FC2026 | CC4: R2026 | CD4: B2027 | CE4: FC2027 | CF4: R2027 | CH4: R2019 | CI4: R2020 | CJ4: R2021 | CK4: R2022 | CL4: R2023 | CM4: R2024 | CN4: R2025 | CO4: B2026 | CP4: FC2026 | CQ4: R2026 | CR4: B2027 | CS4: FC2027 | CT4: R2027 | CV4: R2019 | CW4: R2020 | CX4: R2021 | CY4: R2022 | CZ4: R2023 | DA4: R2024 | DB4: R2025 | DC4: B2026 | DD4: FC2026 | DE4: R2026 | DF4: B2027 | DG4: FC2027 | DH4: R2027 | DJ4: R2019 | DK4: R2020 | DL4: R2021 | DM4: R2022 | DN4: R2023 | DO4: R2024 | DP4: R2025 | DQ4: B2026 | DR4: FC2026 | DS4: R2026 | DT4: B2027 | DU4: FC2027 | DV4: R2027 | DX4: R2019 | DY4: R2020 | DZ4: R2021 | EA4: R2022 | EB4: R2023 | EC4: R2024 | ED4: R2025 | EE4: B2026 | EF4: FC2026 | EG4: R2026 | EH4: B2027 | EI4: FC2027 | EJ4: R2027 | EL4: R2019 | EM4: R2020 | EN4: R2021 | EO4: R2022 | EP4: R2023 | EQ4: R2024 | ER4: R2025 | ES4: B2026 | ET4: FC2026 | EU4: R2026 | EV4: B2027 | EW4: FC2027 | EX4: R2027 | EZ4: R2019 | FA4: R2020 | FB4: R2021 | FC4: R2022 | FD4: R2023 | FE4: R2024 | FF4: R2025 | FG4: B2026 | FH4: FC2026 | FI4: R2026 | FJ4: B2027 | FK4: FC2027 | FL4: R2027 | FN4: R2019 | FO4: R2020 | FP4: R2021 | FQ4: R2022 | FR4: R2023 | FS4: R2024 | FT4: R2025 | FU4: B2026 | FV4: FC2026 | FW4: R2026 | FX4: B2027 | FY4: FC2027 | FZ4: R2027 | GB4: R2019 | GC4: R2020 | GD4: R2021 | GE4: R2022 | GF4: R2023 | GG4: R2024 | GH4: R2025 | GI4: B2026 | GJ4: FC2026 | GK4: R2026 | GL4: B2027 | GM4: FC2027 | GN4: R2027 | GP4: R2019 | GQ4: R2020 | GR4: R2021 | GS4: R2022 | GT4: R2023 | GU4: R2024 | GV4: R2025 | GW4: B2026 | GX4: FC2026 | GY4: R2026 | GZ4: B2027 | HA4: FC2027 | HB4: R2027 | HD4: R2019 | HE4: R2020 | HF4: R2021 | HG4: R2022 | HH4: R2023 | HI4: R2024 | HJ4: R2025 | HK4: B2026 | HL4: FC2026 | HM4: R2026 | HN4: B2027 | HO4: FC2027 | HP4: R2027 | HR4: R2019 | HS4: R2020 | HT4: R2021 | HU4: R2022 | HV4: R2023 | HW4: R2024 | HX4: R2025 | HY4: B2026 | HZ4: FC2026 | IA4: R2026 | IB4: B2027 | IC4: FC2027 | ID4: R2027
A5: SAMLET (ALLE TRANSPORTTYPER)
A6: BAT | B6: =+BAT!F6 -> 29.4 | C6: =+BAT!G6 -> 22.4 | D6: =+BAT!H6 -> 22.1 | E6: =+BAT!I6 -> 24.44 | F6: =+BAT!J6 -> 26.639 | G6: =+BAT!K6 -> 26.69 | H6: =+BAT!L6 -> 26.4 | I6: =+BAT!M6 -> 29 | ... N6: =+BAT!R6 -> 0 | P6: =+BAT!S6 -> 53.6 | Q6: =+BAT!T6 -> 48.65 | R6: =+BAT!U6 -> 50.9 | S6: =+BAT!V6 -> 56.6 | T6: =+BAT!W6 -> 56 | U6: =+BAT!X6 -> 64.8 | V6: =+BAT!Y6 -> 61 | W6: =+BAT!Z6 -> 59 | ... AB6: =+BAT!AE6 -> 0 | AD6: =+BAT!AF6 -> 7.6 | AE6: =+BAT!AG6 -> 7.3 | AF6: =+BAT!AH6 -> 9.2 | AG6: =+BAT!AI6 -> 5.9 | AH6: =+BAT!AJ6 -> 7.1 | AI6: =+BAT!AK6 -> 7.2 | AJ6: =+BAT!AL6 -> 5.24 | AK6: =+BAT!AM6 -> 5.8 | ... AP6: =+BAT!AR6 -> 0 | AR6: =+BAT!AS6 -> 0 | AS6: =+BAT!AT6 -> 0 | AT6: =+BAT!AU6 -> 0 | AU6: =+BAT!AV6 -> 0 | AV6: =+BAT!AW6 -> 0 | AW6: =+BAT!AX6 -> 0 | AX6: =+BAT!AY6 -> 0 | AY6: =+BAT!AZ6 -> 0 | ... BD6: =+BAT!BE6 -> 0 | BF6: =+BAT!BF6 -> 0 | BG6: =+BAT!BG6 -> 0 | BH6: =+BAT!BH6 -> 0 | BI6: =+BAT!BI6 -> 0 | BJ6: =+BAT!BJ6 -> 0 | BK6: =+BAT!BK6 -> 0 | BL6: =+BAT!BL6 -> 0 | BM6: =+BAT!BM6 -> 0 | ... BR6: =+BAT!BR6 -> 0 | BT6: =+BAT!BS6 -> 0 | BU6: =+BAT!BT6 -> 7.2 | BV6: =+BAT!BU6 -> 8.9 | BW6: =+BAT!BV6 -> 3.1 | BX6: =+BAT!BW6 -> -1 | BY6: =+BAT!BX6 -> 0 | BZ6: =+BAT!BY6 -> 0 | CA6: =+BAT!BZ6 -> 0 | ... CF6: =+BAT!CE6 -> 0 | CH6: =+BAT!CF6 -> 61.2 | CI6: =+BAT!CG6 -> 55.95 | CJ6: =+BAT!CH6 -> 60.1 | CK6: =+BAT!CI6 -> 62.5 | CL6: =+BAT!CJ6 -> 63.1 | CM6: =+BAT!CK6 -> 72 | CN6: =+BAT!CL6 -> 66.24 | CO6: =+BAT!CM6 -> 64.8 | ... CT6: =+BAT!CR6 -> 0 | CV6: =+BAT!CS6 -> 31.8 | CW6: =+BAT!CT6 -> 26.35 | CX6: =+BAT!CU6 -> 29.1 | CY6: =+BAT!CV6 -> 34.96 | CZ6: =+BAT!CW6 -> 37.461 | DA6: =+BAT!CX6 -> 45.31 | DB6: =+BAT!CY6 -> 39.84 | DC6: =+BAT!CZ6 -> 35.8 | ... DH6: =+BAT!DE6 -> 0 | DJ6: =+BAT!DF6 -> 0.12418301 | DK6: =+BAT!DG6 -> 0.13047364 | DL6: =+BAT!DH6 -> 0.1530782 | DM6: =+BAT!DI6 -> 0.0944 | DN6: =+BAT!DJ6 -> 0.11251981 | DO6: =+BAT!DK6 -> 0.1 | DP6: =+BAT!DL6 -> 0.07910628 | DQ6: =+BAT!DM6 -> 0.089506173 | ... DV6: =+BAT!DR6 -> 0 | DX6: =+BAT!DS6 -> 88761 | DY6: =+BAT!DT6 -> 88761 | DZ6: =+BAT!DU6 -> 78740 | EA6: =+BAT!DV6 -> 78740 | EB6: =+BAT!DW6 -> 84587 | EC6: =+BAT!DX6 -> 81757 | ED6: =+BAT!DY6 -> 72390 | EE6: =+BAT!DZ6 -> 72035 | ... EJ6: =+BAT!EE6 -> 0 | EL6: =+BAT!EF6 -> 0 | EM6: =+BAT!EG6 -> 0 | EN6: =+BAT!EH6 -> 0 | EO6: =+BAT!EI6 -> 0 | EP6: =+BAT!EJ6 -> 0 | EQ6: =+BAT!EK6 -> 0 | ER6: =+BAT!EL6 -> 0 | ES6: =+BAT!EM6 -> 0 | ... EX6: =+BAT!ER6 -> 0 | EZ6: =+BAT!ES6 -> 0 | FA6: =+BAT!ET6 -> 0 | FB6: =+BAT!EU6 -> 0 | FC6: =+BAT!EV6 -> 0 | FD6: =+BAT!EW6 -> 0 | FE6: =+BAT!EX6 -> 0 | FF6: =+BAT!EY6 -> 0 | FG6: =+BAT!EZ6 -> 0 | ... FL6: =+BAT!FE6 -> 0 | FN6: =+BAT!FF6 -> 0 | FO6: =+BAT!FG6 -> 0 | FP6: =+BAT!FH6 -> 0 | FQ6: =+BAT!FI6 -> 0 | FR6: =+BAT!FJ6 -> 0 | FS6: =+BAT!FK6 -> 0 | FT6: =+BAT!FL6 -> 0 | FU6: =+BAT!FM6 -> 0 | ... FZ6: =+BAT!FR6 -> 0 | GB6: =IFERROR(P6*1000000/(DX6+EL6),"") -> 603.86882 | GC6: =IFERROR(Q6*1000000/(DY6+EM6),"") -> 548.10108 | GD6: =IFERROR(R6*1000000/(DZ6+EN6),"") -> 646.43129 | GE6: =IFERROR(S6*1000000/(EA6+EO6),"") -> 718.82144 | GF6: =IFERROR(T6*1000000/(EB6+EP6),"") -> 662.04027 | GG6: =IFERROR(U6*1000000/(EC6+EQ6),"") -> 792.59268 | GH6: =IFERROR(V6*1000000/(ED6+ER6),"") -> 842.65783 | GI6: =IFERROR(W6*1000000/(EE6+ES6),"") -> 819.0463 | ... GN6: =IFERROR(AB6*1000000/(EJ6+EX6),"") | GP6: =IFERROR((DX6+EL6)/($DX6+$EL6)*100,"") -> 100 | GQ6: =IFERROR((DY6+EM6)/($DX6+$EL6)*100,"") -> 100 | GR6: =IFERROR((DZ6+EN6)/($DX6+$EL6)*100,"") -> 88.710132 | GS6: =IFERROR((EA6+EO6)/($DX6+$EL6)*100,"") -> 88.710132 | GT6: =IFERROR((EB6+EP6)/($DX6+$EL6)*100,"") -> 95.297484 | GU6: =IFERROR((EC6+EQ6)/($DX6+$EL6)*100,"") -> 92.109147 | GV6: =IFERROR((ED6+ER6)/($DX6+$EL6)*100,"") -> 81.556089 | GW6: =IFERROR((EE6+ES6)/($DX6+$EL6)*100,"") -> 81.156138 | ... HB6: =IFERROR((EJ6+EX6)/($DX6+$EL6)*100,"") -> 0 | HD6: =IFERROR((P6/(DX6+EL6))/($P$6/($DX$6+$EL$6))*100,"") -> 100 | HE6: =IFERROR((Q6/(DY6+EM6))/($P$6/($DX$6+$EL$6))*100,"") -> 90.764925 | HF6: =IFERROR((R6/(DZ6+EN6))/($P$6/($DX$6+$EL$6))*100,"") -> 107.0483 | HG6: =IFERROR((S6/(EA6+EO6))/($P$6/($DX$6+$EL$6))*100,"") -> 119.03603 | HH6: =IFERROR((T6/(EB6+EP6))/($P$6/($DX$6+$EL$6))*100,"") -> 109.63313 | HI6: =IFERROR((U6/(EC6+EQ6))/($P$6/($DX$6+$EL$6))*100,"") -> 131.25246 | HJ6: =IFERROR((V6/(ED6+ER6))/($P$6/($DX$6+$EL$6))*100,"") -> 139.54319 | HK6: =IFERROR((W6/(EE6+ES6))/($P$6/($DX$6+$EL$6))*100,"") -> 135.63315 | ... HP6: =IFERROR((AB6/(EJ6+EX6))/($P$6/($DX$6+$EL$6))*100,"") | HR6: =IFERROR(EZ6/$EZ$6*100,"") | HS6: =IFERROR(FA6/$EZ$6*100,"") | HT6: =IFERROR(FB6/$EZ$6*100,"") | HU6: =IFERROR(FC6/$EZ$6*100,"") | HV6: =IFERROR(FD6/$EZ$6*100,"") | HW6: =IFERROR(FE6/$EZ$6*100,"") | HX6: =IFERROR(FF6/$EZ$6*100,"") | HY6: =IFERROR(FG6/$EZ$6*100,"") | ... ID6: =IFERROR(FL6/$EZ$6*100,"")
A7: FynBus | B7: =+FynBus!F6 -> 202.614 | C7: =+FynBus!G6 -> 139.022 | D7: =+FynBus!H6 -> 158.543 | E7: =+FynBus!I6 -> 165.102 | F7: =+FynBus!J6 -> 170.738 | G7: =+FynBus!K6 -> 169.568 | H7: =+FynBus!L6 -> 180.784 | I7: =+FynBus!M6 -> 199.32548 | ... N7: =+FynBus!R6 -> 0 | P7: =+FynBus!S6 -> 567.883 | Q7: =+FynBus!T6 -> 546.596 | R7: =+FynBus!U6 -> 581.341 | S7: =+FynBus!V6 -> 629.613 | T7: =+FynBus!W6 -> 624.457 | U7: =+FynBus!X6 -> 626.662 | V7: =+FynBus!Y6 -> 616.684 | W7: =+FynBus!Z6 -> 638.54085 | ... AB7: =+FynBus!AE6 -> 0 | AD7: =+FynBus!AF6 -> 102.442 | AE7: =+FynBus!AG6 -> 104.43 | AF7: =+FynBus!AH6 -> 106.005 | AG7: =+FynBus!AI6 -> 112.621 | AH7: =+FynBus!AJ6 -> 113.134 | AI7: =+FynBus!AK6 -> 113.737 | AJ7: =+FynBus!AL6 -> 121.202 | AK7: =+FynBus!AM6 -> 140.49737 | ... AP7: =+FynBus!AR6 -> 0 | AR7: =+FynBus!AS6 -> 5.5 | AS7: =+FynBus!AT6 -> 9.8 | AT7: =+FynBus!AU6 -> 9.8 | AU7: =+FynBus!AV6 -> 23.2 | AV7: =+FynBus!AW6 -> 7.3 | AW7: =+FynBus!AX6 -> 8.1 | AX7: =+FynBus!AY6 -> 8.109 | AY7: =+FynBus!AZ6 -> 12.498 | ... BD7: =+FynBus!BE6 -> 0 | BF7: =+FynBus!BF6 -> 0.164 | BG7: =+FynBus!BG6 -> -0.134 | BH7: =+FynBus!BH6 -> 0.032 | BI7: =+FynBus!BI6 -> 0.475 | BJ7: =+FynBus!BJ6 -> 1.602 | BK7: =+FynBus!BK6 -> -0.722 | BL7: =+FynBus!BL6 -> -0.178 | BM7: =+FynBus!BM6 -> 0.212 | ... BR7: =+FynBus!BR6 -> 0 | BT7: =+FynBus!BS6 -> 0 | BU7: =+FynBus!BT6 -> 46.879 | BV7: =+FynBus!BU6 -> 53.166 | BW7: =+FynBus!BV6 -> 18.2 | BX7: =+FynBus!BW6 -> 10.816 | BY7: =+FynBus!BX6 -> -0.355 | BZ7: =+FynBus!BY6 -> 0 | CA7: =+FynBus!BZ6 -> 0 | ... CF7: =+FynBus!CE6 -> 0 | CH7: =+FynBus!CF6 -> 675.989 | CI7: =+FynBus!CG6 -> 660.692 | CJ7: =+FynBus!CH6 -> 697.178 | CK7: =+FynBus!CI6 -> 765.909 | CL7: =+FynBus!CJ6 -> 746.493 | CM7: =+FynBus!CK6 -> 747.777 | CN7: =+FynBus!CL6 -> 745.817 | CO7: =+FynBus!CM6 -> 791.74821 | ... CT7: =+FynBus!CR6 -> 0 | CV7: =+FynBus!CS6 -> 473.375 | CW7: =+FynBus!CT6 -> 474.791 | CX7: =+FynBus!CU6 -> 485.469 | CY7: =+FynBus!CV6 -> 582.607 | CZ7: =+FynBus!CW6 -> 564.939 | DA7: =+FynBus!CX6 -> 578.564 | DB7: =+FynBus!CY6 -> 565.033 | DC7: =+FynBus!CZ6 -> 592.42274 | ... DH7: =+FynBus!DE6 -> 0 | DJ7: =+FynBus!DF6 -> 0.15154389 | DK7: =+FynBus!DG6 -> 0.15806155 | DL7: =+FynBus!DH6 -> 0.15204869 | DM7: =+FynBus!DI6 -> 0.14704227 | DN7: =+FynBus!DJ6 -> 0.151554 | DO7: =+FynBus!DK6 -> 0.15210016 | DP7: =+FynBus!DL6 -> 0.16250903 | DQ7: =+FynBus!DM6 -> 0.17745208 | ... DV7: =+FynBus!DR6 -> 0 | DX7: =+FynBus!DS6 -> 613716 | DY7: =+FynBus!DT6 -> 612621 | DZ7: =+FynBus!DU6 -> 613426 | EA7: =+FynBus!DV6 -> 594508 | EB7: =+FynBus!DW6 -> 556367 | EC7: =+FynBus!DX6 -> 547218 | ED7: =+FynBus!DY6 -> 551266 | EE7: =+FynBus!DZ6 -> 548559 | ... EJ7: =+FynBus!EE6 -> 0 | EL7: =+FynBus!EF6 -> 0 | EM7: =+FynBus!EG6 -> 0 | EN7: =+FynBus!EH6 -> 0 | EO7: =+FynBus!EI6 -> 0 | EP7: =+FynBus!EJ6 -> 0 | EQ7: =+FynBus!EK6 -> 0 | ER7: =+FynBus!EL6 -> 0 | ES7: =+FynBus!EM6 -> 0 | ... EX7: =+FynBus!ER6 -> 0 | EZ7: =+FynBus!ES6 -> 14521000 | FA7: =+FynBus!ET6 -> 9472000 | FB7: =+FynBus!EU6 -> 8938000 | FC7: =+FynBus!EV6 -> 11162000 | FD7: =+FynBus!EW6 -> 11074000 | FE7: =+FynBus!EX6 -> 11301000 | FF7: =+FynBus!EY6 -> 10962000 | FG7: =+FynBus!EZ6 -> 10971000 | ... FL7: =+FynBus!FE6 -> 0 | FN7: =+FynBus!FF6 -> 0 | FO7: =+FynBus!FG6 -> 0 | FP7: =+FynBus!FH6 -> 0 | FQ7: =+FynBus!FI6 -> 0 | FR7: =+FynBus!FJ6 -> 0 | FS7: =+FynBus!FK6 -> 0 | FT7: =+FynBus!FL6 -> 0 | FU7: =+FynBus!FM6 -> 0 | ... FZ7: =+FynBus!FR6 -> 0 | GB7: =IFERROR(P7*1000000/(DX7+EL7),"") -> 925.31888 | GC7: =IFERROR(Q7*1000000/(DY7+EM7),"") -> 892.22537 | GD7: =IFERROR(R7*1000000/(DZ7+EN7),"") -> 947.6954 | GE7: =IFERROR(S7*1000000/(EA7+EO7),"") -> 1059.0488 | GF7: =IFERROR(T7*1000000/(EB7+EP7),"") -> 1122.3832 | GG7: =IFERROR(U7*1000000/(EC7+EQ7),"") -> 1145.178 | GH7: =IFERROR(V7*1000000/(ED7+ER7),"") -> 1118.6687 | GI7: =IFERROR(W7*1000000/(EE7+ES7),"") -> 1164.0331 | ... GN7: =IFERROR(AB7*1000000/(EJ7+EX7),"") | GP7: =IFERROR((DX7+EL7)/($DX7+$EL7)*100,"") -> 100 | GQ7: =IFERROR((DY7+EM7)/($DX7+$EL7)*100,"") -> 99.821579 | GR7: =IFERROR((DZ7+EN7)/($DX7+$EL7)*100,"") -> 99.952747 | GS7: =IFERROR((EA7+EO7)/($DX7+$EL7)*100,"") -> 96.870214 | GT7: =IFERROR((EB7+EP7)/($DX7+$EL7)*100,"") -> 90.65545 | GU7: =IFERROR((EC7+EQ7)/($DX7+$EL7)*100,"") -> 89.164695 | GV7: =IFERROR((ED7+ER7)/($DX7+$EL7)*100,"") -> 89.824284 | GW7: =IFERROR((EE7+ES7)/($DX7+$EL7)*100,"") -> 89.3832 | ... HB7: =IFERROR((EJ7+EX7)/($DX7+$EL7)*100,"") -> 0 | HD7: =IFERROR((P7/(DX7+EL7))/($P$7/($DX$7+$EL$7))*100,"") -> 100 | HE7: =IFERROR((Q7/(DY7+EM7))/($P$7/($DX$7+$EL$7))*100,"") -> 96.423557 | HF7: =IFERROR((R7/(DZ7+EN7))/($P$7/($DX$7+$EL$7))*100,"") -> 102.41825 | HG7: =IFERROR((S7/(EA7+EO7))/($P$7/($DX$7+$EL$7))*100,"") -> 114.45231 | HH7: =IFERROR((T7/(EB7+EP7))/($P$7/($DX$7+$EL$7))*100,"") -> 121.29691 | HI7: =IFERROR((U7/(EC7+EQ7))/($P$7/($DX$7+$EL$7))*100,"") -> 123.76036 | HJ7: =IFERROR((V7/(ED7+ER7))/($P$7/($DX$7+$EL$7))*100,"") -> 120.89548 | HK7: =IFERROR((W7/(EE7+ES7))/($P$7/($DX$7+$EL$7))*100,"") -> 125.79805 | ... HP7: =IFERROR((AB7/(EJ7+EX7))/($P$7/($DX$7+$EL$7))*100,"") | HR7: =IFERROR(EZ7/$EZ$7*100,"") -> 100 | HS7: =IFERROR(FA7/$EZ$7*100,"") -> 65.229667 | HT7: =IFERROR(FB7/$EZ$7*100,"") -> 61.552235 | HU7: =IFERROR(FC7/$EZ$7*100,"") -> 76.867984 | HV7: =IFERROR(FD7/$EZ$7*100,"") -> 76.261965 | HW7: =IFERROR(FE7/$EZ$7*100,"") -> 77.825219 | HX7: =IFERROR(FF7/$EZ$7*100,"") -> 75.490669 | HY7: =IFERROR(FG7/$EZ$7*100,"") -> 75.552648 | ... ID7: =IFERROR(FL7/$EZ$7*100,"") -> 0
A8: Midttrafik | B8: =+'Midttrafik '!F6 -> 785.5 | C8: =+'Midttrafik '!G6 -> 559.3 | D8: =+'Midttrafik '!H6 -> 570 | E8: =+'Midttrafik '!I6 -> 770.9 | F8: =+'Midttrafik '!J6 -> 842.9 | G8: =+'Midttrafik '!K6 -> 907.2 | H8: =+'Midttrafik '!L6 -> 872.02989 | I8: =+'Midttrafik '!M6 -> 889.216 | ... N8: =+'Midttrafik '!R6 -> 0 | P8: =+'Midttrafik '!S6 -> 1887.3 | Q8: =+'Midttrafik '!T6 -> 1892.5 | R8: =+'Midttrafik '!U6 -> 1996.2 | S8: =+'Midttrafik '!V6 -> 2163.6 | T8: =+'Midttrafik '!W6 -> 2171.8 | U8: =+'Midttrafik '!X6 -> 2250.1 | V8: =+'Midttrafik '!Y6 -> 2245.6008 | W8: =+'Midttrafik '!Z6 -> 2318.1306 | ... AB8: =+'Midttrafik '!AE6 -> 0 | AD8: =+'Midttrafik '!AF6 -> 253.9 | AE8: =+'Midttrafik '!AG6 -> 226.6 | AF8: =+'Midttrafik '!AH6 -> 269.7 | AG8: =+'Midttrafik '!AI6 -> 263.5 | AH8: =+'Midttrafik '!AJ6 -> 275.6 | AI8: =+'Midttrafik '!AK6 -> 279.1 | AJ8: =+'Midttrafik '!AL6 -> 296.49469 | AK8: =+'Midttrafik '!AM6 -> 321.66146 | ... AP8: =+'Midttrafik '!AR6 -> 0 | AR8: =+'Midttrafik '!AS6 -> 1.8 | AS8: =+'Midttrafik '!AT6 -> 1.8 | AT8: =+'Midttrafik '!AU6 -> 1.8 | AU8: =+'Midttrafik '!AV6 -> 2.4 | AV8: =+'Midttrafik '!AW6 -> 2.6 | AW8: =+'Midttrafik '!AX6 -> 2.9 | AX8: =+'Midttrafik '!AY6 -> 3.37374 | AY8: =+'Midttrafik '!AZ6 -> 3.28 | ... BD8: =+'Midttrafik '!BE6 -> 0 | BF8: =+'Midttrafik '!BF6 -> 2.9 | BG8: =+'Midttrafik '!BG6 -> -1.2 | BH8: =+'Midttrafik '!BH6 -> 4.3 | BI8: =+'Midttrafik '!BI6 -> 13.8 | BJ8: =+'Midttrafik '!BJ6 -> -10.3 | BK8: =+'Midttrafik '!BK6 -> -10.4 | BL8: =+'Midttrafik '!BL6 -> -5.7284877 | BM8: =+'Midttrafik '!BM6 -> 0 | ... BR8: =+'Midttrafik '!BR6 -> 0 | BT8: =+'Midttrafik '!BS6 -> 0 | BU8: =+'Midttrafik '!BT6 -> 225.1 | BV8: =+'Midttrafik '!BU6 -> 267.3 | BW8: =+'Midttrafik '!BV6 -> 63.1 | BX8: =+'Midttrafik '!BW6 -> 40.7 | BY8: =+'Midttrafik '!BX6 -> 0 | BZ8: =+'Midttrafik '!BY6 -> 0 | CA8: =+'Midttrafik '!BZ6 -> 0 | ... CF8: =+'Midttrafik '!CE6 -> 0 | CH8: =+'Midttrafik '!CF6 -> 2145.9 | CI8: =+'Midttrafik '!CG6 -> 2119.7 | CJ8: =+'Midttrafik '!CH6 -> 2272 | CK8: =+'Midttrafik '!CI6 -> 2443.3 | CL8: =+'Midttrafik '!CJ6 -> 2439.7 | CM8: =+'Midttrafik '!CK6 -> 2521.7 | CN8: =+'Midttrafik '!CL6 -> 2539.7407 | CO8: =+'Midttrafik '!CM6 -> 2643.0721 | ... CT8: =+'Midttrafik '!CR6 -> 0 | CV8: =+'Midttrafik '!CS6 -> 1360.4 | CW8: =+'Midttrafik '!CT6 -> 1335.3 | CX8: =+'Midttrafik '!CU6 -> 1434.7 | CY8: =+'Midttrafik '!CV6 -> 1609.3 | CZ8: =+'Midttrafik '!CW6 -> 1556.1 | DA8: =+'Midttrafik '!CX6 -> 1614.5 | DB8: =+'Midttrafik '!CY6 -> 1667.7108 | DC8: =+'Midttrafik '!CZ6 -> 1753.8561 | ... DH8: =+'Midttrafik '!DE6 -> 0 | DJ8: =+'Midttrafik '!DF6 -> 0.11831865 | DK8: =+'Midttrafik '!DG6 -> 0.10690192 | DL8: =+'Midttrafik '!DH6 -> 0.11870599 | DM8: =+'Midttrafik '!DI6 -> 0.10784595 | DN8: =+'Midttrafik '!DJ6 -> 0.11296471 | DO8: =+'Midttrafik '!DK6 -> 0.1106793 | DP8: =+'Midttrafik '!DL6 -> 0.11674211 | DQ8: =+'Midttrafik '!DM6 -> 0.12169984 | ... DV8: =+'Midttrafik '!DR6 -> 0 | DX8: =+'Midttrafik '!DS6 -> 1895043.9 | DY8: =+'Midttrafik '!DT6 -> 1854608.3 | DZ8: =+'Midttrafik '!DU6 -> 1854469.6 | EA8: =+'Midttrafik '!DV6 -> 1847286 | EB8: =+'Midttrafik '!DW6 -> 1791486.2 | EC8: =+'Midttrafik '!DX6 -> 1713778.4 | ED8: =+'Midttrafik '!DY6 -> 1655443 | EE8: =+'Midttrafik '!DZ6 -> 1647967 | ... EJ8: =+'Midttrafik '!EE6 -> 0 | EL8: =+'Midttrafik '!EF6 -> 76318 | EM8: =+'Midttrafik '!EG6 -> 82955 | EN8: =+'Midttrafik '!EH6 -> 95564 | EO8: =+'Midttrafik '!EI6 -> 97239 | EP8: =+'Midttrafik '!EJ6 -> 99206 | EQ8: =+'Midttrafik '!EK6 -> 92455 | ER8: =+'Midttrafik '!EL6 -> 90277.33 | ES8: =+'Midttrafik '!EM6 -> 100700 | ... EX8: =+'Midttrafik '!ER6 -> 0 | EZ8: =+'Midttrafik '!ES6 -> 52753730 | FA8: =+'Midttrafik '!ET6 -> 34554824 | FB8: =+'Midttrafik '!EU6 -> 34298387 | FC8: =+'Midttrafik '!EV6 -> 45544621 | FD8: =+'Midttrafik '!EW6 -> 49153595 | FE8: =+'Midttrafik '!EX6 -> 55626000 | FF8: =+'Midttrafik '!EY6 -> 54820000 | FG8: =+'Midttrafik '!EZ6 -> 54904000 | ... FL8: =+'Midttrafik '!FE6 -> 0 | FN8: =+'Midttrafik '!FF6 -> 2967950 | FO8: =+'Midttrafik '!FG6 -> 3186555 | FP8: =+'Midttrafik '!FH6 -> 3989278 | FQ8: =+'Midttrafik '!FI6 -> 4125086 | FR8: =+'Midttrafik '!FJ6 -> 4214795 | FS8: =+'Midttrafik '!FK6 -> 4190000 | FT8: =+'Midttrafik '!FL6 -> 4136815 | FU8: =+'Midttrafik '!FM6 -> 4305000 | ... FZ8: =+'Midttrafik '!FR6 -> 0 | GB8: =IFERROR(P8*1000000/(DX8+EL8),"") -> 957.35847 | GC8: =IFERROR(Q8*1000000/(DY8+EM8),"") -> 976.7423 | GD8: =IFERROR(R8*1000000/(DZ8+EN8),"") -> 1023.6747 | GE8: =IFERROR(S8*1000000/(EA8+EO8),"") -> 1112.6625 | GF8: =IFERROR(T8*1000000/(EB8+EP8),"") -> 1148.6798 | GG8: =IFERROR(U8*1000000/(EC8+EQ8),"") -> 1245.7416 | GH8: =IFERROR(V8*1000000/(ED8+ER8),"") -> 1286.3462 | GI8: =IFERROR(W8*1000000/(EE8+ES8),"") -> 1325.6558 | ... GN8: =IFERROR(AB8*1000000/(EJ8+EX8),"") | GP8: =IFERROR((DX8+EL8)/($DX8+$EL8)*100,"") -> 100 | GQ8: =IFERROR((DY8+EM8)/($DX8+$EL8)*100,"") -> 98.285519 | GR8: =IFERROR((DZ8+EN8)/($DX8+$EL8)*100,"") -> 98.918094 | GS8: =IFERROR((EA8+EO8)/($DX8+$EL8)*100,"") -> 98.638662 | GT8: =IFERROR((EB8+EP8)/($DX8+$EL8)*100,"") -> 95.907921 | GU8: =IFERROR((EC8+EQ8)/($DX8+$EL8)*100,"") -> 91.623633 | GV8: =IFERROR((ED8+ER8)/($DX8+$EL8)*100,"") -> 88.554026 | GW8: =IFERROR((EE8+ES8)/($DX8+$EL8)*100,"") -> 88.7035 | ... HB8: =IFERROR((EJ8+EX8)/($DX8+$EL8)*100,"") -> 0 | HD8: =IFERROR((P8/(DX8+EL8))/($P$8/($DX$8+$EL$8))*100,"") -> 100 | HE8: =IFERROR((Q8/(DY8+EM8))/($P$8/($DX$8+$EL$8))*100,"") -> 102.02472 | HF8: =IFERROR((R8/(DZ8+EN8))/($P$8/($DX$8+$EL$8))*100,"") -> 106.927 | HG8: =IFERROR((S8/(EA8+EO8))/($P$8/($DX$8+$EL$8))*100,"") -> 116.22214 | HH8: =IFERROR((T8/(EB8+EP8))/($P$8/($DX$8+$EL$8))*100,"") -> 119.9843 | HI8: =IFERROR((U8/(EC8+EQ8))/($P$8/($DX$8+$EL$8))*100,"") -> 130.12279 | HJ8: =IFERROR((V8/(ED8+ER8))/($P$8/($DX$8+$EL$8))*100,"") -> 134.36412 | HK8: =IFERROR((W8/(EE8+ES8))/($P$8/($DX$8+$EL$8))*100,"") -> 138.47016 | ... HP8: =IFERROR((AB8/(EJ8+EX8))/($P$8/($DX$8+$EL$8))*100,"") | HR8: =IFERROR(EZ8/$EZ$8*100,"") -> 100 | HS8: =IFERROR(FA8/$EZ$8*100,"") -> 65.502144 | HT8: =IFERROR(FB8/$EZ$8*100,"") -> 65.016042 | HU8: =IFERROR(FC8/$EZ$8*100,"") -> 86.334409 | HV8: =IFERROR(FD8/$EZ$8*100,"") -> 93.175582 | HW8: =IFERROR(FE8/$EZ$8*100,"") -> 105.44468 | HX8: =IFERROR(FF8/$EZ$8*100,"") -> 103.91682 | HY8: =IFERROR(FG8/$EZ$8*100,"") -> 104.07605 | ... ID8: =IFERROR(FL8/$EZ$8*100,"") -> 0
