Workbook

Sheet Opdateringstidspunkt
B2: Selskab | C2: Seneste opdateringsdato | D2: Opdateret af | E2: Hvad er opdateret
B3: BAT | C3: 46041 | D3: Gitte | E3: FC2025. Der er faldende udgifter grundet nedjustering i køreplantimer, men der er især fald i indtægter og passagertal siden seneste prognose.
B4: FynBus | C4: 46042 | D4: Julia | E4: 16.1.2026: FC2025 (efter 3. kvartal) og B2026. Odense Letbane er taget ud, da Odense Letbane ikke er en del af FBs regnskab. Ved SPB for RSD mangler afklaring om FB skal tage fællesudgifterne med eller ej. 20.1.2026: Korrigeret med fællesudgifter ved regionens SPB, disse er udgået, da de er opgjort ved ST
B5: Midttrafik | C5: 46246 | D5: Christian | E5: Tilføjet køreplantimer + passagerer og udfyldt med data fra anden rapport - Se gerne jeres egen igennem og tjek op
B6: Movia | C6: 46037 | D6: Frank | E6: R2025 og FC2026 efter 1. kvartal
B7: NT | C7: 46181 | D7: Lars | E7: R2019, R2020, R2021, R2022, R2023, R2024, R2025, B2026 og FC2026 på ejerniveau
B8: Sydtrafik | C8: 46253 | D8: Jannie | E8: Opdateret med kommunefordeling, køreplantimer, passagertal samt FC2026
B9: FynBus | C9: 46175 | D9: Julia | E9: R2025 og FC2026 efter 1. kvartal
B10: Movia | C10: 46182 | D10: Frank | E10: R2025 - Der er ikke udfyldt for Estimat 1 2026 og B2027, da de først bestyrelsesbehandles 23. juni 2026 -
B11: FynBus | C11: 46249 | D11: Julia | E11: Opdateret med køreplantimer og passagerer for busserne for perioden 2024 - FC2026
B12: NT | C12: 46255 | D12: Thomas | E12: Opdateret med køreplantimer, Tog KM og påstigere
B13: Movia | C13: 46255 | D13: Shafeeq | E13: Opdateret fra R2019-B2027 med fordeling på kommune/region niveau. Køreplantimer og passagerer mangler at blive fordelt på kommune niveau.
B14: Movia | C14: 46260 | D14: Shafeeq | E14: Køreplantimer og passagerer opdateret. Dvs. alt som er muligt fra R2019 til B2027 er opdateret

Sheet Trafikselskaber Samlet
A2: ØKONOMISKE NØGLETAL FOR TRAFIKSELSKABERNE - TRAFIKSELSKABERNE SAMLET (LØBENDE PRISER)
B4: Passagerindtægter (mDKK) | O4: Operatørudgifter (mDKK) | AB4: Supportudgifter/fællesudgifter (mDKK) | AO4: Pensioner (mDKK) | BB4: Finansielle poster (mDKK) | BO4: Statskompensation (mDKK) | CB4: Samlede udgifter (mDKK) | CO4: Tilskudsbehov (mDKK) | DB4: Supportudgifter/fællesudgifters andel af samlede udgifter | DO4: Køreplantimer BUS | EB4: Køreplantimer til baner | EO4: Antal passagerer | FB4: Antal km (til baner)
B5: R2019 | C5: R2020 | D5: R2021 | E5: R2022 | F5: R2023 | G5: R2024 | H5: R2025 | I5: B2026 | J5: FC2026 | K5: R2026 | L5: B2027 | M5: FC2027 | N5: R2027 | O5: R2019 | P5: R2020 | Q5: R2021 | R5: R2022 | S5: R2023 | T5: R2024 | U5: R2025 | V5: B2026 | W5: FC2026 | X5: R2026 | Y5: B2027 | Z5: FC2027 | AA5: R2027 | AB5: R2019 | AC5: R2020 | AD5: R2021 | AE5: R2022 | AF5: R2023 | AG5: R2024 | AH5: R2025 | AI5: B2026 | AJ5: FC2026 | AK5: R2026 | AL5: B2027 | AM5: FC2027 | AN5: R2027 | AO5: R2019 | AP5: R2020 | AQ5: R2021 | AR5: R2022 | AS5: R2023 | AT5: R2024 | AU5: R2025 | AV5: B2026 | AW5: FC2026 | AX5: R2026 | AY5: B2027 | AZ5: FC2027 | BA5: R2027 | BB5: R2019 | BC5: R2020 | BD5: R2021 | BE5: R2022 | BF5: R2023 | BG5: R2024 | BH5: R2025 | BI5: B2026 | BJ5: FC2026 | BK5: R2026 | BL5: B2027 | BM5: FC2027 | BN5: R2027 | BO5: R2019 | BP5: R2020 | BQ5: R2021 | BR5: R2022 | BS5: R2023 | BT5: R2024 | BU5: R2025 | BV5: B2026 | BW5: FC2026 | BX5: R2026 | BY5: B2027 | BZ5: FC2027 | CA5: R2027 | CB5: R2019 | CC5: R2020 | CD5: R2021 | CE5: R2022 | CF5: R2023 | CG5: R2024 | CH5: R2025 | CI5: B2026 | CJ5: FC2026 | CK5: R2026 | CL5: B2027 | CM5: FC2027 | CN5: R2027 | CO5: R2019 | CP5: R2020 | CQ5: R2021 | CR5: R2022 | CS5: R2023 | CT5: R2024 | CU5: R2025 | CV5: B2026 | CW5: FC2026 | CX5: R2026 | CY5: B2027 | CZ5: FC2027 | DA5: R2027 | DB5: R2019 | DC5: R2020 | DD5: R2021 | DE5: R2022 | DF5: R2023 | DG5: R2024 | DH5: R2025 | DI5: B2026 | DJ5: FC2026 | DK5: R2026 | DL5: B2027 | DM5: FC2027 | DN5: R2027 | DO5: R2019 | DP5: R2020 | DQ5: R2021 | DR5: R2022 | DS5: R2023 | DT5: R2024 | DU5: R2025 | DV5: B2026 | DW5: FC2026 | DX5: R2026 | DY5: B2027 | DZ5: FC2027 | EA5: R2027 | EB5: R2019 | EC5: R2020 | ED5: R2021 | EE5: R2022 | EF5: R2023 | EG5: R2024 | EH5: R2025 | EI5: B2026 | EJ5: FC2026 | EK5: R2026 | EL5: B2027 | EM5: FC2027 | EN5: R2027 | EO5: R2019 | EP5: R2020 | EQ5: R2021 | ER5: R2022 | ES5: R2023 | ET5: R2024 | EU5: R2025 | EV5: B2026 | EW5: FC2026 | EX5: R2026 | EY5: B2027 | EZ5: FC2027 | FA5: R2027 | FB5: R2019 | FC5: R2020 | FD5: R2021 | FE5: R2022 | FF5: R2023 | FG5: R2024 | FH5: R2025 | FI5: B2026 | FJ5: FC2026 | FK5: R2026 | FL5: B2027 | FM5: FC2027 | FN5: R2027
A6: BAT | B6: =+BAT!F6 -> 29.4 | C6: =+BAT!G6 -> 22.4 | D6: =+BAT!H6 -> 22.1 | E6: =+BAT!I6 -> 24.44 | F6: =+BAT!J6 -> 26.639 | G6: =+BAT!K6 -> 26.69 | H6: =+BAT!L6 -> 26.4 | I6: =+BAT!M6 -> 29 | ... EN6: =+BAT!ER6 -> 0 | EO6: =IFERROR(+BAT!ES6,"") -> 0 | EP6: =IFERROR(+BAT!ET6,"") -> 0 | EQ6: =IFERROR(+BAT!EU6,"") -> 0 | ER6: =IFERROR(+BAT!EV6,"") -> 0 | ES6: =IFERROR(+BAT!EW6,"") -> 0 | ET6: =IFERROR(+BAT!EX6,"") -> 0 | EU6: =IFERROR(+BAT!EY6,"") -> 0 | EV6: =IFERROR(+BAT!EZ6,"") -> 0 | ... FA6: =IFERROR(+BAT!FE6,"") -> 0 | FB6: =+BAT!FF6 -> 0 | FC6: =+BAT!FG6 -> 0 | FD6: =+BAT!FH6 -> 0 | FE6: =+BAT!FI6 -> 0 | FF6: =+BAT!FJ6 -> 0 | FG6: =+BAT!FK6 -> 0 | FH6: =+BAT!FL6 -> 0 | FI6: =+BAT!FM6 -> 0 | ... FN6: =+BAT!FR6 -> 0
A7: FynBus | B7: =+FynBus!F6 -> 202.614 | C7: =+FynBus!G6 -> 139.022 | D7: =+FynBus!H6 -> 158.543 | E7: =+FynBus!I6 -> 165.102 | F7: =+FynBus!J6 -> 170.738 | G7: =+FynBus!K6 -> 169.568 | H7: =+FynBus!L6 -> 180.784 | I7: =+FynBus!M6 -> 199.32548 | ... EN7: =+FynBus!ER6 -> 0 | EO7: =IFERROR(+FynBus!ES6,"") -> 14521000 | EP7: =IFERROR(+FynBus!ET6,"") -> 9472000 | EQ7: =IFERROR(+FynBus!EU6,"") -> 8938000 | ER7: =IFERROR(+FynBus!EV6,"") -> 11162000 | ES7: =IFERROR(+FynBus!EW6,"") -> 11074000 | ET7: =IFERROR(+FynBus!EX6,"") -> 11301000 | EU7: =IFERROR(+FynBus!EY6,"") -> 10962000 | EV7: =IFERROR(+FynBus!EZ6,"") -> 10971000 | ... FA7: =IFERROR(+FynBus!FE6,"") -> 0 | FB7: =+FynBus!FF6 -> 0 | FC7: =+FynBus!FG6 -> 0 | FD7: =+FynBus!FH6 -> 0 | FE7: =+FynBus!FI6 -> 0 | FF7: =+FynBus!FJ6 -> 0 | FG7: =+FynBus!FK6 -> 0 | FH7: =+FynBus!FL6 -> 0 | FI7: =+FynBus!FM6 -> 0 | ... FN7: =+FynBus!FR6 -> 0
A8: Midttrafik | B8: =+'Midttrafik '!F6 -> 785.5 | C8: =+'Midttrafik '!G6 -> 559.3 | D8: =+'Midttrafik '!H6 -> 570 | E8: =+'Midttrafik '!I6 -> 770.9 | F8: =+'Midttrafik '!J6 -> 842.9 | G8: =+'Midttrafik '!K6 -> 907.2 | H8: =+'Midttrafik '!L6 -> 872.02989 | I8: =+'Midttrafik '!M6 -> 889.216 | ... EN8: =+'Midttrafik '!ER6 -> 0 | EO8: =IFERROR(+'Midttrafik '!ES6,"") -> 52753730 | EP8: =IFERROR(+'Midttrafik '!ET6,"") -> 34554824 | EQ8: =IFERROR(+'Midttrafik '!EU6,"") -> 34298387 | ER8: =IFERROR(+'Midttrafik '!EV6,"") -> 45544621 | ES8: =IFERROR(+'Midttrafik '!EW6,"") -> 49153595 | ET8: =IFERROR(+'Midttrafik '!EX6,"") -> 55626000 | EU8: =IFERROR(+'Midttrafik '!EY6,"") -> 54820000 | EV8: =IFERROR(+'Midttrafik '!EZ6,"") -> 54904000 | ... FA8: =IFERROR(+'Midttrafik '!FE6,"") -> 0 | FB8: =+'Midttrafik '!FF6 -> 2967950 | FC8: =+'Midttrafik '!FG6 -> 3186555 | FD8: =+'Midttrafik '!FH6 -> 3989278 | FE8: =+'Midttrafik '!FI6 -> 4125086 | FF8: =+'Midttrafik '!FJ6 -> 4214795 | FG8: =+'Midttrafik '!FK6 -> 4190000 | FH8: =+'Midttrafik '!FL6 -> 4136815 | FI8: =+'Midttrafik '!FM6 -> 4305000 | ... FN8: =+'Midttrafik '!FR6 -> 0
A9: Movia | B9: =+Movia!F6 -> 1930.1836 | C9: =+Movia!G6 -> 1296.4217 | D9: =+Movia!H6 -> 1417.6208 | E9: =+Movia!I6 -> 1696.1999 | F9: =+Movia!J6 -> 1934.6118 | G9: =+Movia!K6 -> 2142.7692 | H9: =+Movia!L6 -> 2119.2035 | I9: =+Movia!M6 -> 2058.2007 | ... DJ9: =+Movia!DN6 -> 0.1194 | DK9: =+Movia!DP6 -> 0.1196 | DL9: =+Movia!DQ6 -> 0 | DM9: =+Movia!DR6 -> 0 | DN9: =+Movia!DS6 -> 4232703.6 | DO9: =+Movia!DS6 -> 4232703.6 | DP9: =+Movia!DT6 -> 4084195.9 | DQ9: =+Movia!DU6 -> 4077598.3 | DR9: =+Movia!DV6 -> 4119024 | DS9: =+Movia!DW6 -> 4114494 | DT9: =+Movia!DX6 -> 4061247.3 | DU9: =+Movia!DY6 -> 4028943.2 | DV9: =+Movia!DZ6 -> 3997256.4 | ... EN9: =+Movia!ER6 -> 0 | EO9: =IFERROR(+Movia!ES6,"") -> 2.0164672e+08 | EP9: =IFERROR(+Movia!ET6,"") -> 1.3019101e+08 | EQ9: =IFERROR(+Movia!EU6,"") -> 1.2877374e+08 | ER9: =IFERROR(+Movia!EV6,"") -> 1.6012939e+08 | ES9: =IFERROR(+Movia!EW6,"") -> 1.7361206e+08 | ET9: =IFERROR(+Movia!EX6,"") -> 1.7549617e+08 | EU9: =IFERROR(+Movia!EY6,"") -> 1.7281672e+08 | EV9: =IFERROR(+Movia!EZ6,"") -> 1.7031482e+08 | ... FA9: =IFERROR(+Movia!FE6,"") -> 0 | FB9: =+Movia!FF6 -> 7825683 | FC9: =+Movia!FG6 -> 7629001 | FD9: =+Movia!FH6 -> 8034836 | FE9: =+Movia!FI6 -> 7998171 | FF9: =+Movia!FJ6 -> 7987375 | FG9: =+Movia!FK6 -> 8076229 | FH9: =+Movia!FL6 -> 8442977 | FI9: =+Movia!FM6 -> 8932495 | ... FN9: =+Movia!FR6 -> 0
A10: NT | B10: =+NT!F6 -> 382.594 | C10: =+NT!G6 -> 265.2835 | D10: =+NT!H6 -> 276.69426 | E10: =+NT!I6 -> 351.11102 | F10: =+NT!J6 -> 395.21593 | G10: =+NT!K6 -> 411.49739 | H10: =+NT!L6 -> 423.43723 | I10: =+NT!M6 -> 454.69167 | ... EN10: =+NT!ER6 -> 0 | EO10: =IFERROR(+NT!ES6,"") -> 24021490 | EP10: =IFERROR(+NT!ET6,"") -> 14430098 | EQ10: =IFERROR(+NT!EU6,"") -> 13634360 | ER10: =IFERROR(+NT!EV6,"") -> 18523868 | ES10: =IFERROR(+NT!EW6,"") -> 20781764 | ET10: =IFERROR(+NT!EX6,"") -> 20736314 | EU10: =IFERROR(+NT!EY6,"") -> 21621168 | EV10: =IFERROR(+NT!EZ6,"") -> 0 | ... FA10: =IFERROR(+NT!FE6,"") -> 0 | FB10: =+NT!FF6 -> 2978604 | FC10: =+NT!FG6 -> 2785257 | FD10: =+NT!FH6 -> 3095161.5 | FE10: =+NT!FI6 -> 3070974 | FF10: =+NT!FJ6 -> 3113098 | FG10: =+NT!FK6 -> 2804180 | FH10: =+NT!FL6 -> 3088580 | FI10: =+NT!FM6 -> 3504902 | ... FN10: =+NT!FR6 -> 0
A11: Sydtrafik | B11: =+Sydtrafik!F6 -> 264.5 | C11: =+Sydtrafik!G6 -> 200.7 | D11: =+Sydtrafik!H6 -> 177.3 | E11: =+Sydtrafik!I6 -> 246.3 | F11: =+Sydtrafik!J6 -> 259.6 | G11: =+Sydtrafik!K6 -> 272.6 | H11: =+Sydtrafik!L6 -> 262.6 | I11: =+Sydtrafik!M6 -> 260.1 | ... EN11: =+Sydtrafik!ER6 -> 0 | EO11: =IFERROR(+Sydtrafik!ES6,"") -> 14338372 | EP11: =IFERROR(+Sydtrafik!ET6,"") -> 9420348 | EQ11: =IFERROR(+Sydtrafik!EU6,"") -> 8490102 | ER11: =IFERROR(+Sydtrafik!EV6,"") -> 11534884 | ES11: =IFERROR(+Sydtrafik!EW6,"") -> 11772238 | ET11: =IFERROR(+Sydtrafik!EX6,"") -> 11891197 | EU11: =IFERROR(+Sydtrafik!EY6,"") -> 12221230 | EV11: =IFERROR(+Sydtrafik!EZ6,"") -> 0 | ... FA11: =IFERROR(+Sydtrafik!FE6,"") -> 0 | FB11: =+Sydtrafik!FF6 -> 310000 | FC11: =+Sydtrafik!FG6 -> 305000 | FD11: =+Sydtrafik!FH6 -> 304000 | FE11: =+Sydtrafik!FI6 -> 310000 | FF11: =+Sydtrafik!FJ6 -> 306000 | FG11: =+Sydtrafik!FK6 -> 316000 | FH11: =+Sydtrafik!FL6 -> 297581 | FI11: =+Sydtrafik!FM6 -> 297581 | ... FN11: =+Sydtrafik!FR6 -> 0
A12: Total | B12: =SUBTOTAL(9,B6:B11) -> 3594.7916 | C12: =SUBTOTAL(9,C6:C11) -> 2483.1272 | D12: =SUBTOTAL(9,D6:D11) -> 2622.2581 | E12: =SUBTOTAL(9,E6:E11) -> 3254.0529 | F12: =SUBTOTAL(9,F6:F11) -> 3629.7047 | G12: =SUBTOTAL(9,G6:G11) -> 3930.3246 | H12: =SUBTOTAL(9,H6:H11) -> 3884.4546 | I12: =SUBTOTAL(9,I6:I11) -> 3890.5339 | ... N12: =SUBTOTAL(9,N6:N11) -> 0 | O12: =SUM(O6:O11) -> 8787.4087 | P12: =SUM(P6:P11) -> 8634.2357 | Q12: =SUM(Q6:Q11) -> 9041.8363 | R12: =SUM(R6:R11) -> 9938.7931 | S12: =SUM(S6:S11) -> 10075.8 | T12: =SUM(T6:T11) -> 10109.395 | U12: =SUM(U6:U11) -> 10189.787 | V12: =SUM(V6:V11) -> 10368.048 | ... AA12: =SUM(AA6:AA11) -> 0 | AB12: =SUBTOTAL(9,AB6:AB11) -> 1182.4607 | AC12: =SUBTOTAL(9,AC6:AC11) -> 1175.3691 | AD12: =SUBTOTAL(9,AD6:AD11) -> 1254.5254 | AE12: =SUBTOTAL(9,AE6:AE11) -> 1217.1844 | AF12: =SUBTOTAL(9,AF6:AF11) -> 1266.611 | AG12: =SUBTOTAL(9,AG6:AG11) -> 1326.0695 | AH12: =SUBTOTAL(9,AH6:AH11) -> 1362.0491 | AI12: =SUBTOTAL(9,AI6:AI11) -> 1469.0504 | ... AN12: =SUBTOTAL(9,AN6:AN11) -> 0 | AO12: =SUM(AO6:AO11) -> 31.50885 | AP12: =SUM(AP6:AP11) -> 38.08653 | AQ12: =SUM(AQ6:AQ11) -> 38.96542 | AR12: =SUM(AR6:AR11) -> 54.46696 | AS12: =SUM(AS6:AS11) -> 40.09313 | AT12: =SUM(AT6:AT11) -> 44.75122 | AU12: =SUM(AU6:AU11) -> 43.56857 | AV12: =SUM(AV6:AV11) -> 53.40312 | ... BA12: =SUM(BA6:BA11) -> 0 | BB12: =SUBTOTAL(9,BB6:BB11) -> 31.815664 | BC12: =SUBTOTAL(9,BC6:BC11) -> 54.596457 | BD12: =SUBTOTAL(9,BD6:BD11) -> 18.01462 | BE12: =SUBTOTAL(9,BE6:BE11) -> 25.871937 | BF12: =SUBTOTAL(9,BF6:BF11) -> 14.390751 | BG12: =SUBTOTAL(9,BG6:BG11) -> -2.5332176 | BH12: =SUBTOTAL(9,BH6:BH11) -> 16.846591 | BI12: =SUBTOTAL(9,BI6:BI11) -> 9.5225989 | ... CA12: =SUBTOTAL(9,CA6:CA11) -> 0 | CB12: =+BB12+AO12+AB12+O12 -> 10033.194 | CC12: =+BC12+AP12+AC12+P12 -> 9902.2878 | CD12: =+BD12+AQ12+AD12+Q12 -> 10353.342 | CE12: =+BE12+AR12+AE12+R12 -> 11236.316 | CF12: =+BF12+AS12+AF12+S12 -> 11396.895 | CG12: =+BG12+AT12+AG12+T12 -> 11477.683 | CH12: =+BH12+AU12+AH12+U12 -> 11612.251 | CI12: =+BI12+AV12+AI12+V12 -> 11900.025 | ... CN12: =+BN12+BA12+AN12+AA12 -> 0 | CO12: =SUM(CO6:CO11) -> 6438.4023 | CP12: =SUM(CP6:CP11) -> 6525.759 | CQ12: =SUM(CQ6:CQ11) -> 6684.1985 | CR12: =SUM(CR6:CR11) -> 7714.3314 | CS12: =SUM(CS6:CS11) -> 7597.283 | CT12: =SUM(CT6:CT11) -> 7546.2993 | CU12: =SUM(CU6:CU11) -> 7727.7963 | CV12: =SUM(CV6:CV11) -> 8009.4906 | ... DA12: =SUM(DA6:DA11) -> 0 | DB12: =+AB12/CB12 -> 0.11785487 | DC12: =+AC12/CC12 -> 0.11869672 | DD12: =+AD12/CD12 -> 0.12117106 | DE12: =+AE12/CE12 -> 0.10832593 | DF12: =+AF12/CF12 -> 0.1111365 | DG12: =+AG12/CG12 -> 0.1155346 | DH12: =IFERROR((+AH12/CH12),0) -> 0.11729415 | DI12: =IFERROR((+AI12/CI12),0) -> 0.12344936 | DJ12: =IFERROR((+AJ12/CJ12),0) -> 0.12120793 | DK12: =IFERROR((+AK12/CK12),0) -> 0 | DL12: =IFERROR((+AL12/CL12),0) -> 0.11955627 | DM12: =IFERROR((+AM12/CM12),0) -> 0 | DN12: =IFERROR((+AN12/CN12),0) -> 0 | DO12: =SUM(DO6:DO11) -> 8586158.6 | DP12: =SUM(DP6:DP11) -> 8382211.9 | DQ12: =SUM(DQ6:DQ11) -> 8330758.5 | DR12: =SUM(DR6:DR11) -> 8334624.1 | DS12: =SUM(DS6:DS11) -> 8196206.3 | DT12: =SUM(DT6:DT11) -> 8018514.7 | DU12: =SUM(DU6:DU11) -> 7924309.2 | DV12: =SUM(DV6:DV11) -> 7896049.4 | ... EN12: =SUM(EN6:EN11) -> 0 | EO12: =SUBTOTAL(9,EO6:EO11) -> 3.0728131e+08 | EP12: =SUBTOTAL(9,EP6:EP11) -> 1.9806828e+08 | EQ12: =SUBTOTAL(9,EQ6:EQ11) -> 1.9413459e+08 | ER12: =SUBTOTAL(9,ER6:ER11) -> 2.4689476e+08 | ES12: =SUBTOTAL(9,ES6:ES11) -> 2.6639366e+08 | ET12: =SUBTOTAL(9,ET6:ET11) -> 2.7505068e+08 | EU12: =SUBTOTAL(9,EU6:EU11) -> 2.7244112e+08 | EV12: =SUBTOTAL(9,EV6:EV11) -> 2.3618982e+08 | ... FA12: =SUBTOTAL(9,FA6:FA11) -> 0 | FB12: =SUM(FB6:FB11) -> 14082237 | FC12: =SUM(FC6:FC11) -> 13905813 | FD12: =SUM(FD6:FD11) -> 15423276 | FE12: =SUM(FE6:FE11) -> 15504231 | FF12: =SUM(FF6:FF11) -> 15621268 | FG12: =SUM(FG6:FG11) -> 15386409 | FH12: =SUM(FH6:FH11) -> 15965953 | FI12: =SUM(FI6:FI11) -> 17039978 | ... FN12: =SUM(FN6:FN11) -> 0
A13: Note: Ud over de opgjorte udgifter afholder trafikselskaberne udgifter til investering i nyt rejsekort. Trafikvirksomhederne som ejer Rejsekort (dvs. incl. DSB og Metroselskabet) har i 2022 fået en låneramme på 550 mio. kr. til dette. Trafikselskabernes andel af lånerammen udgør 263 mio. kr. | EO13: Note: Antal passagerer er selskabernes samlede passagertal (bus, baner og flextrafik). Opdelingen på transporttype findes på arket "Samlet pr. transporttype", som også indeholder indeks for operatørudgifter pr. køreplantime og for passagertal.
A15: Pris og lønstigning fra KL akkumuleret | B15: =+BB15 -> 1 | C15: =+BC15 -> 1.021 | D15: =+BD15 -> 1.038357 | E15: =+BE15 -> 1.0767762 | F15: =+BF15 -> 1.1069259 | G15: =+BG15 -> 1.151203 | H15: =+BH15 -> 1.1937975 | I15: =+BI15 -> 1.2308052 | ... M15: =+BM15 -> 0 | O15: =+B15 -> 1 | P15: =+C15 -> 1.021 | Q15: =+D15 -> 1.038357 | R15: =+E15 -> 1.0767762 | S15: =+F15 -> 1.1069259 | T15: =+G15 -> 1.151203 | U15: =+H15 -> 1.1937975 | V15: =+I15 -> 1.2308052 | ... X15: =+K15 -> 1.2308052 | AB15: =+O15 -> 1 | AC15: =+P15 -> 1.021 | AD15: =+Q15 -> 1.038357 | AE15: =+R15 -> 1.0767762 | AF15: =+S15 -> 1.1069259 | AG15: =+T15 -> 1.151203 | AH15: =+U15 -> 1.1937975 | AI15: =+V15 -> 1.2308052 | ... AK15: =+X15 -> 1.2308052 | AO15: =+AB15 -> 1 | AP15: =+AC15 -> 1.021 | AQ15: =+AD15 -> 1.038357 | AR15: =+AE15 -> 1.0767762 | AS15: =+AF15 -> 1.1069259 | AT15: =+AG15 -> 1.151203 | AU15: =+AH15 -> 1.1937975 | AV15: =+AI15 -> 1.2308052 | ... AX15: =+AK15 -> 1.2308052 | BB15: =+'PL fra KL'!M33 -> 1 | BC15: =+'PL fra KL'!M34 -> 1.021 | BD15: =+'PL fra KL'!M35 -> 1.038357 | BE15: =+'PL fra KL'!M36 -> 1.0767762 | BF15: =+'PL fra KL'!M37 -> 1.1069259 | BG15: =+'PL fra KL'!M38 -> 1.151203 | BH15: =+'PL fra KL'!M39 -> 1.1937975 | BI15: ='PL fra KL'!M40 -> 1.2308052 | BJ15: ='PL fra KL'!M40 -> 1.2308052 | BK15: ='PL fra KL'!M40 -> 1.2308052 | BO15: =+BB15 -> 1 | BP15: =+BC15 -> 1.021 | BQ15: =+BD15 -> 1.038357 | BR15: =+BE15 -> 1.0767762 | BS15: =+BF15 -> 1.1069259 | BT15: =+BG15 -> 1.151203 | BU15: =+BH15 -> 1.1937975 | BV15: =+BI15 -> 1.2308052 | ... BX15: =+BK15 -> 1.2308052 | CB15: =+BO15 -> 1 | CC15: =+BP15 -> 1.021 | CD15: =+BQ15 -> 1.038357 | CE15: =+BR15 -> 1.0767762 | CF15: =+BS15 -> 1.1069259 | CG15: =+BT15 -> 1.151203 | CH15: =+BU15 -> 1.1937975 | CI15: =+BV15 -> 1.2308052 | ... CK15: =+BX15 -> 1.2308052 | CO15: =+CB15 -> 1 | CP15: =+CC15 -> 1.021 | CQ15: =+CD15 -> 1.038357 | CR15: =+CE15 -> 1.0767762 | CS15: =+CF15 -> 1.1069259 | CT15: =+CG15 -> 1.151203 | CU15: =+CH15 -> 1.1937975 | CV15: =+CI15 -> 1.2308052 | ... CX15: =+CK15 -> 1.2308052 | DO15: 1 | DP15: 1 | DQ15: 1 | DR15: 1 | DS15: 1 | DT15: 1 | DU15: 1 | DV15: 1 | DW15: 1 | DX15: 1 | DY15: 1 | DZ15: 1 | EA15: 1 | EB15: 1 | EC15: 1 | ED15: 1 | EE15: 1 | EF15: 1 | EG15: 1 | EH15: 1 | EI15: 1 | EJ15: 1 | EK15: 1 | EL15: 1 | EM15: 1 | EN15: 1 | EO15: 1 | EP15: 1 | EQ15: 1 | ER15: 1 | ES15: 1 | ET15: 1 | EU15: 1 | EV15: 1 | EW15: 1 | EX15: 1 | EY15: 1 | EZ15: 1 | FA15: 1 | FB15: 1 | FC15: 1 | FD15: 1 | FE15: 1 | FF15: 1 | FG15: 1 | FH15: 1 | FI15: 1 | FJ15: 1 | FK15: 1 | FL15: 1 | FM15: 1 | FN15: 1
A16: Note: Der er herunder brugt pris og lønstigning fra KL til at omregne til faste priser. I trafikselskabernes indeksregulering af operatørbetalingerne har brændstof (diesel, el, gas mv.) højere vægt end i den generelle PL for kommuner og regioner - I fx 2022 hvor priserne på brændstof steg meget, er trafikselskabernes indeks derfor steget mere end PL. Modsat i 2020, hvor brændstofpriserne var lave, steg PL mere end trafikselskabernes indeks.
A17: ØKONOMISKE NØGLETAL FOR TRAFIKSELSKABERNE - HERUNDER TRAFIKSELSKABERNE SAMLET (I FASTE 2019-PRISER)
B18: Passagerindtægter (mDKK) | O18: Operatørudgifter (mDKK) | AB18: Supportudgifter/fællesudgifter (mDKK) | AO18: Pensioner (mDKK) | BB18: Finansielle poster (mDKK) | BO18: Statskompensation (mDKK) | CB18: Samlede udgifter (mDKK) | CO18: Tilskudsbehov (mDKK) | DB18: Supportudgifter/fællesudgifters andel af samlede udgifter | DO18: Køreplantimer BUS | EB18: Køreplantimer til baner | EO18: Antal passagerer
B19: R2019 | C19: R2020 | D19: R2021 | E19: R2022 | F19: R2023 | G19: R2024 | H19: R2025 | I19: B2026 | J19: FC2026 | K19: R2026 | L19: B2027 | M19: FC2027 | N19: R2027 | O19: R2019 | P19: R2020 | Q19: R2021 | R19: R2022 | S19: R2023 | T19: R2024 | U19: R2025 | V19: B2026 | W19: FC2026 | X19: R2026 | Y19: B2027 | Z19: FC2027 | AA19: R2027 | AB19: R2019 | AC19: R2020 | AD19: R2021 | AE19: R2022 | AF19: R2023 | AG19: R2024 | AH19: R2025 | AI19: B2026 | AJ19: FC2026 | AK19: R2026 | AL19: B2027 | AM19: FC2027 | AN19: R2027 | AO19: R2019 | AP19: R2020 | AQ19: R2021 | AR19: R2022 | AS19: R2023 | AT19: R2024 | AU19: R2025 | AV19: B2026 | AW19: FC2026 | AX19: R2026 | AY19: B2027 | AZ19: FC2027 | BA19: R2027 | BB19: R2019 | BC19: R2020 | BD19: R2021 | BE19: R2022 | BF19: R2023 | BG19: R2024 | BH19: R2025 | BI19: B2026 | BJ19: FC2026 | BK19: R2026 | BL19: B2027 | BM19: FC2027 | BN19: R2027 | BO19: R2019 | BP19: R2020 | BQ19: R2021 | BR19: R2022 | BS19: R2023 | BT19: R2024 | BU19: R2025 | BV19: B2026 | BW19: FC2026 | BX19: R2026 | BY19: B2027 | BZ19: FC2027 | CA19: R2027 | CB19: R2019 | CC19: R2020 | CD19: R2021 | CE19: R2022 | CF19: R2023 | CG19: R2024 | CH19: R2025 | CI19: B2026 | CJ19: FC2026 | CK19: R2026 | CL19: B2027 | CM19: FC2027 | CN19: R2027 | CO19: R2019 | CP19: R2020 | CQ19: R2021 | CR19: R2022 | CS19: R2023 | CT19: R2024 | CU19: R2025 | CV19: B2026 | CW19: FC2026 | CX19: R2026 | CY19: B2027 | CZ19: FC2027 | DA19: R2027 | DB19: R2019 | DC19: R2020 | DD19: R2021 | DE19: R2022 | DF19: R2023 | DG19: R2024 | DH19: R2025 | DI19: B2026 | DJ19: FC2026 | DK19: R2026 | DL19: B2027 | DM19: FC2027 | DN19: R2027 | DO19: R2019 | DP19: R2020 | DQ19: R2021 | DR19: R2022 | DS19: R2023 | DT19: R2024 | DU19: R2025 | DV19: B2026 | DW19: FC2026 | DX19: R2026 | DY19: B2027 | DZ19: FC2027 | EA19: R2027 | EB19: R2019 | EC19: R2020 | ED19: R2021 | EE19: R2022 | EF19: R2023 | EG19: R2024 | EH19: R2025 | EI19: B2026 | EJ19: FC2026 | EK19: R2026 | EL19: B2027 | EM19: FC2027 | EN19: R2027 | EO19: R2019 | EP19: R2020 | EQ19: R2021 | ER19: R2022 | ES19: R2023 | ET19: R2024 | EU19: R2025 | EV19: B2026 | EW19: FC2026 | EX19: R2026 | EY19: B2027 | EZ19: FC2027 | FA19: R2027
A20: BAT | B20: =IFERROR(B6/B$15,"") -> 29.4 | C20: =IFERROR(C6/C$15,"") -> 21.939275 | D20: =IFERROR(D6/D$15,"") -> 21.283624 | E20: =IFERROR(E6/E$15,"") -> 22.697381 | F20: =IFERROR(F6/F$15,"") -> 24.065747 | G20: =IFERROR(G6/G$15,"") -> 23.184443 | H20: =IFERROR(H6/H$15,"") -> 22.114303 | I20: =IFERROR(I6/I$15,"") -> 23.561811 | ... AN20: =IFERROR(AN6/AN$15,"") | AO20: =IFERROR(AO6,"") -> 0 | AP20: =IFERROR(AP6,"") -> 0 | AQ20: =IFERROR(AQ6,"") -> 0 | AR20: =IFERROR(AR6,"") -> 0 | AS20: =IFERROR(AS6,"") -> 0 | AT20: =IFERROR(AT6,"") -> 0 | AU20: =IFERROR(AU6,"") -> 0 | AV20: =IFERROR(AV6,"") -> 0 | ... BA20: =IFERROR(BA6,"") -> 0 | BB20: =IFERROR(BB6/BB$15,"") -> 0 | BC20: =IFERROR(BC6/BC$15,"") -> 0 | BD20: =IFERROR(BD6/BD$15,"") -> 0 | BE20: =IFERROR(BE6/BE$15,"") -> 0 | BF20: =IFERROR(BF6/BF$15,"") -> 0 | BG20: =IFERROR(BG6/BG$15,"") -> 0 | BH20: =IFERROR(BH6/BH$15,"") -> 0 | BI20: =IFERROR(BI6/BI$15,"") -> 0 | ... DA20: =IFERROR(DA6/DA$15,"") | DB20: =IFERROR(AB20/CB20,"") -> 0.12418301 | DC20: =IFERROR(AC20/CC20,"") -> 0.13047364 | DD20: =IFERROR(AD20/CD20,"") -> 0.1530782 | DE20: =IFERROR(AE20/CE20,"") -> 0.0944 | DF20: =IFERROR(AF20/CF20,"") -> 0.11251981 | DG20: =IFERROR(AG20/CG20,"") -> 0.1 | DH20: =IFERROR(AH20/CH20,"") -> 0.07910628 | DI20: =IFERROR(AI20/CI20,"") -> 0.089506173 | ... DN20: =IFERROR(AN20/CN20,"") | DO20: =IFERROR(DO6/DO$15,"") -> 88761 | DP20: =IFERROR(DP6/DP$15,"") -> 88761 | DQ20: =IFERROR(DQ6/DQ$15,"") -> 78740 | DR20: =IFERROR(DR6/DR$15,"") -> 78740 | DS20: =IFERROR(DS6/DS$15,"") -> 84587 | DT20: =IFERROR(DT6/DT$15,"") -> 81757 | DU20: =IFERROR(DU6/DU$15,"") -> 72390 | DV20: =IFERROR(DV6/DV$15,"") -> 72035 | ... FA20: =IFERROR(FA6/FA$15,"") -> 0
A21: FynBus | B21: =IFERROR(B7/B$15,"") -> 202.614 | C21: =IFERROR(C7/C$15,"") -> 136.16259 | D21: =IFERROR(D7/D$15,"") -> 152.68641 | E21: =IFERROR(E7/E$15,"") -> 153.32991 | F21: =IFERROR(F7/F$15,"") -> 154.24519 | G21: =IFERROR(G7/G$15,"") -> 147.29635 | H21: =IFERROR(H7/H$15,"") -> 151.43607 | I21: =IFERROR(I7/I$15,"") -> 161.94721 | ... AN21: =IFERROR(AN7/AN$15,"") | AO21: =IFERROR(AO7,"") -> 5.5 | AP21: =IFERROR(AP7,"") -> 9.8 | AQ21: =IFERROR(AQ7,"") -> 9.8 | AR21: =IFERROR(AR7,"") -> 23.2 | AS21: =IFERROR(AS7,"") -> 7.3 | AT21: =IFERROR(AT7,"") -> 8.1 | AU21: =IFERROR(AU7,"") -> 8.109 | AV21: =IFERROR(AV7,"") -> 12.498 | ... BA21: =IFERROR(BA7,"") -> 0 | BB21: =IFERROR(BB7/BB$15,"") -> 0.164 | BC21: =IFERROR(BC7/BC$15,"") -> -0.13124388 | BD21: =IFERROR(BD7/BD$15,"") -> 0.030817917 | BE21: =IFERROR(BE7/BE$15,"") -> 0.44113159 | BF21: =IFERROR(BF7/BF$15,"") -> 1.4472513 | BG21: =IFERROR(BG7/BG$15,"") -> -0.62717002 | BH21: =IFERROR(BH7/BH$15,"") -> -0.14910402 | BI21: =IFERROR(BI7/BI$15,"") -> 0.17224496 | ... DA21: =IFERROR(DA7/DA$15,"") | DB21: =IFERROR(AB21/CB21,"") -> 0.15154389 | DC21: =IFERROR(AC21/CC21,"") -> 0.15806155 | DD21: =IFERROR(AD21/CD21,"") -> 0.15204869 | DE21: =IFERROR(AE21/CE21,"") -> 0.14704227 | DF21: =IFERROR(AF21/CF21,"") -> 0.151554 | DG21: =IFERROR(AG21/CG21,"") -> 0.15210016 | DH21: =IFERROR(AH21/CH21,"") -> 0.16250903 | DI21: =IFERROR(AI21/CI21,"") -> 0.17745208 | ... DN21: =IFERROR(AN21/CN21,"") | DO21: =IFERROR(DO7/DO$15,"") -> 613716 | DP21: =IFERROR(DP7/DP$15,"") -> 612621 | DQ21: =IFERROR(DQ7/DQ$15,"") -> 613426 | DR21: =IFERROR(DR7/DR$15,"") -> 594508 | DS21: =IFERROR(DS7/DS$15,"") -> 556367 | DT21: =IFERROR(DT7/DT$15,"") -> 547218 | DU21: =IFERROR(DU7/DU$15,"") -> 551266 | DV21: =IFERROR(DV7/DV$15,"") -> 548559 | ... FA21: =IFERROR(FA7/FA$15,"") -> 0
A22: Midttrafik | B22: =IFERROR(B8/B$15,"") -> 785.5 | C22: =IFERROR(C8/C$15,"") -> 547.79628 | D22: =IFERROR(D8/D$15,"") -> 548.94415 | E22: =IFERROR(E8/E$15,"") -> 715.93335 | F22: =IFERROR(F8/F$15,"") -> 761.47822 | G22: =IFERROR(G8/G$15,"") -> 788.04521 | H22: =IFERROR(H8/H$15,"") -> 730.46718 | I22: =IFERROR(I8/I$15,"") -> 722.46688 | ... AN22: =IFERROR(AN8/AN$15,"") | AO22: =IFERROR(AO8,"") -> 1.8 | AP22: =IFERROR(AP8,"") -> 1.8 | AQ22: =IFERROR(AQ8,"") -> 1.8 | AR22: =IFERROR(AR8,"") -> 2.4 | AS22: =IFERROR(AS8,"") -> 2.6 | AT22: =IFERROR(AT8,"") -> 2.9 | AU22: =IFERROR(AU8,"") -> 3.37374 | AV22: =IFERROR(AV8,"") -> 3.28 | ... BA22: =IFERROR(BA8,"") -> 0 | BB22: =IFERROR(BB8/BB$15,"") -> 2.9 | BC22: =IFERROR(BC8/BC$15,"") -> -1.1753183 | BD22: =IFERROR(BD8/BD$15,"") -> 4.1411576 | BE22: =IFERROR(BE8/BE$15,"") -> 12.816034 | BF22: =IFERROR(BF8/BF$15,"") -> -9.3050489 | BG22: =IFERROR(BG8/BG$15,"") -> -9.034028 | BH22: =IFERROR(BH8/BH$15,"") -> -4.7985423 | BI22: =IFERROR(BI8/BI$15,"") -> 0 | ... DA22: =IFERROR(DA8/DA$15,"") | DB22: =IFERROR(AB22/CB22,"") -> 0.11831865 | DC22: =IFERROR(AC22/CC22,"") -> 0.10690192 | DD22: =IFERROR(AD22/CD22,"") -> 0.11870599 | DE22: =IFERROR(AE22/CE22,"") -> 0.10784595 | DF22: =IFERROR(AF22/CF22,"") -> 0.11296471 | DG22: =IFERROR(AG22/CG22,"") -> 0.1106793 | DH22: =IFERROR(AH22/CH22,"") -> 0.11674211 | DI22: =IFERROR(AI22/CI22,"") -> 0.12169984 | ... DN22: =IFERROR(AN22/CN22,"") | DO22: =IFERROR(DO8/DO$15,"") -> 1895043.9 | DP22: =IFERROR(DP8/DP$15,"") -> 1854608.3 | DQ22: =IFERROR(DQ8/DQ$15,"") -> 1854469.6 | DR22: =IFERROR(DR8/DR$15,"") -> 1847286 | DS22: =IFERROR(DS8/DS$15,"") -> 1791486.2 | DT22: =IFERROR(DT8/DT$15,"") -> 1713778.4 | DU22: =IFERROR(DU8/DU$15,"") -> 1655443 | DV22: =IFERROR(DV8/DV$15,"") -> 1647967 | ... FA22: =IFERROR(FA8/FA$15,"") -> 0
A23: Movia | B23: =IFERROR(B9/B$15,"") -> 1930.1836 | C23: =IFERROR(C9/C$15,"") -> 1269.7568 | D23: =IFERROR(D9/D$15,"") -> 1365.2538 | E23: =IFERROR(E9/E$15,"") -> 1575.2576 | F23: =IFERROR(F9/F$15,"") -> 1747.7337 | G23: =IFERROR(G9/G$15,"") -> 1861.3305 | H23: =IFERROR(H9/H$15,"") -> 1775.1784 | I23: =IFERROR(I9/I$15,"") -> 1672.2392 | ... AN23: =IFERROR(AN9/AN$15,"") | AO23: =IFERROR(AO9,"") -> 24.20885 | AP23: =IFERROR(AP9,"") -> 26.48653 | AQ23: =IFERROR(AQ9,"") -> 27.36542 | AR23: =IFERROR(AR9,"") -> 28.86696 | AS23: =IFERROR(AS9,"") -> 30.19313 | AT23: =IFERROR(AT9,"") -> 33.75122 | AU23: =IFERROR(AU9,"") -> 32.08583 | AV23: =IFERROR(AV9,"") -> 37.62512 | ... BA23: =IFERROR(BA9,"") -> 0 | BB23: =IFERROR(BB9/BB$15,"") -> 24.96694 | BC23: =IFERROR(BC9/BC$15,"") -> 48.295289 | BD23: =IFERROR(BD9/BD$15,"") -> 9.680293 | BE23: =IFERROR(BE9/BE$15,"") -> 9.2784182 | BF23: =IFERROR(BF9/BF$15,"") -> 16.189909 | BG23: =IFERROR(BG9/BG$15,"") -> 6.0233861 | BH23: =IFERROR(BH9/BH$15,"") -> 13.805859 | BI23: =IFERROR(BI9/BI$15,"") -> 3.3311445 | ... DA23: =IFERROR(DA9/DA$15,"") | DB23: =IFERROR(AB23/CB23,"") -> 0.11648275 | DC23: =IFERROR(AC23/CC23,"") -> 0.11974469 | DD23: =IFERROR(AD23/CD23,"") -> 0.12283195 | DE23: =IFERROR(AE23/CE23,"") -> 0.10633025 | DF23: =IFERROR(AF23/CF23,"") -> 0.10939389 | DG23: =IFERROR(AG23/CG23,"") -> 0.11975495 | DH23: =IFERROR(AH23/CH23,"") -> 0.11919168 | DI23: =IFERROR(AI23/CI23,"") -> 0.12359891 | ... DN23: =IFERROR(AN23/CN23,"") | DO23: =IFERROR(DO9/DO$15,"") -> 4232703.6 | DP23: =IFERROR(DP9/DP$15,"") -> 4084195.9 | DQ23: =IFERROR(DQ9/DQ$15,"") -> 4077598.3 | DR23: =IFERROR(DR9/DR$15,"") -> 4119024 | DS23: =IFERROR(DS9/DS$15,"") -> 4114494 | DT23: =IFERROR(DT9/DT$15,"") -> 4061247.3 | DU23: =IFERROR(DU9/DU$15,"") -> 4028943.2 | DV23: =IFERROR(DV9/DV$15,"") -> 3997256.4 | ... FA23: =IFERROR(FA9/FA$15,"") -> 0
A24: NT | B24: =IFERROR(B10/B$15,"") -> 382.594 | C24: =IFERROR(C10/C$15,"") -> 259.82713 | D24: =IFERROR(D10/D$15,"") -> 266.47315 | E24: =IFERROR(E10/E$15,"") -> 326.07613 | F24: =IFERROR(F10/F$15,"") -> 357.03917 | G24: =IFERROR(G10/G$15,"") -> 357.4499 | H24: =IFERROR(H10/H$15,"") -> 354.69771 | I24: =IFERROR(I10/I$15,"") -> 369.42618 | ... AN24: =IFERROR(AN10/AN$15,"") | AO24: =IFERROR(AO10,"") -> 0 | AP24: =IFERROR(AP10,"") -> 0 | AQ24: =IFERROR(AQ10,"") -> 0 | AR24: =IFERROR(AR10,"") -> 0 | AS24: =IFERROR(AS10,"") -> 0 | AT24: =IFERROR(AT10,"") -> 0 | AU24: =IFERROR(AU10,"") -> 0 | AV24: =IFERROR(AV10,"") -> 0 | ... BA24: =IFERROR(BA10,"") -> 0 | BB24: =IFERROR(BB10/BB$15,"") -> 3.4847235 | BC24: =IFERROR(BC10/BC$15,"") -> 5.7991841 | BD24: =IFERROR(BD10/BD$15,"") -> 3.3042781 | BE24: =IFERROR(BE10/BE$15,"") -> 0.74867674 | BF24: =IFERROR(BF10/BF$15,"") -> 5.8429577 | BG24: =IFERROR(BG10/BG$15,"") -> 3.2614947 | BH24: =IFERROR(BH10/BH$15,"") -> 4.3321238 | BI24: =IFERROR(BI10/BI$15,"") -> 5.224717 | ... DA24: =IFERROR(DA10/DA$15,"") | DB24: =IFERROR(AB24/CB24,"") -> 0.10739753 | DC24: =IFERROR(AC24/CC24,"") -> 0.11569071 | DD24: =IFERROR(AD24/CD24,"") -> 0.10290491 | DE24: =IFERROR(AE24/CE24,"") -> 0.092596489 | DF24: =IFERROR(AF24/CF24,"") -> 0.0974882 | DG24: =IFERROR(AG24/CG24,"") -> 0.099163672 | DH24: =IFERROR(AH24/CH24,"") -> 0.096793003 | DI24: =IFERROR(AI24/CI24,"") -> 0.10374302 | ... DN24: =IFERROR(AN24/CN24,"") | DO24: =IFERROR(DO10/DO$15,"") -> 914096.12 | DP24: =IFERROR(DP10/DP$15,"") -> 908325.76 | DQ24: =IFERROR(DQ10/DQ$15,"") -> 902110.55 | DR24: =IFERROR(DR10/DR$15,"") -> 899044.1 | DS24: =IFERROR(DS10/DS$15,"") -> 863332.1 | DT24: =IFERROR(DT10/DT$15,"") -> 840986 | DU24: =IFERROR(DU10/DU$15,"") -> 844435 | DV24: =IFERROR(DV10/DV$15,"") -> 852061 | ... FA24: =IFERROR(FA10/FA$15,"") -> 0
A25: Sydtrafik | B25: =IFERROR(B11/B$15,"") -> 264.5 | C25: =IFERROR(C11/C$15,"") -> 196.57199 | D25: =IFERROR(D11/D$15,"") -> 170.75052 | E25: =IFERROR(E11/E$15,"") -> 228.73834 | F25: =IFERROR(F11/F$15,"") -> 234.52337 | G25: =IFERROR(G11/G$15,"") -> 236.79577 | H25: =IFERROR(H11/H$15,"") -> 219.97031 | I25: =IFERROR(I11/I$15,"") -> 211.32507 | ... AN25: =IFERROR(AN11/AN$15,"") | AO25: =IFERROR(AO11,"") -> 0 | AP25: =IFERROR(AP11,"") -> 0 | AQ25: =IFERROR(AQ11,"") -> 0 | AR25: =IFERROR(AR11,"") -> 0 | AS25: =IFERROR(AS11,"") -> 0 | AT25: =IFERROR(AT11,"") -> 0 | AU25: =IFERROR(AU11,"") -> 0 | AV25: =IFERROR(AV11,"") -> 0 | ... BA25: =IFERROR(BA11,"") -> 0 | BB25: =IFERROR(BB11/BB$15,"") -> 0.3 | BC25: =IFERROR(BC11/BC$15,"") -> 0.68560235 | BD25: =IFERROR(BD11/BD$15,"") -> 0.19261198 | BE25: =IFERROR(BE11/BE$15,"") -> 0.74295847 | BF25: =IFERROR(BF11/BF$15,"") -> -1.1744236 | BG25: =IFERROR(BG11/BG$15,"") -> -1.8241787 | BH25: =IFERROR(BH11/BH$15,"") -> 0.92142931 | BI25: =IFERROR(BI11/BI$15,"") -> -0.99122102 | ... DA25: =IFERROR(DA11/DA$15,"") | DB25: =IFERROR(AB25/CB25,"") -> 0.11375819 | DC25: =IFERROR(AC25/CC25,"") -> 0.11578624 | DD25: =IFERROR(AD25/CD25,"") -> 0.11968085 | DE25: =IFERROR(AE25/CE25,"") -> 0.11432363 | DF25: =IFERROR(AF25/CF25,"") -> 0.10701141 | DG25: =IFERROR(AG25/CG25,"") -> 0.10469118 | DH25: =IFERROR(AH25/CH25,"") -> 0.11020296 | DI25: =IFERROR(AI25/CI25,"") -> 0.12026702 | ... DN25: =IFERROR(AN25/CN25,"") | DO25: =IFERROR(DO11/DO$15,"") -> 841838 | DP25: =IFERROR(DP11/DP$15,"") -> 833700 | DQ25: =IFERROR(DQ11/DQ$15,"") -> 804414 | DR25: =IFERROR(DR11/DR$15,"") -> 796022 | DS25: =IFERROR(DS11/DS$15,"") -> 785940 | DT25: =IFERROR(DT11/DT$15,"") -> 773528 | DU25: =IFERROR(DU11/DU$15,"") -> 771832 | DV25: =IFERROR(DV11/DV$15,"") -> 778171 | ... FA25: =IFERROR(FA11/FA$15,"") -> 0
A26: Total | B26: =IFERROR(SUBTOTAL(9,B20:B25),"") -> 3594.7916 | C26: =IFERROR(SUBTOTAL(9,C20:C25),"") -> 2432.0541 | D26: =IFERROR(SUBTOTAL(9,D20:D25),"") -> 2525.3916 | E26: =IFERROR(SUBTOTAL(9,E20:E25),"") -> 3022.0327 | F26: =IFERROR(SUBTOTAL(9,F20:F25),"") -> 3279.0854 | G26: =IFERROR(SUBTOTAL(9,G20:G25),"") -> 3414.1022 | H26: =IFERROR(SUBTOTAL(9,H20:H25),"") -> 3253.8639 | I26: =IFERROR(SUBTOTAL(9,I20:I25),"") -> 3160.9664 | ... AN26: =IFERROR(SUBTOTAL(9,AN20:AN25),"") -> 0 | AO26: =IFERROR(SUM(AO20:AO25),"") -> 31.50885 | AP26: =IFERROR(SUM(AP20:AP25),"") -> 38.08653 | AQ26: =IFERROR(SUM(AQ20:AQ25),"") -> 38.96542 | AR26: =IFERROR(SUM(AR20:AR25),"") -> 54.46696 | AS26: =IFERROR(SUM(AS20:AS25),"") -> 40.09313 | AT26: =IFERROR(SUM(AT20:AT25),"") -> 44.75122 | AU26: =IFERROR(SUM(AU20:AU25),"") -> 43.56857 | AV26: =IFERROR(SUM(AV20:AV25),"") -> 53.40312 | ... BA26: =IFERROR(SUM(BA20:BA25),"") -> 0 | BB26: =IFERROR(SUBTOTAL(9,BB20:BB25),"") -> 31.815664 | BC26: =IFERROR(SUBTOTAL(9,BC20:BC25),"") -> 53.473513 | BD26: =IFERROR(SUBTOTAL(9,BD20:BD25),"") -> 17.349159 | BE26: =IFERROR(SUBTOTAL(9,BE20:BE25),"") -> 24.027219 | BF26: =IFERROR(SUBTOTAL(9,BF20:BF25),"") -> 13.000645 | BG26: =IFERROR(SUBTOTAL(9,BG20:BG25),"") -> -2.200496 | BH26: =IFERROR(SUBTOTAL(9,BH20:BH25),"") -> 14.111766 | BI26: =IFERROR(SUBTOTAL(9,BI20:BI25),"") -> 7.7368854 | ... DA26: =IFERROR(SUBTOTAL(9,DA20:DA25),"") -> 0 | DB26: =IFERROR(AB26/CB26,"") -> 0.11785487 | DC26: =IFERROR(AC26/CC26,"") -> 0.11869672 | DD26: =IFERROR(AD26/CD26,"") -> 0.12117106 | DE26: =IFERROR(AE26/CE26,"") -> 0.10832593 | DF26: =IFERROR(AF26/CF26,"") -> 0.1111365 | DG26: =IFERROR(AG26/CG26,"") -> 0.1155346 | DH26: =IFERROR(AH26/CH26,"") -> 0.11729415 | DI26: =IFERROR(AI26/CI26,"") -> 0.12344936 | ... DN26: =IFERROR(AN26/CN26,"") | DO26: =IFERROR(DO12/$DO$15,"") -> 8586158.6 | DP26: =IFERROR(DP12/$DO$15,"") -> 8382211.9 | DQ26: =IFERROR(DQ12/$DO$15,"") -> 8330758.5 | DR26: =IFERROR(DR12/$DO$15,"") -> 8334624.1 | DS26: =IFERROR(DS12/$DO$15,"") -> 8196206.3 | DT26: =IFERROR(DT12/$DO$15,"") -> 8018514.7 | DU26: =IFERROR(DU12/$DO$15,"") -> 7924309.2 | DV26: =IFERROR(DV12/$DO$15,"") -> 7896049.4 | ... FA26: =IFERROR(FA12/$DO$15,"") -> 0
A27: Note: Ud over de opgjorte udgifter afholder trafikselskaberne udgifter til investering i nyt rejsekort. Trafikvirksomhederne som ejer Rejsekort (dvs. incl. DSB og Metroselskabet) har i 2022 fået en låneramme på 550 mio. kr. til dette. Trafikselskabernes andel af lånerammen udgør 263 mio. kr.
I28: =+I26/B26-1 -> -0.1206816 | V28: =+V26/O26-1 -> -0.041379159 | AI28: =+AI26/AB26-1 -> 0.009393796 | CI28: =+CI26/CB26-1 -> -0.036350004 | CV28: =+CV26/CO26-1 -> 0.010735362
CI29: =+CI26/CG26-1 -> -0.030257986 | CV29: =+CV26/CT26-1 -> -0.0072647369

Sheet Samlet pr. transporttype
A1: ØKONOMISKE NØGLETAL FOR TRAFIKSELSKABERNE PR. TRANSPORTTYPE (LØBENDE PRISER)
A3: Transporttype / trafikselskab | B3: Passagerindtægter (mDKK) | P3: Operatørudgifter (mDKK) | AD3: Supportudgifter/fællesudgifter (mDKK) | AR3: Pensioner (mDKK) | BF3: Finansielle poster (mDKK) | BT3: Statskompensation (mDKK) | CH3: Samlede udgifter (mDKK) | CV3: Tilskudsbehov (mDKK) | DJ3: Supportudgifter/fællesudgifters andel af samlede udgifter | DX3: Køreplantimer BUS | EL3: Køreplantimer til baner | EZ3: Antal passagerer | FN3: Antal km (til baner) | GB3: OPERATØRUDGIFTER PR. KØREPLANTIME (DKK) | GP3: KØREPLANTIMER - INDEKS (R2019 = 100) | HD3: OPERATØRUDGIFTER PR. KØREPLANTIME - INDEKS (R2019 = 100) | HR3: PASSAGERTAL - INDEKS (R2019 = 100)
B4: R2019 | C4: R2020 | D4: R2021 | E4: R2022 | F4: R2023 | G4: R2024 | H4: R2025 | I4: B2026 | J4: FC2026 | K4: R2026 | L4: B2027 | M4: FC2027 | N4: R2027 | P4: R2019 | Q4: R2020 | R4: R2021 | S4: R2022 | T4: R2023 | U4: R2024 | V4: R2025 | W4: B2026 | X4: FC2026 | Y4: R2026 | Z4: B2027 | AA4: FC2027 | AB4: R2027 | AD4: R2019 | AE4: R2020 | AF4: R2021 | AG4: R2022 | AH4: R2023 | AI4: R2024 | AJ4: R2025 | AK4: B2026 | AL4: FC2026 | AM4: R2026 | AN4: B2027 | AO4: FC2027 | AP4: R2027 | AR4: R2019 | AS4: R2020 | AT4: R2021 | AU4: R2022 | AV4: R2023 | AW4: R2024 | AX4: R2025 | AY4: B2026 | AZ4: FC2026 | BA4: R2026 | BB4: B2027 | BC4: FC2027 | BD4: R2027 | BF4: R2019 | BG4: R2020 | BH4: R2021 | BI4: R2022 | BJ4: R2023 | BK4: R2024 | BL4: R2025 | BM4: B2026 | BN4: FC2026 | BO4: R2026 | BP4: B2027 | BQ4: FC2027 | BR4: R2027 | BT4: R2019 | BU4: R2020 | BV4: R2021 | BW4: R2022 | BX4: R2023 | BY4: R2024 | BZ4: R2025 | CA4: B2026 | CB4: FC2026 | CC4: R2026 | CD4: B2027 | CE4: FC2027 | CF4: R2027 | CH4: R2019 | CI4: R2020 | CJ4: R2021 | CK4: R2022 | CL4: R2023 | CM4: R2024 | CN4: R2025 | CO4: B2026 | CP4: FC2026 | CQ4: R2026 | CR4: B2027 | CS4: FC2027 | CT4: R2027 | CV4: R2019 | CW4: R2020 | CX4: R2021 | CY4: R2022 | CZ4: R2023 | DA4: R2024 | DB4: R2025 | DC4: B2026 | DD4: FC2026 | DE4: R2026 | DF4: B2027 | DG4: FC2027 | DH4: R2027 | DJ4: R2019 | DK4: R2020 | DL4: R2021 | DM4: R2022 | DN4: R2023 | DO4: R2024 | DP4: R2025 | DQ4: B2026 | DR4: FC2026 | DS4: R2026 | DT4: B2027 | DU4: FC2027 | DV4: R2027 | DX4: R2019 | DY4: R2020 | DZ4: R2021 | EA4: R2022 | EB4: R2023 | EC4: R2024 | ED4: R2025 | EE4: B2026 | EF4: FC2026 | EG4: R2026 | EH4: B2027 | EI4: FC2027 | EJ4: R2027 | EL4: R2019 | EM4: R2020 | EN4: R2021 | EO4: R2022 | EP4: R2023 | EQ4: R2024 | ER4: R2025 | ES4: B2026 | ET4: FC2026 | EU4: R2026 | EV4: B2027 | EW4: FC2027 | EX4: R2027 | EZ4: R2019 | FA4: R2020 | FB4: R2021 | FC4: R2022 | FD4: R2023 | FE4: R2024 | FF4: R2025 | FG4: B2026 | FH4: FC2026 | FI4: R2026 | FJ4: B2027 | FK4: FC2027 | FL4: R2027 | FN4: R2019 | FO4: R2020 | FP4: R2021 | FQ4: R2022 | FR4: R2023 | FS4: R2024 | FT4: R2025 | FU4: B2026 | FV4: FC2026 | FW4: R2026 | FX4: B2027 | FY4: FC2027 | FZ4: R2027 | GB4: R2019 | GC4: R2020 | GD4: R2021 | GE4: R2022 | GF4: R2023 | GG4: R2024 | GH4: R2025 | GI4: B2026 | GJ4: FC2026 | GK4: R2026 | GL4: B2027 | GM4: FC2027 | GN4: R2027 | GP4: R2019 | GQ4: R2020 | GR4: R2021 | GS4: R2022 | GT4: R2023 | GU4: R2024 | GV4: R2025 | GW4: B2026 | GX4: FC2026 | GY4: R2026 | GZ4: B2027 | HA4: FC2027 | HB4: R2027 | HD4: R2019 | HE4: R2020 | HF4: R2021 | HG4: R2022 | HH4: R2023 | HI4: R2024 | HJ4: R2025 | HK4: B2026 | HL4: FC2026 | HM4: R2026 | HN4: B2027 | HO4: FC2027 | HP4: R2027 | HR4: R2019 | HS4: R2020 | HT4: R2021 | HU4: R2022 | HV4: R2023 | HW4: R2024 | HX4: R2025 | HY4: B2026 | HZ4: FC2026 | IA4: R2026 | IB4: B2027 | IC4: FC2027 | ID4: R2027
A5: SAMLET (ALLE TRANSPORTTYPER)
A6: BAT | B6: =+BAT!F6 -> 29.4 | C6: =+BAT!G6 -> 22.4 | D6: =+BAT!H6 -> 22.1 | E6: =+BAT!I6 -> 24.44 | F6: =+BAT!J6 -> 26.639 | G6: =+BAT!K6 -> 26.69 | H6: =+BAT!L6 -> 26.4 | I6: =+BAT!M6 -> 29 | ... N6: =+BAT!R6 -> 0 | P6: =+BAT!S6 -> 53.6 | Q6: =+BAT!T6 -> 48.65 | R6: =+BAT!U6 -> 50.9 | S6: =+BAT!V6 -> 56.6 | T6: =+BAT!W6 -> 56 | U6: =+BAT!X6 -> 64.8 | V6: =+BAT!Y6 -> 61 | W6: =+BAT!Z6 -> 59 | ... AB6: =+BAT!AE6 -> 0 | AD6: =+BAT!AF6 -> 7.6 | AE6: =+BAT!AG6 -> 7.3 | AF6: =+BAT!AH6 -> 9.2 | AG6: =+BAT!AI6 -> 5.9 | AH6: =+BAT!AJ6 -> 7.1 | AI6: =+BAT!AK6 -> 7.2 | AJ6: =+BAT!AL6 -> 5.24 | AK6: =+BAT!AM6 -> 5.8 | ... AP6: =+BAT!AR6 -> 0 | AR6: =+BAT!AS6 -> 0 | AS6: =+BAT!AT6 -> 0 | AT6: =+BAT!AU6 -> 0 | AU6: =+BAT!AV6 -> 0 | AV6: =+BAT!AW6 -> 0 | AW6: =+BAT!AX6 -> 0 | AX6: =+BAT!AY6 -> 0 | AY6: =+BAT!AZ6 -> 0 | ... BD6: =+BAT!BE6 -> 0 | BF6: =+BAT!BF6 -> 0 | BG6: =+BAT!BG6 -> 0 | BH6: =+BAT!BH6 -> 0 | BI6: =+BAT!BI6 -> 0 | BJ6: =+BAT!BJ6 -> 0 | BK6: =+BAT!BK6 -> 0 | BL6: =+BAT!BL6 -> 0 | BM6: =+BAT!BM6 -> 0 | ... BR6: =+BAT!BR6 -> 0 | BT6: =+BAT!BS6 -> 0 | BU6: =+BAT!BT6 -> 7.2 | BV6: =+BAT!BU6 -> 8.9 | BW6: =+BAT!BV6 -> 3.1 | BX6: =+BAT!BW6 -> -1 | BY6: =+BAT!BX6 -> 0 | BZ6: =+BAT!BY6 -> 0 | CA6: =+BAT!BZ6 -> 0 | ... CF6: =+BAT!CE6 -> 0 | CH6: =+BAT!CF6 -> 61.2 | CI6: =+BAT!CG6 -> 55.95 | CJ6: =+BAT!CH6 -> 60.1 | CK6: =+BAT!CI6 -> 62.5 | CL6: =+BAT!CJ6 -> 63.1 | CM6: =+BAT!CK6 -> 72 | CN6: =+BAT!CL6 -> 66.24 | CO6: =+BAT!CM6 -> 64.8 | ... CT6: =+BAT!CR6 -> 0 | CV6: =+BAT!CS6 -> 31.8 | CW6: =+BAT!CT6 -> 26.35 | CX6: =+BAT!CU6 -> 29.1 | CY6: =+BAT!CV6 -> 34.96 | CZ6: =+BAT!CW6 -> 37.461 | DA6: =+BAT!CX6 -> 45.31 | DB6: =+BAT!CY6 -> 39.84 | DC6: =+BAT!CZ6 -> 35.8 | ... DH6: =+BAT!DE6 -> 0 | DJ6: =+BAT!DF6 -> 0.12418301 | DK6: =+BAT!DG6 -> 0.13047364 | DL6: =+BAT!DH6 -> 0.1530782 | DM6: =+BAT!DI6 -> 0.0944 | DN6: =+BAT!DJ6 -> 0.11251981 | DO6: =+BAT!DK6 -> 0.1 | DP6: =+BAT!DL6 -> 0.07910628 | DQ6: =+BAT!DM6 -> 0.089506173 | ... DV6: =+BAT!DR6 -> 0 | DX6: =+BAT!DS6 -> 88761 | DY6: =+BAT!DT6 -> 88761 | DZ6: =+BAT!DU6 -> 78740 | EA6: =+BAT!DV6 -> 78740 | EB6: =+BAT!DW6 -> 84587 | EC6: =+BAT!DX6 -> 81757 | ED6: =+BAT!DY6 -> 72390 | EE6: =+BAT!DZ6 -> 72035 | ... EJ6: =+BAT!EE6 -> 0 | EL6: =+BAT!EF6 -> 0 | EM6: =+BAT!EG6 -> 0 | EN6: =+BAT!EH6 -> 0 | EO6: =+BAT!EI6 -> 0 | EP6: =+BAT!EJ6 -> 0 | EQ6: =+BAT!EK6 -> 0 | ER6: =+BAT!EL6 -> 0 | ES6: =+BAT!EM6 -> 0 | ... EX6: =+BAT!ER6 -> 0 | EZ6: =+BAT!ES6 -> 0 | FA6: =+BAT!ET6 -> 0 | FB6: =+BAT!EU6 -> 0 | FC6: =+BAT!EV6 -> 0 | FD6: =+BAT!EW6 -> 0 | FE6: =+BAT!EX6 -> 0 | FF6: =+BAT!EY6 -> 0 | FG6: =+BAT!EZ6 -> 0 | ... FL6: =+BAT!FE6 -> 0 | FN6: =+BAT!FF6 -> 0 | FO6: =+BAT!FG6 -> 0 | FP6: =+BAT!FH6 -> 0 | FQ6: =+BAT!FI6 -> 0 | FR6: =+BAT!FJ6 -> 0 | FS6: =+BAT!FK6 -> 0 | FT6: =+BAT!FL6 -> 0 | FU6: =+BAT!FM6 -> 0 | ... FZ6: =+BAT!FR6 -> 0 | GB6: =IFERROR(P6*1000000/(DX6+EL6),"") -> 603.86882 | GC6: =IFERROR(Q6*1000000/(DY6+EM6),"") -> 548.10108 | GD6: =IFERROR(R6*1000000/(DZ6+EN6),"") -> 646.43129 | GE6: =IFERROR(S6*1000000/(EA6+EO6),"") -> 718.82144 | GF6: =IFERROR(T6*1000000/(EB6+EP6),"") -> 662.04027 | GG6: =IFERROR(U6*1000000/(EC6+EQ6),"") -> 792.59268 | GH6: =IFERROR(V6*1000000/(ED6+ER6),"") -> 842.65783 | GI6: =IFERROR(W6*1000000/(EE6+ES6),"") -> 819.0463 | ... GN6: =IFERROR(AB6*1000000/(EJ6+EX6),"") | GP6: =IFERROR((DX6+EL6)/($DX6+$EL6)*100,"") -> 100 | GQ6: =IFERROR((DY6+EM6)/($DX6+$EL6)*100,"") -> 100 | GR6: =IFERROR((DZ6+EN6)/($DX6+$EL6)*100,"") -> 88.710132 | GS6: =IFERROR((EA6+EO6)/($DX6+$EL6)*100,"") -> 88.710132 | GT6: =IFERROR((EB6+EP6)/($DX6+$EL6)*100,"") -> 95.297484 | GU6: =IFERROR((EC6+EQ6)/($DX6+$EL6)*100,"") -> 92.109147 | GV6: =IFERROR((ED6+ER6)/($DX6+$EL6)*100,"") -> 81.556089 | GW6: =IFERROR((EE6+ES6)/($DX6+$EL6)*100,"") -> 81.156138 | ... HB6: =IFERROR((EJ6+EX6)/($DX6+$EL6)*100,"") -> 0 | HD6: =IFERROR((P6/(DX6+EL6))/($P$6/($DX$6+$EL$6))*100,"") -> 100 | HE6: =IFERROR((Q6/(DY6+EM6))/($P$6/($DX$6+$EL$6))*100,"") -> 90.764925 | HF6: =IFERROR((R6/(DZ6+EN6))/($P$6/($DX$6+$EL$6))*100,"") -> 107.0483 | HG6: =IFERROR((S6/(EA6+EO6))/($P$6/($DX$6+$EL$6))*100,"") -> 119.03603 | HH6: =IFERROR((T6/(EB6+EP6))/($P$6/($DX$6+$EL$6))*100,"") -> 109.63313 | HI6: =IFERROR((U6/(EC6+EQ6))/($P$6/($DX$6+$EL$6))*100,"") -> 131.25246 | HJ6: =IFERROR((V6/(ED6+ER6))/($P$6/($DX$6+$EL$6))*100,"") -> 139.54319 | HK6: =IFERROR((W6/(EE6+ES6))/($P$6/($DX$6+$EL$6))*100,"") -> 135.63315 | ... HP6: =IFERROR((AB6/(EJ6+EX6))/($P$6/($DX$6+$EL$6))*100,"") | HR6: =IFERROR(EZ6/$EZ$6*100,"") | HS6: =IFERROR(FA6/$EZ$6*100,"") | HT6: =IFERROR(FB6/$EZ$6*100,"") | HU6: =IFERROR(FC6/$EZ$6*100,"") | HV6: =IFERROR(FD6/$EZ$6*100,"") | HW6: =IFERROR(FE6/$EZ$6*100,"") | HX6: =IFERROR(FF6/$EZ$6*100,"") | HY6: =IFERROR(FG6/$EZ$6*100,"") | ... ID6: =IFERROR(FL6/$EZ$6*100,"")
A7: FynBus | B7: =+FynBus!F6 -> 202.614 | C7: =+FynBus!G6 -> 139.022 | D7: =+FynBus!H6 -> 158.543 | E7: =+FynBus!I6 -> 165.102 | F7: =+FynBus!J6 -> 170.738 | G7: =+FynBus!K6 -> 169.568 | H7: =+FynBus!L6 -> 180.784 | I7: =+FynBus!M6 -> 199.32548 | ... N7: =+FynBus!R6 -> 0 | P7: =+FynBus!S6 -> 567.883 | Q7: =+FynBus!T6 -> 546.596 | R7: =+FynBus!U6 -> 581.341 | S7: =+FynBus!V6 -> 629.613 | T7: =+FynBus!W6 -> 624.457 | U7: =+FynBus!X6 -> 626.662 | V7: =+FynBus!Y6 -> 616.684 | W7: =+FynBus!Z6 -> 638.54085 | ... AB7: =+FynBus!AE6 -> 0 | AD7: =+FynBus!AF6 -> 102.442 | AE7: =+FynBus!AG6 -> 104.43 | AF7: =+FynBus!AH6 -> 106.005 | AG7: =+FynBus!AI6 -> 112.621 | AH7: =+FynBus!AJ6 -> 113.134 | AI7: =+FynBus!AK6 -> 113.737 | AJ7: =+FynBus!AL6 -> 121.202 | AK7: =+FynBus!AM6 -> 140.49737 | ... AP7: =+FynBus!AR6 -> 0 | AR7: =+FynBus!AS6 -> 5.5 | AS7: =+FynBus!AT6 -> 9.8 | AT7: =+FynBus!AU6 -> 9.8 | AU7: =+FynBus!AV6 -> 23.2 | AV7: =+FynBus!AW6 -> 7.3 | AW7: =+FynBus!AX6 -> 8.1 | AX7: =+FynBus!AY6 -> 8.109 | AY7: =+FynBus!AZ6 -> 12.498 | ... BD7: =+FynBus!BE6 -> 0 | BF7: =+FynBus!BF6 -> 0.164 | BG7: =+FynBus!BG6 -> -0.134 | BH7: =+FynBus!BH6 -> 0.032 | BI7: =+FynBus!BI6 -> 0.475 | BJ7: =+FynBus!BJ6 -> 1.602 | BK7: =+FynBus!BK6 -> -0.722 | BL7: =+FynBus!BL6 -> -0.178 | BM7: =+FynBus!BM6 -> 0.212 | ... BR7: =+FynBus!BR6 -> 0 | BT7: =+FynBus!BS6 -> 0 | BU7: =+FynBus!BT6 -> 46.879 | BV7: =+FynBus!BU6 -> 53.166 | BW7: =+FynBus!BV6 -> 18.2 | BX7: =+FynBus!BW6 -> 10.816 | BY7: =+FynBus!BX6 -> -0.355 | BZ7: =+FynBus!BY6 -> 0 | CA7: =+FynBus!BZ6 -> 0 | ... CF7: =+FynBus!CE6 -> 0 | CH7: =+FynBus!CF6 -> 675.989 | CI7: =+FynBus!CG6 -> 660.692 | CJ7: =+FynBus!CH6 -> 697.178 | CK7: =+FynBus!CI6 -> 765.909 | CL7: =+FynBus!CJ6 -> 746.493 | CM7: =+FynBus!CK6 -> 747.777 | CN7: =+FynBus!CL6 -> 745.817 | CO7: =+FynBus!CM6 -> 791.74821 | ... CT7: =+FynBus!CR6 -> 0 | CV7: =+FynBus!CS6 -> 473.375 | CW7: =+FynBus!CT6 -> 474.791 | CX7: =+FynBus!CU6 -> 485.469 | CY7: =+FynBus!CV6 -> 582.607 | CZ7: =+FynBus!CW6 -> 564.939 | DA7: =+FynBus!CX6 -> 578.564 | DB7: =+FynBus!CY6 -> 565.033 | DC7: =+FynBus!CZ6 -> 592.42274 | ... DH7: =+FynBus!DE6 -> 0 | DJ7: =+FynBus!DF6 -> 0.15154389 | DK7: =+FynBus!DG6 -> 0.15806155 | DL7: =+FynBus!DH6 -> 0.15204869 | DM7: =+FynBus!DI6 -> 0.14704227 | DN7: =+FynBus!DJ6 -> 0.151554 | DO7: =+FynBus!DK6 -> 0.15210016 | DP7: =+FynBus!DL6 -> 0.16250903 | DQ7: =+FynBus!DM6 -> 0.17745208 | ... DV7: =+FynBus!DR6 -> 0 | DX7: =+FynBus!DS6 -> 613716 | DY7: =+FynBus!DT6 -> 612621 | DZ7: =+FynBus!DU6 -> 613426 | EA7: =+FynBus!DV6 -> 594508 | EB7: =+FynBus!DW6 -> 556367 | EC7: =+FynBus!DX6 -> 547218 | ED7: =+FynBus!DY6 -> 551266 | EE7: =+FynBus!DZ6 -> 548559 | ... EJ7: =+FynBus!EE6 -> 0 | EL7: =+FynBus!EF6 -> 0 | EM7: =+FynBus!EG6 -> 0 | EN7: =+FynBus!EH6 -> 0 | EO7: =+FynBus!EI6 -> 0 | EP7: =+FynBus!EJ6 -> 0 | EQ7: =+FynBus!EK6 -> 0 | ER7: =+FynBus!EL6 -> 0 | ES7: =+FynBus!EM6 -> 0 | ... EX7: =+FynBus!ER6 -> 0 | EZ7: =+FynBus!ES6 -> 14521000 | FA7: =+FynBus!ET6 -> 9472000 | FB7: =+FynBus!EU6 -> 8938000 | FC7: =+FynBus!EV6 -> 11162000 | FD7: =+FynBus!EW6 -> 11074000 | FE7: =+FynBus!EX6 -> 11301000 | FF7: =+FynBus!EY6 -> 10962000 | FG7: =+FynBus!EZ6 -> 10971000 | ... FL7: =+FynBus!FE6 -> 0 | FN7: =+FynBus!FF6 -> 0 | FO7: =+FynBus!FG6 -> 0 | FP7: =+FynBus!FH6 -> 0 | FQ7: =+FynBus!FI6 -> 0 | FR7: =+FynBus!FJ6 -> 0 | FS7: =+FynBus!FK6 -> 0 | FT7: =+FynBus!FL6 -> 0 | FU7: =+FynBus!FM6 -> 0 | ... FZ7: =+FynBus!FR6 -> 0 | GB7: =IFERROR(P7*1000000/(DX7+EL7),"") -> 925.31888 | GC7: =IFERROR(Q7*1000000/(DY7+EM7),"") -> 892.22537 | GD7: =IFERROR(R7*1000000/(DZ7+EN7),"") -> 947.6954 | GE7: =IFERROR(S7*1000000/(EA7+EO7),"") -> 1059.0488 | GF7: =IFERROR(T7*1000000/(EB7+EP7),"") -> 1122.3832 | GG7: =IFERROR(U7*1000000/(EC7+EQ7),"") -> 1145.178 | GH7: =IFERROR(V7*1000000/(ED7+ER7),"") -> 1118.6687 | GI7: =IFERROR(W7*1000000/(EE7+ES7),"") -> 1164.0331 | ... GN7: =IFERROR(AB7*1000000/(EJ7+EX7),"") | GP7: =IFERROR((DX7+EL7)/($DX7+$EL7)*100,"") -> 100 | GQ7: =IFERROR((DY7+EM7)/($DX7+$EL7)*100,"") -> 99.821579 | GR7: =IFERROR((DZ7+EN7)/($DX7+$EL7)*100,"") -> 99.952747 | GS7: =IFERROR((EA7+EO7)/($DX7+$EL7)*100,"") -> 96.870214 | GT7: =IFERROR((EB7+EP7)/($DX7+$EL7)*100,"") -> 90.65545 | GU7: =IFERROR((EC7+EQ7)/($DX7+$EL7)*100,"") -> 89.164695 | GV7: =IFERROR((ED7+ER7)/($DX7+$EL7)*100,"") -> 89.824284 | GW7: =IFERROR((EE7+ES7)/($DX7+$EL7)*100,"") -> 89.3832 | ... HB7: =IFERROR((EJ7+EX7)/($DX7+$EL7)*100,"") -> 0 | HD7: =IFERROR((P7/(DX7+EL7))/($P$7/($DX$7+$EL$7))*100,"") -> 100 | HE7: =IFERROR((Q7/(DY7+EM7))/($P$7/($DX$7+$EL$7))*100,"") -> 96.423557 | HF7: =IFERROR((R7/(DZ7+EN7))/($P$7/($DX$7+$EL$7))*100,"") -> 102.41825 | HG7: =IFERROR((S7/(EA7+EO7))/($P$7/($DX$7+$EL$7))*100,"") -> 114.45231 | HH7: =IFERROR((T7/(EB7+EP7))/($P$7/($DX$7+$EL$7))*100,"") -> 121.29691 | HI7: =IFERROR((U7/(EC7+EQ7))/($P$7/($DX$7+$EL$7))*100,"") -> 123.76036 | HJ7: =IFERROR((V7/(ED7+ER7))/($P$7/($DX$7+$EL$7))*100,"") -> 120.89548 | HK7: =IFERROR((W7/(EE7+ES7))/($P$7/($DX$7+$EL$7))*100,"") -> 125.79805 | ... HP7: =IFERROR((AB7/(EJ7+EX7))/($P$7/($DX$7+$EL$7))*100,"") | HR7: =IFERROR(EZ7/$EZ$7*100,"") -> 100 | HS7: =IFERROR(FA7/$EZ$7*100,"") -> 65.229667 | HT7: =IFERROR(FB7/$EZ$7*100,"") -> 61.552235 | HU7: =IFERROR(FC7/$EZ$7*100,"") -> 76.867984 | HV7: =IFERROR(FD7/$EZ$7*100,"") -> 76.261965 | HW7: =IFERROR(FE7/$EZ$7*100,"") -> 77.825219 | HX7: =IFERROR(FF7/$EZ$7*100,"") -> 75.490669 | HY7: =IFERROR(FG7/$EZ$7*100,"") -> 75.552648 | ... ID7: =IFERROR(FL7/$EZ$7*100,"") -> 0
A8: Midttrafik | B8: =+'Midttrafik '!F6 -> 785.5 | C8: =+'Midttrafik '!G6 -> 559.3 | D8: =+'Midttrafik '!H6 -> 570 | E8: =+'Midttrafik '!I6 -> 770.9 | F8: =+'Midttrafik '!J6 -> 842.9 | G8: =+'Midttrafik '!K6 -> 907.2 | H8: =+'Midttrafik '!L6 -> 872.02989 | I8: =+'Midttrafik '!M6 -> 889.216 | ... N8: =+'Midttrafik '!R6 -> 0 | P8: =+'Midttrafik '!S6 -> 1887.3 | Q8: =+'Midttrafik '!T6 -> 1892.5 | R8: =+'Midttrafik '!U6 -> 1996.2 | S8: =+'Midttrafik '!V6 -> 2163.6 | T8: =+'Midttrafik '!W6 -> 2171.8 | U8: =+'Midttrafik '!X6 -> 2250.1 | V8: =+'Midttrafik '!Y6 -> 2245.6008 | W8: =+'Midttrafik '!Z6 -> 2318.1306 | ... AB8: =+'Midttrafik '!AE6 -> 0 | AD8: =+'Midttrafik '!AF6 -> 253.9 | AE8: =+'Midttrafik '!AG6 -> 226.6 | AF8: =+'Midttrafik '!AH6 -> 269.7 | AG8: =+'Midttrafik '!AI6 -> 263.5 | AH8: =+'Midttrafik '!AJ6 -> 275.6 | AI8: =+'Midttrafik '!AK6 -> 279.1 | AJ8: =+'Midttrafik '!AL6 -> 296.49469 | AK8: =+'Midttrafik '!AM6 -> 321.66146 | ... AP8: =+'Midttrafik '!AR6 -> 0 | AR8: =+'Midttrafik '!AS6 -> 1.8 | AS8: =+'Midttrafik '!AT6 -> 1.8 | AT8: =+'Midttrafik '!AU6 -> 1.8 | AU8: =+'Midttrafik '!AV6 -> 2.4 | AV8: =+'Midttrafik '!AW6 -> 2.6 | AW8: =+'Midttrafik '!AX6 -> 2.9 | AX8: =+'Midttrafik '!AY6 -> 3.37374 | AY8: =+'Midttrafik '!AZ6 -> 3.28 | ... BD8: =+'Midttrafik '!BE6 -> 0 | BF8: =+'Midttrafik '!BF6 -> 2.9 | BG8: =+'Midttrafik '!BG6 -> -1.2 | BH8: =+'Midttrafik '!BH6 -> 4.3 | BI8: =+'Midttrafik '!BI6 -> 13.8 | BJ8: =+'Midttrafik '!BJ6 -> -10.3 | BK8: =+'Midttrafik '!BK6 -> -10.4 | BL8: =+'Midttrafik '!BL6 -> -5.7284877 | BM8: =+'Midttrafik '!BM6 -> 0 | ... BR8: =+'Midttrafik '!BR6 -> 0 | BT8: =+'Midttrafik '!BS6 -> 0 | BU8: =+'Midttrafik '!BT6 -> 225.1 | BV8: =+'Midttrafik '!BU6 -> 267.3 | BW8: =+'Midttrafik '!BV6 -> 63.1 | BX8: =+'Midttrafik '!BW6 -> 40.7 | BY8: =+'Midttrafik '!BX6 -> 0 | BZ8: =+'Midttrafik '!BY6 -> 0 | CA8: =+'Midttrafik '!BZ6 -> 0 | ... CF8: =+'Midttrafik '!CE6 -> 0 | CH8: =+'Midttrafik '!CF6 -> 2145.9 | CI8: =+'Midttrafik '!CG6 -> 2119.7 | CJ8: =+'Midttrafik '!CH6 -> 2272 | CK8: =+'Midttrafik '!CI6 -> 2443.3 | CL8: =+'Midttrafik '!CJ6 -> 2439.7 | CM8: =+'Midttrafik '!CK6 -> 2521.7 | CN8: =+'Midttrafik '!CL6 -> 2539.7407 | CO8: =+'Midttrafik '!CM6 -> 2643.0721 | ... CT8: =+'Midttrafik '!CR6 -> 0 | CV8: =+'Midttrafik '!CS6 -> 1360.4 | CW8: =+'Midttrafik '!CT6 -> 1335.3 | CX8: =+'Midttrafik '!CU6 -> 1434.7 | CY8: =+'Midttrafik '!CV6 -> 1609.3 | CZ8: =+'Midttrafik '!CW6 -> 1556.1 | DA8: =+'Midttrafik '!CX6 -> 1614.5 | DB8: =+'Midttrafik '!CY6 -> 1667.7108 | DC8: =+'Midttrafik '!CZ6 -> 1753.8561 | ... DH8: =+'Midttrafik '!DE6 -> 0 | DJ8: =+'Midttrafik '!DF6 -> 0.11831865 | DK8: =+'Midttrafik '!DG6 -> 0.10690192 | DL8: =+'Midttrafik '!DH6 -> 0.11870599 | DM8: =+'Midttrafik '!DI6 -> 0.10784595 | DN8: =+'Midttrafik '!DJ6 -> 0.11296471 | DO8: =+'Midttrafik '!DK6 -> 0.1106793 | DP8: =+'Midttrafik '!DL6 -> 0.11674211 | DQ8: =+'Midttrafik '!DM6 -> 0.12169984 | ... DV8: =+'Midttrafik '!DR6 -> 0 | DX8: =+'Midttrafik '!DS6 -> 1895043.9 | DY8: =+'Midttrafik '!DT6 -> 1854608.3 | DZ8: =+'Midttrafik '!DU6 -> 1854469.6 | EA8: =+'Midttrafik '!DV6 -> 1847286 | EB8: =+'Midttrafik '!DW6 -> 1791486.2 | EC8: =+'Midttrafik '!DX6 -> 1713778.4 | ED8: =+'Midttrafik '!DY6 -> 1655443 | EE8: =+'Midttrafik '!DZ6 -> 1647967 | ... EJ8: =+'Midttrafik '!EE6 -> 0 | EL8: =+'Midttrafik '!EF6 -> 76318 | EM8: =+'Midttrafik '!EG6 -> 82955 | EN8: =+'Midttrafik '!EH6 -> 95564 | EO8: =+'Midttrafik '!EI6 -> 97239 | EP8: =+'Midttrafik '!EJ6 -> 99206 | EQ8: =+'Midttrafik '!EK6 -> 92455 | ER8: =+'Midttrafik '!EL6 -> 90277.33 | ES8: =+'Midttrafik '!EM6 -> 100700 | ... EX8: =+'Midttrafik '!ER6 -> 0 | EZ8: =+'Midttrafik '!ES6 -> 52753730 | FA8: =+'Midttrafik '!ET6 -> 34554824 | FB8: =+'Midttrafik '!EU6 -> 34298387 | FC8: =+'Midttrafik '!EV6 -> 45544621 | FD8: =+'Midttrafik '!EW6 -> 49153595 | FE8: =+'Midttrafik '!EX6 -> 55626000 | FF8: =+'Midttrafik '!EY6 -> 54820000 | FG8: =+'Midttrafik '!EZ6 -> 54904000 | ... FL8: =+'Midttrafik '!FE6 -> 0 | FN8: =+'Midttrafik '!FF6 -> 2967950 | FO8: =+'Midttrafik '!FG6 -> 3186555 | FP8: =+'Midttrafik '!FH6 -> 3989278 | FQ8: =+'Midttrafik '!FI6 -> 4125086 | FR8: =+'Midttrafik '!FJ6 -> 4214795 | FS8: =+'Midttrafik '!FK6 -> 4190000 | FT8: =+'Midttrafik '!FL6 -> 4136815 | FU8: =+'Midttrafik '!FM6 -> 4305000 | ... FZ8: =+'Midttrafik '!FR6 -> 0 | GB8: =IFERROR(P8*1000000/(DX8+EL8),"") -> 957.35847 | GC8: =IFERROR(Q8*1000000/(DY8+EM8),"") -> 976.7423 | GD8: =IFERROR(R8*1000000/(DZ8+EN8),"") -> 1023.6747 | GE8: =IFERROR(S8*1000000/(EA8+EO8),"") -> 1112.6625 | GF8: =IFERROR(T8*1000000/(EB8+EP8),"") -> 1148.6798 | GG8: =IFERROR(U8*1000000/(EC8+EQ8),"") -> 1245.7416 | GH8: =IFERROR(V8*1000000/(ED8+ER8),"") -> 1286.3462 | GI8: =IFERROR(W8*1000000/(EE8+ES8),"") -> 1325.6558 | ... GN8: =IFERROR(AB8*1000000/(EJ8+EX8),"") | GP8: =IFERROR((DX8+EL8)/($DX8+$EL8)*100,"") -> 100 | GQ8: =IFERROR((DY8+EM8)/($DX8+$EL8)*100,"") -> 98.285519 | GR8: =IFERROR((DZ8+EN8)/($DX8+$EL8)*100,"") -> 98.918094 | GS8: =IFERROR((EA8+EO8)/($DX8+$EL8)*100,"") -> 98.638662 | GT8: =IFERROR((EB8+EP8)/($DX8+$EL8)*100,"") -> 95.907921 | GU8: =IFERROR((EC8+EQ8)/($DX8+$EL8)*100,"") -> 91.623633 | GV8: =IFERROR((ED8+ER8)/($DX8+$EL8)*100,"") -> 88.554026 | GW8: =IFERROR((EE8+ES8)/($DX8+$EL8)*100,"") -> 88.7035 | ... HB8: =IFERROR((EJ8+EX8)/($DX8+$EL8)*100,"") -> 0 | HD8: =IFERROR((P8/(DX8+EL8))/($P$8/($DX$8+$EL$8))*100,"") -> 100 | HE8: =IFERROR((Q8/(DY8+EM8))/($P$8/($DX$8+$EL$8))*100,"") -> 102.02472 | HF8: =IFERROR((R8/(DZ8+EN8))/($P$8/($DX$8+$EL$8))*100,"") -> 106.927 | HG8: =IFERROR((S8/(EA8+EO8))/($P$8/($DX$8+$EL$8))*100,"") -> 116.22214 | HH8: =IFERROR((T8/(EB8+EP8))/($P$8/($DX$8+$EL$8))*100,"") -> 119.9843 | HI8: =IFERROR((U8/(EC8+EQ8))/($P$8/($DX$8+$EL$8))*100,"") -> 130.12279 | HJ8: =IFERROR((V8/(ED8+ER8))/($P$8/($DX$8+$EL$8))*100,"") -> 134.36412 | HK8: =IFERROR((W8/(EE8+ES8))/($P$8/($DX$8+$EL$8))*100,"") -> 138.47016 | ... HP8: =IFERROR((AB8/(EJ8+EX8))/($P$8/($DX$8+$EL$8))*100,"") | HR8: =IFERROR(EZ8/$EZ$8*100,"") -> 100 | HS8: =IFERROR(FA8/$EZ$8*100,"") -> 65.502144 | HT8: =IFERROR(FB8/$EZ$8*100,"") -> 65.016042 | HU8: =IFERROR(FC8/$EZ$8*100,"") -> 86.334409 | HV8: =IFERROR(FD8/$EZ$8*100,"") -> 93.175582 | HW8: =IFERROR(FE8/$EZ$8*100,"") -> 105.44468 | HX8: =IFERROR(FF8/$EZ$8*100,"") -> 103.91682 | HY8: =IFERROR(FG8/$EZ$8*100,"") -> 104.07605 | ... ID8: =IFERROR(FL8/$EZ$8*100,"") -> 0
A9: Movia | B9: =+Movia!F6 -> 1930.1836 | C9: =+Movia!G6 -> 1296.4217 | D9: =+Movia!H6 -> 1417.6208 | E9: =+Movia!I6 -> 1696.1999 | F9: =+Movia!J6 -> 1934.6118 | G9: =+Movia!K6 -> 2142.7692 | H9: =+Movia!L6 -> 2119.2035 | I9: =+Movia!M6 -> 2058.2007 | ... N9: =+Movia!R6 -> 0 | P9: =+Movia!S6 -> 4249.8941 | Q9: =+Movia!T6 -> 4154.2948 | R9: =+Movia!U6 -> 4344.1484 | S9: =+Movia!V6 -> 4825.1193 | T9: =+Movia!W6 -> 4898.9099 | U9: =+Movia!X6 -> 4794.7203 | V9: =+Movia!Y6 -> 4865.2267 | W9: =+Movia!Z6 -> 4852.9757 | ... AB9: =+Movia!AE6 -> 0 | AD9: =+Movia!AF6 -> 566.78859 | AE9: =+Movia!AG6 -> 575.43635 | AF9: =+Movia!AH6 -> 613.56113 | AG9: =+Movia!AI6 -> 578.72373 | AH9: =+Movia!AJ6 -> 607.64706 | AI9: =+Movia!AK6 -> 657.8438 | AJ9: =+Movia!AL6 -> 664.93849 | AK9: =+Movia!AM6 -> 690.29999 | ... AP9: =+Movia!AR6 -> 0 | AR9: =+Movia!AS6 -> 24.20885 | AS9: =+Movia!AT6 -> 26.48653 | AT9: =+Movia!AU6 -> 27.36542 | AU9: =+Movia!AV6 -> 28.86696 | AV9: =+Movia!AW6 -> 30.19313 | AW9: =+Movia!AX6 -> 33.75122 | AX9: =+Movia!AY6 -> 32.08583 | AY9: =+Movia!AZ6 -> 37.62512 | ... BD9: =+Movia!BE6 -> 0 | BF9: =+Movia!BF6 -> 24.96694 | BG9: =+Movia!BG6 -> 49.30949 | BH9: =+Movia!BH6 -> 10.0516 | BI9: =+Movia!BI6 -> 9.99078 | BJ9: =+Movia!BJ6 -> 17.92103 | BK9: =+Movia!BK6 -> 6.93414 | BL9: =+Movia!BL6 -> 16.4814 | BM9: =+Movia!BM6 -> 4.09999 | ... BR9: =+Movia!BR6 -> 0 | BT9: =+Movia!BS6 -> 0 | BU9: =+Movia!BT6 -> 455.32421 | BV9: =+Movia!BU6 -> 463.95719 | BW9: =+Movia!BV6 -> 111.1526 | BX9: =+Movia!BW6 -> 82.22301 | BY9: =+Movia!BX6 -> 2.36319 | BZ9: =+Movia!BY6 -> 0 | CA9: =+Movia!BZ6 -> 0 | ... CF9: =+Movia!CE6 -> 0 | CH9: =+Movia!CF6 -> 4865.8585 | CI9: =+Movia!CG6 -> 4805.5272 | CJ9: =+Movia!CH6 -> 4995.1265 | CK9: =+Movia!CI6 -> 5442.7008 | CL9: =+Movia!CJ6 -> 5554.6711 | CM9: =+Movia!CK6 -> 5493.2495 | CN9: =+Movia!CL6 -> 5578.7324 | CO9: =+Movia!CM6 -> 5585.0008 | ... CT9: =+Movia!CR6 -> 0 | CV9: =+Movia!CS6 -> 2935.6749 | CW9: =+Movia!CT6 -> 3053.7812 | CX9: =+Movia!CU6 -> 3113.5485 | CY9: =+Movia!CV6 -> 3635.3484 | CZ9: =+Movia!CW6 -> 3537.8363 | DA9: =+Movia!CX6 -> 3348.1171 | DB9: =+Movia!CY6 -> 3459.5289 | DC9: =+Movia!CZ6 -> 3526.8 | ... DH9: =+Movia!DE6 -> 0 | DJ9: =+Movia!DF6 -> 0.1165 | DK9: =+Movia!DG6 -> 0.1197 | DL9: =+Movia!DH6 -> 0.1228 | DM9: =+Movia!DI6 -> 0.1063 | DN9: =+Movia!DJ6 -> 0.1094 | DO9: =+Movia!DK6 -> 0.1198 | DP9: =+Movia!DL6 -> 0.1192 | DQ9: =+Movia!DM6 -> 0.1236 | ... DV9: =+Movia!DR6 -> 0 | DX9: =+Movia!DS6 -> 4232703.6 | DY9: =+Movia!DT6 -> 4084195.9 | DZ9: =+Movia!DU6 -> 4077598.3 | EA9: =+Movia!DV6 -> 4119024 | EB9: =+Movia!DW6 -> 4114494 | EC9: =+Movia!DX6 -> 4061247.3 | ED9: =+Movia!DY6 -> 4028943.2 | EE9: =+Movia!DZ6 -> 3997256.4 | ... EJ9: =+Movia!EE6 -> 0 | EL9: =+Movia!EF6 -> 151818 | EM9: =+Movia!EG6 -> 151573 | EN9: =+Movia!EH6 -> 158157 | EO9: =+Movia!EI6 -> 156802 | EP9: =+Movia!EJ6 -> 154941 | EQ9: =+Movia!EK6 -> 157654.08 | ER9: =+Movia!EL6 -> 167419.1 | ES9: =+Movia!EM6 -> 173653 | ... EX9: =+Movia!ER6 -> 0 | EZ9: =+Movia!ES6 -> 2.0164672e+08 | FA9: =+Movia!ET6 -> 1.3019101e+08 | FB9: =+Movia!EU6 -> 1.2877374e+08 | FC9: =+Movia!EV6 -> 1.6012939e+08 | FD9: =+Movia!EW6 -> 1.7361206e+08 | FE9: =+Movia!EX6 -> 1.7549617e+08 | FF9: =+Movia!EY6 -> 1.7281672e+08 | FG9: =+Movia!EZ6 -> 1.7031482e+08 | ... FK9: =+Movia!FD6 -> 0 | FL9: =+Movia!FE7 -> 0 | FN9: =+Movia!FF6 -> 7825683 | FO9: =+Movia!FG6 -> 7629001 | FP9: =+Movia!FH6 -> 8034836 | FQ9: =+Movia!FI6 -> 7998171 | FR9: =+Movia!FJ6 -> 7987375 | FS9: =+Movia!FK6 -> 8076229 | FT9: =+Movia!FL6 -> 8442977 | FU9: =+Movia!FM6 -> 8932495 | ... FZ9: =+Movia!FR6 -> 0 | GB9: =IFERROR(P9*1000000/(DX9+EL9),"") -> 969.29482 | GC9: =IFERROR(Q9*1000000/(DY9+EM9),"") -> 980.76522 | GD9: =IFERROR(R9*1000000/(DZ9+EN9),"") -> 1025.59 | GE9: =IFERROR(S9*1000000/(EA9+EO9),"") -> 1128.4649 | GF9: =IFERROR(T9*1000000/(EB9+EP9),"") -> 1147.4375 | GG9: =IFERROR(U9*1000000/(EC9+EQ9),"") -> 1136.4855 | GH9: =IFERROR(V9*1000000/(ED9+ER9),"") -> 1159.3915 | GI9: =IFERROR(W9*1000000/(EE9+ES9),"") -> 1163.5294 | ... GN9: =IFERROR(AB9*1000000/(EJ9+EX9),"") | GP9: =IFERROR((DX9+EL9)/($DX9+$EL9)*100,"") -> 100 | GQ9: =IFERROR((DY9+EM9)/($DX9+$EL9)*100,"") -> 96.607322 | GR9: =IFERROR((DZ9+EN9)/($DX9+$EL9)*100,"") -> 96.607012 | GS9: =IFERROR((EA9+EO9)/($DX9+$EL9)*100,"") -> 97.520924 | GT9: =IFERROR((EB9+EP9)/($DX9+$EL9)*100,"") -> 97.375161 | GU9: =IFERROR((EC9+EQ9)/($DX9+$EL9)*100,"") -> 96.222616 | GV9: =IFERROR((ED9+ER9)/($DX9+$EL9)*100,"") -> 95.708557 | GW9: =IFERROR((EE9+ES9)/($DX9+$EL9)*100,"") -> 95.128038 | ... HB9: =IFERROR((EJ9+EX9)/($DX9+$EL9)*100,"") -> 0 | HD9: =IFERROR((P9/(DX9+EL9))/($P$9/($DX$9+$EL$9))*100,"") -> 100 | HE9: =IFERROR((Q9/(DY9+EM9))/($P$9/($DX$9+$EL$9))*100,"") -> 101.18338 | HF9: =IFERROR((R9/(DZ9+EN9))/($P$9/($DX$9+$EL$9))*100,"") -> 105.80785 | HG9: =IFERROR((S9/(EA9+EO9))/($P$9/($DX$9+$EL$9))*100,"") -> 116.42122 | HH9: =IFERROR((T9/(EB9+EP9))/($P$9/($DX$9+$EL$9))*100,"") -> 118.37859 | HI9: =IFERROR((U9/(EC9+EQ9))/($P$9/($DX$9+$EL$9))*100,"") -> 117.24869 | HJ9: =IFERROR((V9/(ED9+ER9))/($P$9/($DX$9+$EL$9))*100,"") -> 119.61185 | HK9: =IFERROR((W9/(EE9+ES9))/($P$9/($DX$9+$EL$9))*100,"") -> 120.03875 | ... HP9: =IFERROR((AB9/(EJ9+EX9))/($P$9/($DX$9+$EL$9))*100,"") | HR9: =IFERROR(EZ9/$EZ$9*100,"") -> 100 | HS9: =IFERROR(FA9/$EZ$9*100,"") -> 64.563911 | HT9: =IFERROR(FB9/$EZ$9*100,"") -> 63.861065 | HU9: =IFERROR(FC9/$EZ$9*100,"") -> 79.410858 | HV9: =IFERROR(FD9/$EZ$9*100,"") -> 86.097143 | HW9: =IFERROR(FE9/$EZ$9*100,"") -> 87.031501 | HX9: =IFERROR(FF9/$EZ$9*100,"") -> 85.702719 | HY9: =IFERROR(FG9/$EZ$9*100,"") -> 84.461987 | ... ID9: =IFERROR(FL9/$EZ$9*100,"") -> 0
A10: NT | B10: =+NT!F6 -> 382.594 | C10: =+NT!G6 -> 265.2835 | D10: =+NT!H6 -> 276.69426 | E10: =+NT!I6 -> 351.11102 | F10: =+NT!J6 -> 395.21593 | G10: =+NT!K6 -> 411.49739 | H10: =+NT!L6 -> 423.43723 | I10: =+NT!M6 -> 454.69167 | ... N10: =+NT!R6 -> 0 | P10: =+NT!S6 -> 1136.2315 | Q10: =+NT!T6 -> 1129.1949 | R10: =+NT!U6 -> 1208.8469 | S10: =+NT!V6 -> 1330.3608 | T10: =+NT!W6 -> 1352.8328 | U10: =+NT!X6 -> 1382.4131 | V10: =+NT!Y6 -> 1433.4752 | W10: =+NT!Z6 -> 1501.9013 | ... AB10: =+NT!AE6 -> 0 | AD10: =+NT!AF6 -> 137.13016 | AE10: =+NT!AG6 -> 148.50274 | AF10: =+NT!AH6 -> 139.05922 | AG10: =+NT!AI6 -> 135.83966 | AH10: =+NT!AJ6 -> 146.82994 | AI10: =+NT!AK6 -> 152.58874 | AJ10: =+NT!AL6 -> 154.1739 | AK10: =+NT!AM6 -> 174.59157 | ... AP10: =+NT!AR6 -> 0 | AR10: =+NT!AS6 -> 0 | AS10: =+NT!AT6 -> 0 | AT10: =+NT!AU6 -> 0 | AU10: =+NT!AV6 -> 0 | AV10: =+NT!AW6 -> 0 | AW10: =+NT!AX6 -> 0 | AX10: =+NT!AY6 -> 0 | AY10: =+NT!AZ6 -> 0 | ... BD10: =+NT!BE6 -> 0 | BF10: =+NT!BF6 -> 3.4847235 | BG10: =+NT!BG6 -> 5.920967 | BH10: =+NT!BH6 -> 3.4310203 | BI10: =+NT!BI6 -> 0.8061573 | BJ10: =+NT!BJ6 -> 6.4677215 | BK10: =+NT!BK6 -> 3.7546424 | BL10: =+NT!BL6 -> 5.1716785 | BM10: =+NT!BM6 -> 6.4306089 | ... BR10: =+NT!BR6 -> 0 | BT10: =+NT!BS6 -> 0 | BU10: =+NT!BT6 -> 112.89836 | BV10: =+NT!BU6 -> 156.2619 | BW10: =+NT!BV6 -> 46.079558 | BX10: =+NT!BW6 -> 18.767833 | BY10: =+NT!BX6 -> -0.949158 | BZ10: =+NT!BY6 -> 0 | CA10: =+NT!BZ6 -> 0 | ... CF10: =+NT!CE6 -> 0 | CH10: =+NT!CF6 -> 1276.8464 | CI10: =+NT!CG6 -> 1283.6186 | CJ10: =+NT!CH6 -> 1351.3372 | CK10: =+NT!CI6 -> 1467.0066 | CL10: =+NT!CJ6 -> 1506.1304 | CM10: =+NT!CK6 -> 1538.7565 | CN10: =+NT!CL6 -> 1592.8208 | CO10: =+NT!CM6 -> 1682.9235 | ... CT10: =+NT!CR6 -> 0 | CV10: =+NT!CS6 -> 894.25242 | CW10: =+NT!CT6 -> 905.43676 | CX10: =+NT!CU6 -> 918.38099 | CY10: =+NT!CV6 -> 1069.816 | CZ10: =+NT!CW6 -> 1092.1467 | DA10: =+NT!CX6 -> 1128.2082 | DB10: =+NT!CY6 -> 1169.3835 | DC10: =+NT!CZ6 -> 1228.2318 | ... DH10: =+NT!DE6 -> 0 | DJ10: =+NT!DF6 -> 0.10739753 | DK10: =+NT!DG6 -> 0.11569071 | DL10: =+NT!DH6 -> 0.10290491 | DM10: =+NT!DI6 -> 0.092596489 | DN10: =+NT!DJ6 -> 0.0974882 | DO10: =+NT!DK6 -> 0.099163672 | DP10: =+NT!DL6 -> 0.096793003 | DQ10: =+NT!DM6 -> 0.10374302 | ... DV10: =+NT!DR6 -> 0 | DX10: =+NT!DS6 -> 914096.12 | DY10: =+NT!DT6 -> 908325.76 | DZ10: =+NT!DU6 -> 902110.55 | EA10: =+NT!DV6 -> 899044.1 | EB10: =+NT!DW6 -> 863332.1 | EC10: =+NT!DX6 -> 840986 | ED10: =+NT!DY6 -> 844435 | EE10: =+NT!DZ6 -> 852061 | ... EJ10: =+NT!EE6 -> 0 | EL10: =+NT!EF6 -> 44993 | EM10: =+NT!EG6 -> 43805 | EN10: =+NT!EH6 -> 43904 | EO10: =+NT!EI6 -> 45238 | EP10: =+NT!EJ6 -> 45238 | EQ10: =+NT!EK6 -> 0 | ER10: =+NT!EL6 -> 0 | ES10: =+NT!EM6 -> 0 | ... EX10: =+NT!ER6 -> 0 | EZ10: =+NT!ES6 -> 24021490 | FA10: =+NT!ET6 -> 14430098 | FB10: =+NT!EU6 -> 13634360 | FC10: =+NT!EV6 -> 18523868 | FD10: =+NT!EW6 -> 20781764 | FE10: =+NT!EX6 -> 20736314 | FF10: =+NT!EY6 -> 21621168 | FG10: =+NT!EZ6 -> 0 | ... FL10: =+NT!FE6 -> 0 | FN10: =+NT!FF6 -> 2978604 | FO10: =+NT!FG6 -> 2785257 | FP10: =+NT!FH6 -> 3095161.5 | FQ10: =+NT!FI6 -> 3070974 | FR10: =+NT!FJ6 -> 3113098 | FS10: =+NT!FK6 -> 2804180 | FT10: =+NT!FL6 -> 3088580 | FU10: =+NT!FM6 -> 3504902 | ... FZ10: =+NT!FR6 -> 0 | GB10: =IFERROR(P10*1000000/(DX10+EL10),"") -> 1184.6986 | GC10: =IFERROR(Q10*1000000/(DY10+EM10),"") -> 1185.9662 | GD10: =IFERROR(R10*1000000/(DZ10+EN10),"") -> 1277.8312 | GE10: =IFERROR(S10*1000000/(EA10+EO10),"") -> 1408.8595 | GF10: =IFERROR(T10*1000000/(EB10+EP10),"") -> 1488.9691 | GG10: =IFERROR(U10*1000000/(EC10+EQ10),"") -> 1643.8004 | GH10: =IFERROR(V10*1000000/(ED10+ER10),"") -> 1697.5554 | GI10: =IFERROR(W10*1000000/(EE10+ES10),"") -> 1762.6687 | ... GN10: =IFERROR(AB10*1000000/(EJ10+EX10),"") | GP10: =IFERROR((DX10+EL10)/($DX10+$EL10)*100,"") -> 100 | GQ10: =IFERROR((DY10+EM10)/($DX10+$EL10)*100,"") -> 99.274483 | GR10: =IFERROR((DZ10+EN10)/($DX10+$EL10)*100,"") -> 98.636772 | GS10: =IFERROR((EA10+EO10)/($DX10+$EL10)*100,"") -> 98.456138 | GT10: =IFERROR((EB10+EP10)/($DX10+$EL10)*100,"") -> 94.732605 | GU10: =IFERROR((EC10+EQ10)/($DX10+$EL10)*100,"") -> 87.685908 | GV10: =IFERROR((ED10+ER10)/($DX10+$EL10)*100,"") -> 88.04552 | GW10: =IFERROR((EE10+ES10)/($DX10+$EL10)*100,"") -> 88.840649 | ... HB10: =IFERROR((EJ10+EX10)/($DX10+$EL10)*100,"") -> 0 | HD10: =IFERROR((P10/(DX10+EL10))/($P$10/($DX$10+$EL$10))*100,"") -> 100 | HE10: =IFERROR((Q10/(DY10+EM10))/($P$10/($DX$10+$EL$10))*100,"") -> 100.107 | HF10: =IFERROR((R10/(DZ10+EN10))/($P$10/($DX$10+$EL$10))*100,"") -> 107.86129 | HG10: =IFERROR((S10/(EA10+EO10))/($P$10/($DX$10+$EL$10))*100,"") -> 118.92134 | HH10: =IFERROR((T10/(EB10+EP10))/($P$10/($DX$10+$EL$10))*100,"") -> 125.68336 | HI10: =IFERROR((U10/(EC10+EQ10))/($P$10/($DX$10+$EL$10))*100,"") -> 138.75262 | HJ10: =IFERROR((V10/(ED10+ER10))/($P$10/($DX$10+$EL$10))*100,"") -> 143.29006 | HK10: =IFERROR((W10/(EE10+ES10))/($P$10/($DX$10+$EL$10))*100,"") -> 148.78626 | ... HP10: =IFERROR((AB10/(EJ10+EX10))/($P$10/($DX$10+$EL$10))*100,"") | HR10: =IFERROR(EZ10/$EZ$10*100,"") -> 100 | HS10: =IFERROR(FA10/$EZ$10*100,"") -> 60.071619 | HT10: =IFERROR(FB10/$EZ$10*100,"") -> 56.75901 | HU10: =IFERROR(FC10/$EZ$10*100,"") -> 77.113734 | HV10: =IFERROR(FD10/$EZ$10*100,"") -> 86.513218 | HW10: =IFERROR(FE10/$EZ$10*100,"") -> 86.324012 | HX10: =IFERROR(FF10/$EZ$10*100,"") -> 90.007606 | HY10: =IFERROR(FG10/$EZ$10*100,"") -> 0 | ... ID10: =IFERROR(FL10/$EZ$10*100,"") -> 0
A11: Sydtrafik | B11: =+Sydtrafik!F6 -> 264.5 | C11: =+Sydtrafik!G6 -> 200.7 | D11: =+Sydtrafik!H6 -> 177.3 | E11: =+Sydtrafik!I6 -> 246.3 | F11: =+Sydtrafik!J6 -> 259.6 | G11: =+Sydtrafik!K6 -> 272.6 | H11: =+Sydtrafik!L6 -> 262.6 | I11: =+Sydtrafik!M6 -> 260.1 | ... N11: =+Sydtrafik!R6 -> 0 | P11: =+Sydtrafik!S6 -> 892.5 | Q11: =+Sydtrafik!T6 -> 863 | R11: =+Sydtrafik!U6 -> 860.4 | S11: =+Sydtrafik!V6 -> 933.5 | T11: =+Sydtrafik!W6 -> 971.8 | U11: =+Sydtrafik!X6 -> 990.7 | V11: =+Sydtrafik!Y6 -> 967.8 | W11: =+Sydtrafik!Z6 -> 997.5 | ... AB11: =+Sydtrafik!AE6 -> 0 | AD11: =+Sydtrafik!AF6 -> 114.6 | AE11: =+Sydtrafik!AG6 -> 113.1 | AF11: =+Sydtrafik!AH6 -> 117 | AG11: =+Sydtrafik!AI6 -> 120.6 | AH11: =+Sydtrafik!AJ6 -> 116.3 | AI11: =+Sydtrafik!AK6 -> 115.6 | AJ11: =+Sydtrafik!AL6 -> 120 | AK11: =+Sydtrafik!AM6 -> 136.2 | ... AP11: =+Sydtrafik!AR6 -> 0 | AR11: =+Sydtrafik!AS6 -> 0 | AS11: =+Sydtrafik!AT6 -> 0 | AT11: =+Sydtrafik!AU6 -> 0 | AU11: =+Sydtrafik!AV6 -> 0 | AV11: =+Sydtrafik!AW6 -> 0 | AW11: =+Sydtrafik!AX6 -> 0 | AX11: =+Sydtrafik!AY6 -> 0 | AY11: =+Sydtrafik!AZ6 -> 0 | ... BD11: =+Sydtrafik!BE6 -> 0 | BF11: =+Sydtrafik!BF6 -> 0.3 | BG11: =+Sydtrafik!BG6 -> 0.7 | BH11: =+Sydtrafik!BH6 -> 0.2 | BI11: =+Sydtrafik!BI6 -> 0.8 | BJ11: =+Sydtrafik!BJ6 -> -1.3 | BK11: =+Sydtrafik!BK6 -> -2.1 | BL11: =+Sydtrafik!BL6 -> 1.1 | BM11: =+Sydtrafik!BM6 -> -1.22 | ... BR11: =+Sydtrafik!BR6 -> 0 | BT11: =+Sydtrafik!BS6 -> 0 | BU11: =+Sydtrafik!BT6 -> 46 | BV11: =+Sydtrafik!BU6 -> 97.3 | BW11: =+Sydtrafik!BV6 -> 26.3 | BX11: =+Sydtrafik!BW6 -> 18.4 | BY11: =+Sydtrafik!BX6 -> 0 | BZ11: =+Sydtrafik!BY6 -> 0 | CA11: =+Sydtrafik!BZ6 -> 0 | ... CF11: =+Sydtrafik!CE6 -> 0 | CH11: =+Sydtrafik!CF6 -> 1007.4 | CI11: =+Sydtrafik!CG6 -> 976.8 | CJ11: =+Sydtrafik!CH6 -> 977.6 | CK11: =+Sydtrafik!CI6 -> 1054.9 | CL11: =+Sydtrafik!CJ6 -> 1086.8 | CM11: =+Sydtrafik!CK6 -> 1104.2 | CN11: =+Sydtrafik!CL6 -> 1088.9 | CO11: =+Sydtrafik!CM6 -> 1132.48 | ... CT11: =+Sydtrafik!CR6 -> 0 | CV11: =+Sydtrafik!CS6 -> 742.9 | CW11: =+Sydtrafik!CT6 -> 730.1 | CX11: =+Sydtrafik!CU6 -> 703 | CY11: =+Sydtrafik!CV6 -> 782.3 | CZ11: =+Sydtrafik!CW6 -> 808.8 | DA11: =+Sydtrafik!CX6 -> 831.6 | DB11: =+Sydtrafik!CY6 -> 826.3 | DC11: =+Sydtrafik!CZ6 -> 872.38 | ... DH11: =+Sydtrafik!DE6 -> 0 | DJ11: =+Sydtrafik!DF6 -> 0.11375819 | DK11: =+Sydtrafik!DG6 -> 0.11578624 | DL11: =+Sydtrafik!DH6 -> 0.11968085 | DM11: =+Sydtrafik!DI6 -> 0.11432363 | DN11: =+Sydtrafik!DJ6 -> 0.10701141 | DO11: =+Sydtrafik!DK6 -> 0.10469118 | DP11: =+Sydtrafik!DL6 -> 0.11020296 | DQ11: =+Sydtrafik!DM6 -> 0.12026702 | ... DV11: =+Sydtrafik!DR6 -> 0 | DX11: =+Sydtrafik!DS6 -> 841838 | DY11: =+Sydtrafik!DT6 -> 833700 | DZ11: =+Sydtrafik!DU6 -> 804414 | EA11: =+Sydtrafik!DV6 -> 796022 | EB11: =+Sydtrafik!DW6 -> 785940 | EC11: =+Sydtrafik!DX6 -> 773528 | ED11: =+Sydtrafik!DY6 -> 771832 | EE11: =+Sydtrafik!DZ6 -> 778171 | ... EJ11: =+Sydtrafik!EE6 -> 0 | EL11: =+Sydtrafik!EF6 -> 5851 | EM11: =+Sydtrafik!EG6 -> 5752 | EN11: =+Sydtrafik!EH6 -> 5743 | EO11: =+Sydtrafik!EI6 -> 5848 | EP11: =+Sydtrafik!EJ6 -> 5774 | EQ11: =+Sydtrafik!EK6 -> 5747 | ER11: =+Sydtrafik!EL6 -> 5615 | ES11: =+Sydtrafik!EM6 -> 0 | ... EX11: =+Sydtrafik!ER6 -> 0 | EZ11: =+Sydtrafik!ES6 -> 14338372 | FA11: =+Sydtrafik!ET6 -> 9420348 | FB11: =+Sydtrafik!EU6 -> 8490102 | FC11: =+Sydtrafik!EV6 -> 11534884 | FD11: =+Sydtrafik!EW6 -> 11772238 | FE11: =+Sydtrafik!EX6 -> 11891197 | FF11: =+Sydtrafik!EY6 -> 12221230 | FG11: =+Sydtrafik!EZ6 -> 0 | ... FL11: =+Sydtrafik!FE6 -> 0 | FN11: =+Sydtrafik!FF6 -> 310000 | FO11: =+Sydtrafik!FG6 -> 305000 | FP11: =+Sydtrafik!FH6 -> 304000 | FQ11: =+Sydtrafik!FI6 -> 310000 | FR11: =+Sydtrafik!FJ6 -> 306000 | FS11: =+Sydtrafik!FK6 -> 316000 | FT11: =+Sydtrafik!FL6 -> 297581 | FU11: =+Sydtrafik!FM6 -> 297581 | ... FZ11: =+Sydtrafik!FR6 -> 0 | GB11: =IFERROR(P11*1000000/(DX11+EL11),"") -> 1052.8625 | GC11: =IFERROR(Q11*1000000/(DY11+EM11),"") -> 1028.0516 | GD11: =IFERROR(R11*1000000/(DZ11+EN11),"") -> 1062.0164 | GE11: =IFERROR(S11*1000000/(EA11+EO11),"") -> 1164.1538 | GF11: =IFERROR(T11*1000000/(EB11+EP11),"") -> 1227.4635 | GG11: =IFERROR(U11*1000000/(EC11+EQ11),"") -> 1271.3099 | GH11: =IFERROR(V11*1000000/(ED11+ER11),"") -> 1244.8437 | GI11: =IFERROR(W11*1000000/(EE11+ES11),"") -> 1281.8519 | ... GN11: =IFERROR(AB11*1000000/(EJ11+EX11),"") | GP11: =IFERROR((DX11+EL11)/($DX11+$EL11)*100,"") -> 100 | GQ11: =IFERROR((DY11+EM11)/($DX11+$EL11)*100,"") -> 99.028299 | GR11: =IFERROR((DZ11+EN11)/($DX11+$EL11)*100,"") -> 95.572433 | GS11: =IFERROR((EA11+EO11)/($DX11+$EL11)*100,"") -> 94.594834 | GT11: =IFERROR((EB11+EP11)/($DX11+$EL11)*100,"") -> 93.396753 | GU11: =IFERROR((EC11+EQ11)/($DX11+$EL11)*100,"") -> 91.929351 | GV11: =IFERROR((ED11+ER11)/($DX11+$EL11)*100,"") -> 91.713706 | GW11: =IFERROR((EE11+ES11)/($DX11+$EL11)*100,"") -> 91.799115 | ... HB11: =IFERROR((EJ11+EX11)/($DX11+$EL11)*100,"") -> 0 | HD11: =IFERROR((P11/(DX11+EL11))/($P$11/($DX$11+$EL$11))*100,"") -> 100 | HE11: =IFERROR((Q11/(DY11+EM11))/($P$11/($DX$11+$EL$11))*100,"") -> 97.64348 | HF11: =IFERROR((R11/(DZ11+EN11))/($P$11/($DX$11+$EL$11))*100,"") -> 100.86942 | HG11: =IFERROR((S11/(EA11+EO11))/($P$11/($DX$11+$EL$11))*100,"") -> 110.57035 | HH11: =IFERROR((T11/(EB11+EP11))/($P$11/($DX$11+$EL$11))*100,"") -> 116.58345 | HI11: =IFERROR((U11/(EC11+EQ11))/($P$11/($DX$11+$EL$11))*100,"") -> 120.74794 | HJ11: =IFERROR((V11/(ED11+ER11))/($P$11/($DX$11+$EL$11))*100,"") -> 118.23421 | HK11: =IFERROR((W11/(EE11+ES11))/($P$11/($DX$11+$EL$11))*100,"") -> 121.74922 | ... HP11: =IFERROR((AB11/(EJ11+EX11))/($P$11/($DX$11+$EL$11))*100,"") | HR11: =IFERROR(EZ11/$EZ$11*100,"") -> 100 | HS11: =IFERROR(FA11/$EZ$11*100,"") -> 65.700262 | HT11: =IFERROR(FB11/$EZ$11*100,"") -> 59.212455 | HU11: =IFERROR(FC11/$EZ$11*100,"") -> 80.447655 | HV11: =IFERROR(FD11/$EZ$11*100,"") -> 82.103031 | HW11: =IFERROR(FE11/$EZ$11*100,"") -> 82.932686 | HX11: =IFERROR(FF11/$EZ$11*100,"") -> 85.234432 | HY11: =IFERROR(FG11/$EZ$11*100,"") -> 0 | ... ID11: =IFERROR(FL11/$EZ$11*100,"") -> 0
A12: Total | B12: =SUM(B6:B11) -> 3594.7916 | C12: =SUM(C6:C11) -> 2483.1272 | D12: =SUM(D6:D11) -> 2622.2581 | E12: =SUM(E6:E11) -> 3254.0529 | F12: =SUM(F6:F11) -> 3629.7047 | G12: =SUM(G6:G11) -> 3930.3246 | H12: =SUM(H6:H11) -> 3884.4546 | I12: =SUM(I6:I11) -> 3890.5339 | ... N12: =SUM(N6:N11) -> 0 | P12: =SUM(P6:P11) -> 8787.4087 | Q12: =SUM(Q6:Q11) -> 8634.2357 | R12: =SUM(R6:R11) -> 9041.8363 | S12: =SUM(S6:S11) -> 9938.7931 | T12: =SUM(T6:T11) -> 10075.8 | U12: =SUM(U6:U11) -> 10109.395 | V12: =SUM(V6:V11) -> 10189.787 | W12: =SUM(W6:W11) -> 10368.048 | ... AB12: =SUM(AB6:AB11) -> 0 | AD12: =SUM(AD6:AD11) -> 1182.4607 | AE12: =SUM(AE6:AE11) -> 1175.3691 | AF12: =SUM(AF6:AF11) -> 1254.5254 | AG12: =SUM(AG6:AG11) -> 1217.1844 | AH12: =SUM(AH6:AH11) -> 1266.611 | AI12: =SUM(AI6:AI11) -> 1326.0695 | AJ12: =SUM(AJ6:AJ11) -> 1362.0491 | AK12: =SUM(AK6:AK11) -> 1469.0504 | ... AP12: =SUM(AP6:AP11) -> 0 | AR12: =SUM(AR6:AR11) -> 31.50885 | AS12: =SUM(AS6:AS11) -> 38.08653 | AT12: =SUM(AT6:AT11) -> 38.96542 | AU12: =SUM(AU6:AU11) -> 54.46696 | AV12: =SUM(AV6:AV11) -> 40.09313 | AW12: =SUM(AW6:AW11) -> 44.75122 | AX12: =SUM(AX6:AX11) -> 43.56857 | AY12: =SUM(AY6:AY11) -> 53.40312 | ... BD12: =SUM(BD6:BD11) -> 0 | BF12: =SUM(BF6:BF11) -> 31.815664 | BG12: =SUM(BG6:BG11) -> 54.596457 | BH12: =SUM(BH6:BH11) -> 18.01462 | BI12: =SUM(BI6:BI11) -> 25.871937 | BJ12: =SUM(BJ6:BJ11) -> 14.390751 | BK12: =SUM(BK6:BK11) -> -2.5332176 | BL12: =SUM(BL6:BL11) -> 16.846591 | BM12: =SUM(BM6:BM11) -> 9.5225989 | ... BR12: =SUM(BR6:BR11) -> 0 | BT12: =SUM(BT6:BT11) -> 0 | BU12: =SUM(BU6:BU11) -> 893.40157 | BV12: =SUM(BV6:BV11) -> 1046.8851 | BW12: =SUM(BW6:BW11) -> 267.93216 | BX12: =SUM(BX6:BX11) -> 169.90684 | BY12: =SUM(BY6:BY11) -> 1.059032 | BZ12: =SUM(BZ6:BZ11) -> 0 | CA12: =SUM(CA6:CA11) -> 0 | ... CF12: =SUM(CF6:CF11) -> 0 | CH12: =SUM(CH6:CH11) -> 10033.194 | CI12: =SUM(CI6:CI11) -> 9902.2878 | CJ12: =SUM(CJ6:CJ11) -> 10353.342 | CK12: =SUM(CK6:CK11) -> 11236.316 | CL12: =SUM(CL6:CL11) -> 11396.895 | CM12: =SUM(CM6:CM11) -> 11477.683 | CN12: =SUM(CN6:CN11) -> 11612.251 | CO12: =SUM(CO6:CO11) -> 11900.025 | ... CT12: =SUM(CT6:CT11) -> 0 | CV12: =SUM(CV6:CV11) -> 6438.4023 | CW12: =SUM(CW6:CW11) -> 6525.759 | CX12: =SUM(CX6:CX11) -> 6684.1985 | CY12: =SUM(CY6:CY11) -> 7714.3314 | CZ12: =SUM(CZ6:CZ11) -> 7597.283 | DA12: =SUM(DA6:DA11) -> 7546.2993 | DB12: =SUM(DB6:DB11) -> 7727.7963 | DC12: =SUM(DC6:DC11) -> 8009.4906 | ... DH12: =SUM(DH6:DH11) -> 0 | DJ12: =IFERROR(AD12/CH12,"") -> 0.11785487 | DK12: =IFERROR(AE12/CI12,"") -> 0.11869672 | DL12: =IFERROR(AF12/CJ12,"") -> 0.12117106 | DM12: =IFERROR(AG12/CK12,"") -> 0.10832593 | DN12: =IFERROR(AH12/CL12,"") -> 0.1111365 | DO12: =IFERROR(AI12/CM12,"") -> 0.1155346 | DP12: =IFERROR(AJ12/CN12,"") -> 0.11729415 | DQ12: =IFERROR(AK12/CO12,"") -> 0.12344936 | ... DV12: =IFERROR(AP12/CT12,"") | DX12: =SUM(DX6:DX11) -> 8586158.6 | DY12: =SUM(DY6:DY11) -> 8382211.9 | DZ12: =SUM(DZ6:DZ11) -> 8330758.5 | EA12: =SUM(EA6:EA11) -> 8334624.1 | EB12: =SUM(EB6:EB11) -> 8196206.3 | EC12: =SUM(EC6:EC11) -> 8018514.7 | ED12: =SUM(ED6:ED11) -> 7924309.2 | EE12: =SUM(EE6:EE11) -> 7896049.4 | ... EJ12: =SUM(EJ6:EJ11) -> 0 | EL12: =SUM(EL6:EL11) -> 278980 | EM12: =SUM(EM6:EM11) -> 284085 | EN12: =SUM(EN6:EN11) -> 303368 | EO12: =SUM(EO6:EO11) -> 305127 | EP12: =SUM(EP6:EP11) -> 305159 | EQ12: =SUM(EQ6:EQ11) -> 255856.08 | ER12: =SUM(ER6:ER11) -> 263311.43 | ES12: =SUM(ES6:ES11) -> 274353 | ... EX12: =SUM(EX6:EX11) -> 0 | EZ12: =SUM(EZ6:EZ11) -> 3.0728131e+08 | FA12: =SUM(FA6:FA11) -> 1.9806828e+08 | FB12: =SUM(FB6:FB11) -> 1.9413459e+08 | FC12: =SUM(FC6:FC11) -> 2.4689476e+08 | FD12: =SUM(FD6:FD11) -> 2.6639366e+08 | FE12: =SUM(FE6:FE11) -> 2.7505068e+08 | FF12: =SUM(FF6:FF11) -> 2.7244112e+08 | FG12: =SUM(FG6:FG11) -> 2.3618982e+08 | ... FL12: =SUM(FL6:FL11) -> 0 | FN12: =SUM(FN6:FN11) -> 14082237 | FO12: =SUM(FO6:FO11) -> 13905813 | FP12: =SUM(FP6:FP11) -> 15423276 | FQ12: =SUM(FQ6:FQ11) -> 15504231 | FR12: =SUM(FR6:FR11) -> 15621268 | FS12: =SUM(FS6:FS11) -> 15386409 | FT12: =SUM(FT6:FT11) -> 15965953 | FU12: =SUM(FU6:FU11) -> 17039978 | ... FZ12: =SUM(FZ6:FZ11) -> 0 | GB12: =IFERROR(P12*1000000/(DX12+EL12),"") -> 991.23195 | GC12: =IFERROR(Q12*1000000/(DY12+EM12),"") -> 996.30047 | GD12: =IFERROR(R12*1000000/(DZ12+EN12),"") -> 1047.2207 | GE12: =IFERROR(S12*1000000/(EA12+EO12),"") -> 1150.3564 | GF12: =IFERROR(T12*1000000/(EB12+EP12),"") -> 1185.1978 | GG12: =IFERROR(U12*1000000/(EC12+EQ12),"") -> 1221.7721 | GH12: =IFERROR(V12*1000000/(ED12+ER12),"") -> 1244.5357 | GI12: =IFERROR(W12*1000000/(EE12+ES12),"") -> 1268.9765 | ... GN12: =IFERROR(AB12*1000000/(EJ12+EX12),"") | GP12: =IFERROR((DX12+EL12)/($DX12+$EL12)*100,"") -> 100 | GQ12: =IFERROR((DY12+EM12)/($DX12+$EL12)*100,"") -> 97.757038 | GR12: =IFERROR((DZ12+EN12)/($DX12+$EL12)*100,"") -> 97.394151 | GS12: =IFERROR((EA12+EO12)/($DX12+$EL12)*100,"") -> 97.457597 | GT12: =IFERROR((EB12+EP12)/($DX12+$EL12)*100,"") -> 95.896586 | GU12: =IFERROR((EC12+EQ12)/($DX12+$EL12)*100,"") -> 93.336056 | GV12: =IFERROR((ED12+ER12)/($DX12+$EL12)*100,"") -> 92.357503 | GW12: =IFERROR((EE12+ES12)/($DX12+$EL12)*100,"") -> 92.163279 | ... HB12: =IFERROR((EJ12+EX12)/($DX12+$EL12)*100,"") -> 0 | HD12: =IFERROR((P12/(DX12+EL12))/($P$12/($DX$12+$EL$12))*100,"") -> 100 | HE12: =IFERROR((Q12/(DY12+EM12))/($P$12/($DX$12+$EL$12))*100,"") -> 100.51134 | HF12: =IFERROR((R12/(DZ12+EN12))/($P$12/($DX$12+$EL$12))*100,"") -> 105.6484 | HG12: =IFERROR((S12/(EA12+EO12))/($P$12/($DX$12+$EL$12))*100,"") -> 116.0532 | HH12: =IFERROR((T12/(EB12+EP12))/($P$12/($DX$12+$EL$12))*100,"") -> 119.56816 | HI12: =IFERROR((U12/(EC12+EQ12))/($P$12/($DX$12+$EL$12))*100,"") -> 123.25794 | HJ12: =IFERROR((V12/(ED12+ER12))/($P$12/($DX$12+$EL$12))*100,"") -> 125.55444 | HK12: =IFERROR((W12/(EE12+ES12))/($P$12/($DX$12+$EL$12))*100,"") -> 128.02013 | ... HP12: =IFERROR((AB12/(EJ12+EX12))/($P$12/($DX$12+$EL$12))*100,"") | HR12: =IFERROR(EZ12/$EZ$12*100,"") -> 100 | HS12: =IFERROR(FA12/$EZ$12*100,"") -> 64.45829 | HT12: =IFERROR(FB12/$EZ$12*100,"") -> 63.178132 | HU12: =IFERROR(FC12/$EZ$12*100,"") -> 80.348122 | HV12: =IFERROR(FD12/$EZ$12*100,"") -> 86.69374 | HW12: =IFERROR(FE12/$EZ$12*100,"") -> 89.511033 | HX12: =IFERROR(FF12/$EZ$12*100,"") -> 88.661792 | HY12: =IFERROR(FG12/$EZ$12*100,"") -> 76.864364 | ... ID12: =IFERROR(FL12/$EZ$12*100,"") -> 0
A14: BUS
A15: BAT | B15: =+BAT!F35 -> 29.4 | C15: =+BAT!G35 -> 22.4 | D15: =+BAT!H35 -> 22.1 | E15: =+BAT!I35 -> 24.44 | F15: =+BAT!J35 -> 26.639 | G15: =+BAT!K35 -> 26.69 | H15: =+BAT!L35 -> 26.4 | I15: =+BAT!M35 -> 29 | ... N15: =+BAT!R35 -> 0 | P15: =+BAT!S35 -> 53.6 | Q15: =+BAT!T35 -> 48.65 | R15: =+BAT!U35 -> 50.9 | S15: =+BAT!V35 -> 56.6 | T15: =+BAT!W35 -> 56 | U15: =+BAT!X35 -> 64.8 | V15: =+BAT!Y35 -> 61 | W15: =+BAT!Z35 -> 59 | ... AB15: =+BAT!AE35 -> 0 | AD15: =+BAT!AF35 -> 7.6 | AE15: =+BAT!AG35 -> 7.3 | AF15: =+BAT!AH35 -> 9.2 | AG15: =+BAT!AI35 -> 5.9 | AH15: =+BAT!AJ35 -> 7.1 | AI15: =+BAT!AK35 -> 7.2 | AJ15: =+BAT!AL35 -> 5.24 | AK15: =+BAT!AM35 -> 5.8 | ... AP15: =+BAT!AR35 -> 0 | AR15: =+BAT!AS35 -> 0 | AS15: =+BAT!AT35 -> 0 | AT15: =+BAT!AU35 -> 0 | AU15: =+BAT!AV35 -> 0 | AV15: =+BAT!AW35 -> 0 | AW15: =+BAT!AX35 -> 0 | AX15: =+BAT!AY35 -> 0 | AY15: =+BAT!AZ35 -> 0 | ... BD15: =+BAT!BE35 -> 0 | BF15: =+BAT!BF35 -> 0 | BG15: =+BAT!BG35 -> 0 | BH15: =+BAT!BH35 -> 0 | BI15: =+BAT!BI35 -> 0 | BJ15: =+BAT!BJ35 -> 0 | BK15: =+BAT!BK35 -> 0 | BL15: =+BAT!BL35 -> 0 | BM15: =+BAT!BM35 -> 0 | ... BR15: =+BAT!BR35 -> 0 | BT15: =+BAT!BS35 -> 0 | BU15: =+BAT!BT35 -> 0 | BV15: =+BAT!BU35 -> 0 | BW15: =+BAT!BV35 -> 0 | BX15: =+BAT!BW35 -> 0 | BY15: =+BAT!BX35 -> 0 | BZ15: =+BAT!BY35 -> 0 | CA15: =+BAT!BZ35 -> 0 | ... CF15: =+BAT!CE35 -> 0 | CH15: =+BAT!CF35 -> 0 | CI15: =+BAT!CG35 -> 0 | CJ15: =+BAT!CH35 -> 0 | CK15: =+BAT!CI35 -> 0 | CL15: =+BAT!CJ35 -> 0 | CM15: =+BAT!CK35 -> 0 | CN15: =+BAT!CL35 -> 0 | CO15: =+BAT!CM35 -> 0 | ... CT15: =+BAT!CR35 -> 0 | CV15: =+BAT!CS35 -> 0 | CW15: =+BAT!CT35 -> 0 | CX15: =+BAT!CU35 -> 0 | CY15: =+BAT!CV35 -> 0 | CZ15: =+BAT!CW35 -> 0 | DA15: =+BAT!CX35 -> 0 | DB15: =+BAT!CY35 -> 0 | DC15: =+BAT!CZ35 -> 0 | ... DH15: =+BAT!DE35 -> 0 | DJ15: =+BAT!DF35 -> 0 | DK15: =+BAT!DG35 -> 0 | DL15: =+BAT!DH35 -> 0 | DM15: =+BAT!DI35 -> 0 | DN15: =+BAT!DJ35 -> 0 | DO15: =+BAT!DK35 -> 0 | DP15: =+BAT!DL35 -> 0 | DQ15: =+BAT!DM35 -> 0 | ... DV15: =+BAT!DR35 -> 0 | DX15: =+BAT!DS35 -> 88761 | DY15: =+BAT!DT35 -> 88761 | DZ15: =+BAT!DU35 -> 78740 | EA15: =+BAT!DV35 -> 78740 | EB15: =+BAT!DW35 -> 84587 | EC15: =+BAT!DX35 -> 81757 | ED15: =+BAT!DY35 -> 72390 | EE15: =+BAT!DZ35 -> 72035 | ... EJ15: =+BAT!EE35 -> 0 | EL15: =+BAT!EF35 -> 0 | EM15: =+BAT!EG35 -> 0 | EN15: =+BAT!EH35 -> 0 | EO15: =+BAT!EI35 -> 0 | EP15: =+BAT!EJ35 -> 0 | EQ15: =+BAT!EK35 -> 0 | ER15: =+BAT!EL35 -> 0 | ES15: =+BAT!EM35 -> 0 | ... EX15: =+BAT!ER35 -> 0 | EZ15: =+BAT!ES35 -> 0 | FA15: =+BAT!ET35 -> 0 | FB15: =+BAT!EU35 -> 0 | FC15: =+BAT!EV35 -> 0 | FD15: =+BAT!EW35 -> 0 | FE15: =+BAT!EX35 -> 0 | FF15: =+BAT!EY35 -> 0 | FG15: =+BAT!EZ35 -> 0 | ... FL15: =+BAT!FE35 -> 0 | FN15: =+BAT!FF35 -> 0 | FO15: =+BAT!FG35 -> 0 | FP15: =+BAT!FH35 -> 0 | FQ15: =+BAT!FI35 -> 0 | FR15: =+BAT!FJ35 -> 0 | FS15: =+BAT!FK35 -> 0 | FT15: =+BAT!FL35 -> 0 | FU15: =+BAT!FM35 -> 0 | ... FZ15: =+BAT!FR35 -> 0 | GB15: =IFERROR(P15*1000000/DX15,"") -> 603.86882 | GC15: =IFERROR(Q15*1000000/DY15,"") -> 548.10108 | GD15: =IFERROR(R15*1000000/DZ15,"") -> 646.43129 | GE15: =IFERROR(S15*1000000/EA15,"") -> 718.82144 | GF15: =IFERROR(T15*1000000/EB15,"") -> 662.04027 | GG15: =IFERROR(U15*1000000/EC15,"") -> 792.59268 | GH15: =IFERROR(V15*1000000/ED15,"") -> 842.65783 | GI15: =IFERROR(W15*1000000/EE15,"") -> 819.0463 | ... GN15: =IFERROR(AB15*1000000/EJ15,"") | GP15: =IFERROR(DX15/$DX15*100,"") -> 100 | GQ15: =IFERROR(DY15/$DX15*100,"") -> 100 | GR15: =IFERROR(DZ15/$DX15*100,"") -> 88.710132 | GS15: =IFERROR(EA15/$DX15*100,"") -> 88.710132 | GT15: =IFERROR(EB15/$DX15*100,"") -> 95.297484 | GU15: =IFERROR(EC15/$DX15*100,"") -> 92.109147 | GV15: =IFERROR(ED15/$DX15*100,"") -> 81.556089 | GW15: =IFERROR(EE15/$DX15*100,"") -> 81.156138 | ... HB15: =IFERROR(EJ15/$DX15*100,"") -> 0 | HD15: =IFERROR((P15/DX15)/($P$15/$DX$15)*100,"") -> 100 | HE15: =IFERROR((Q15/DY15)/($P$15/$DX$15)*100,"") -> 90.764925 | HF15: =IFERROR((R15/DZ15)/($P$15/$DX$15)*100,"") -> 107.0483 | HG15: =IFERROR((S15/EA15)/($P$15/$DX$15)*100,"") -> 119.03603 | HH15: =IFERROR((T15/EB15)/($P$15/$DX$15)*100,"") -> 109.63313 | HI15: =IFERROR((U15/EC15)/($P$15/$DX$15)*100,"") -> 131.25246 | HJ15: =IFERROR((V15/ED15)/($P$15/$DX$15)*100,"") -> 139.54319 | HK15: =IFERROR((W15/EE15)/($P$15/$DX$15)*100,"") -> 135.63315 | ... HP15: =IFERROR((AB15/EJ15)/($P$15/$DX$15)*100,"") | HR15: =IFERROR(EZ15/$EZ$15*100,"") | HS15: =IFERROR(FA15/$EZ$15*100,"") | HT15: =IFERROR(FB15/$EZ$15*100,"") | HU15: =IFERROR(FC15/$EZ$15*100,"") | HV15: =IFERROR(FD15/$EZ$15*100,"") | HW15: =IFERROR(FE15/$EZ$15*100,"") | HX15: =IFERROR(FF15/$EZ$15*100,"") | HY15: =IFERROR(FG15/$EZ$15*100,"") | ... ID15: =IFERROR(FL15/$EZ$15*100,"")
A16: FynBus | B16: =+FynBus!F35 -> 195.798 | C16: =+FynBus!G35 -> 131.727 | D16: =+FynBus!H35 -> 150.043 | E16: =+FynBus!I35 -> 155.787 | F16: =+FynBus!J35 -> 160.298 | G16: =+FynBus!K35 -> 157.518 | H16: =+FynBus!L35 -> 159.358 | I16: =+FynBus!M35 -> 161.348 | ... N16: =+FynBus!R35 -> 0 | P16: =+FynBus!S35 -> 487.221 | Q16: =+FynBus!T35 -> 491.738 | R16: =+FynBus!U35 -> 511.474 | S16: =+FynBus!V35 -> 544.72 | T16: =+FynBus!W35 -> 522.832 | U16: =+FynBus!X35 -> 518.044 | V16: =+FynBus!Y35 -> 515.521 | W16: =+FynBus!Z35 -> 533.45638 | ... AB16: =+FynBus!AE35 -> 0 | AD16: =+FynBus!AF35 -> 77.951 | AE16: =+FynBus!AG35 -> 79.03 | AF16: =+FynBus!AH35 -> 80.625 | AG16: =+FynBus!AI35 -> 84.575 | AH16: =+FynBus!AJ35 -> 84.193 | AI16: =+FynBus!AK35 -> 85.189 | AJ16: =+FynBus!AL35 -> 83.871 | AK16: =+FynBus!AM35 -> 95.755 | ... AP16: =+FynBus!AR35 -> 0 | AR16: =+FynBus!AS35 -> 0 | AS16: =+FynBus!AT35 -> 0 | AT16: =+FynBus!AU35 -> 0 | AU16: =+FynBus!AV35 -> 0 | AV16: =+FynBus!AW35 -> 0 | AW16: =+FynBus!AX35 -> 0 | AX16: =+FynBus!AY35 -> 0 | AY16: =+FynBus!AZ35 -> 0 | ... BD16: =+FynBus!BE35 -> 0 | BF16: =+FynBus!BF35 -> 0 | BG16: =+FynBus!BG35 -> 0 | BH16: =+FynBus!BH35 -> 0 | BI16: =+FynBus!BI35 -> 0 | BJ16: =+FynBus!BJ35 -> 0 | BK16: =+FynBus!BK35 -> 0 | BL16: =+FynBus!BL35 -> 0 | BM16: =+FynBus!BM35 -> 0 | ... BR16: =+FynBus!BR35 -> 0 | BT16: =+FynBus!BS35 -> 0 | BU16: =+FynBus!BT35 -> 0 | BV16: =+FynBus!BU35 -> 0 | BW16: =+FynBus!BV35 -> 0 | BX16: =+FynBus!BW35 -> 0 | BY16: =+FynBus!BX35 -> 0 | BZ16: =+FynBus!BY35 -> 0 | CA16: =+FynBus!BZ35 -> 0 | ... CF16: =+FynBus!CE35 -> 0 | CH16: =+FynBus!CF35 -> 0 | CI16: =+FynBus!CG35 -> 0 | CJ16: =+FynBus!CH35 -> 0 | CK16: =+FynBus!CI35 -> 0 | CL16: =+FynBus!CJ35 -> 0 | CM16: =+FynBus!CK35 -> 0 | CN16: =+FynBus!CL35 -> 0 | CO16: =+FynBus!CM35 -> 0 | ... CT16: =+FynBus!CR35 -> 0 | CV16: =+FynBus!CS35 -> 0 | CW16: =+FynBus!CT35 -> 0 | CX16: =+FynBus!CU35 -> 0 | CY16: =+FynBus!CV35 -> 0 | CZ16: =+FynBus!CW35 -> 0 | DA16: =+FynBus!CX35 -> 0 | DB16: =+FynBus!CY35 -> 0 | DC16: =+FynBus!CZ35 -> 0 | ... DH16: =+FynBus!DE35 -> 0 | DJ16: =+FynBus!DF35 -> 0 | DK16: =+FynBus!DG35 -> 0 | DL16: =+FynBus!DH35 -> 0 | DM16: =+FynBus!DI35 -> 0 | DN16: =+FynBus!DJ35 -> 0 | DO16: =+FynBus!DK35 -> 0 | DP16: =+FynBus!DL35 -> 0 | DQ16: =+FynBus!DM35 -> 0 | ... DV16: =+FynBus!DR35 -> 0 | DX16: =+FynBus!DS35 -> 613716 | DY16: =+FynBus!DT35 -> 612621 | DZ16: =+FynBus!DU35 -> 613426 | EA16: =+FynBus!DV35 -> 594508 | EB16: =+FynBus!DW35 -> 556367 | EC16: =+FynBus!DX35 -> 547218 | ED16: =+FynBus!DY35 -> 551266 | EE16: =+FynBus!DZ35 -> 548559 | ... EJ16: =+FynBus!EE35 -> 0 | EL16: =+FynBus!EF35 -> 0 | EM16: =+FynBus!EG35 -> 0 | EN16: =+FynBus!EH35 -> 0 | EO16: =+FynBus!EI35 -> 0 | EP16: =+FynBus!EJ35 -> 0 | EQ16: =+FynBus!EK35 -> 0 | ER16: =+FynBus!EL35 -> 0 | ES16: =+FynBus!EM35 -> 0 | ... EX16: =+FynBus!ER35 -> 0 | EZ16: =+FynBus!ES35 -> 14521000 | FA16: =+FynBus!ET35 -> 9472000 | FB16: =+FynBus!EU35 -> 8938000 | FC16: =+FynBus!EV35 -> 11162000 | FD16: =+FynBus!EW35 -> 11074000 | FE16: =+FynBus!EX35 -> 11301000 | FF16: =+FynBus!EY35 -> 10962000 | FG16: =+FynBus!EZ35 -> 10971000 | ... FL16: =+FynBus!FE35 -> 0 | FN16: =+FynBus!FF35 -> 0 | FO16: =+FynBus!FG35 -> 0 | FP16: =+FynBus!FH35 -> 0 | FQ16: =+FynBus!FI35 -> 0 | FR16: =+FynBus!FJ35 -> 0 | FS16: =+FynBus!FK35 -> 0 | FT16: =+FynBus!FL35 -> 0 | FU16: =+FynBus!FM35 -> 0 | ... FZ16: =+FynBus!FR35 -> 0 | GB16: =IFERROR(P16*1000000/DX16,"") -> 793.88675 | GC16: =IFERROR(Q16*1000000/DY16,"") -> 802.67898 | GD16: =IFERROR(R16*1000000/DZ16,"") -> 833.79902 | GE16: =IFERROR(S16*1000000/EA16,"") -> 916.25344 | GF16: =IFERROR(T16*1000000/EB16,"") -> 939.72504 | GG16: =IFERROR(U16*1000000/EC16,"") -> 946.6867 | GH16: =IFERROR(V16*1000000/ED16,"") -> 935.15834 | GI16: =IFERROR(W16*1000000/EE16,"") -> 972.46856 | ... GN16: =IFERROR(AB16*1000000/EJ16,"") | GP16: =IFERROR(DX16/$DX16*100,"") -> 100 | GQ16: =IFERROR(DY16/$DX16*100,"") -> 99.821579 | GR16: =IFERROR(DZ16/$DX16*100,"") -> 99.952747 | GS16: =IFERROR(EA16/$DX16*100,"") -> 96.870214 | GT16: =IFERROR(EB16/$DX16*100,"") -> 90.65545 | GU16: =IFERROR(EC16/$DX16*100,"") -> 89.164695 | GV16: =IFERROR(ED16/$DX16*100,"") -> 89.824284 | GW16: =IFERROR(EE16/$DX16*100,"") -> 89.3832 | ... HB16: =IFERROR(EJ16/$DX16*100,"") -> 0 | HD16: =IFERROR((P16/DX16)/($P$16/$DX$16)*100,"") -> 100 | HE16: =IFERROR((Q16/DY16)/($P$16/$DX$16)*100,"") -> 101.10749 | HF16: =IFERROR((R16/DZ16)/($P$16/$DX$16)*100,"") -> 105.02745 | HG16: =IFERROR((S16/EA16)/($P$16/$DX$16)*100,"") -> 115.41362 | HH16: =IFERROR((T16/EB16)/($P$16/$DX$16)*100,"") -> 118.37016 | HI16: =IFERROR((U16/EC16)/($P$16/$DX$16)*100,"") -> 119.24707 | HJ16: =IFERROR((V16/ED16)/($P$16/$DX$16)*100,"") -> 117.79493 | HK16: =IFERROR((W16/EE16)/($P$16/$DX$16)*100,"") -> 122.49462 | ... HP16: =IFERROR((AB16/EJ16)/($P$16/$DX$16)*100,"") | HR16: =IFERROR(EZ16/$EZ$16*100,"") -> 100 | HS16: =IFERROR(FA16/$EZ$16*100,"") -> 65.229667 | HT16: =IFERROR(FB16/$EZ$16*100,"") -> 61.552235 | HU16: =IFERROR(FC16/$EZ$16*100,"") -> 76.867984 | HV16: =IFERROR(FD16/$EZ$16*100,"") -> 76.261965 | HW16: =IFERROR(FE16/$EZ$16*100,"") -> 77.825219 | HX16: =IFERROR(FF16/$EZ$16*100,"") -> 75.490669 | HY16: =IFERROR(FG16/$EZ$16*100,"") -> 75.552648 | ... ID16: =IFERROR(FL16/$EZ$16*100,"") -> 0
A17: Midttrafik | B17: =+'Midttrafik '!F35 -> 685.5 | C17: =+'Midttrafik '!G35 -> 479.2 | D17: =+'Midttrafik '!H35 -> 446.6 | E17: =+'Midttrafik '!I35 -> 630.4 | F17: =+'Midttrafik '!J35 -> 677.2 | G17: =+'Midttrafik '!K35 -> 718 | H17: =+'Midttrafik '!L35 -> 695.17091 | I17: =+'Midttrafik '!M35 -> 711.615 | ... N17: =+'Midttrafik '!R35 -> 0 | P17: =+'Midttrafik '!S35 -> 1399 | Q17: =+'Midttrafik '!T35 -> 1369.9 | R17: =+'Midttrafik '!U35 -> 1409.9 | S17: =+'Midttrafik '!V35 -> 1539 | T17: =+'Midttrafik '!W35 -> 1473.3 | U17: =+'Midttrafik '!X35 -> 1494.4 | V17: =+'Midttrafik '!Y35 -> 1483.1488 | W17: =+'Midttrafik '!Z35 -> 1482.0096 | ... AB17: =+'Midttrafik '!AE35 -> 0 | AD17: =+'Midttrafik '!AF35 -> 0 | AE17: =+'Midttrafik '!AG35 -> 0 | AF17: =+'Midttrafik '!AH35 -> 0 | AG17: =+'Midttrafik '!AI35 -> 0 | AH17: =+'Midttrafik '!AJ35 -> 0 | AI17: =+'Midttrafik '!AK35 -> 0 | AJ17: =+'Midttrafik '!AL35 -> 0 | AK17: =+'Midttrafik '!AM35 -> 0 | ... AP17: =+'Midttrafik '!AR35 -> 0 | AR17: =+'Midttrafik '!AS35 -> 0 | AS17: =+'Midttrafik '!AT35 -> 0 | AT17: =+'Midttrafik '!AU35 -> 0 | AU17: =+'Midttrafik '!AV35 -> 0 | AV17: =+'Midttrafik '!AW35 -> 0 | AW17: =+'Midttrafik '!AX35 -> 0 | AX17: =+'Midttrafik '!AY35 -> 0 | AY17: =+'Midttrafik '!AZ35 -> 0 | ... BD17: =+'Midttrafik '!BE35 -> 0 | BF17: =+'Midttrafik '!BF35 -> 0 | BG17: =+'Midttrafik '!BG35 -> 0 | BH17: =+'Midttrafik '!BH35 -> 0 | BI17: =+'Midttrafik '!BI35 -> 0 | BJ17: =+'Midttrafik '!BJ35 -> 0 | BK17: =+'Midttrafik '!BK35 -> 0 | BL17: =+'Midttrafik '!BL35 -> 0 | BM17: =+'Midttrafik '!BM35 -> 0 | ... BR17: =+'Midttrafik '!BR35 -> 0 | BT17: =+'Midttrafik '!BS35 -> 0 | BU17: =+'Midttrafik '!BT35 -> 222.6 | BV17: =+'Midttrafik '!BU35 -> 226.6 | BW17: =+'Midttrafik '!BV35 -> 53 | BX17: =+'Midttrafik '!BW35 -> 30 | BY17: =+'Midttrafik '!BX35 -> 0 | BZ17: =+'Midttrafik '!BY35 -> 0 | CA17: =+'Midttrafik '!BZ35 -> 0 | ... CF17: =+'Midttrafik '!CE35 -> 0 | CH17: =+'Midttrafik '!CF35 -> 0 | CI17: =+'Midttrafik '!CG35 -> 0 | CJ17: =+'Midttrafik '!CH35 -> 0 | CK17: =+'Midttrafik '!CI35 -> 0 | CL17: =+'Midttrafik '!CJ35 -> 0 | CM17: =+'Midttrafik '!CK35 -> 0 | CN17: =+'Midttrafik '!CL35 -> 0 | CO17: =+'Midttrafik '!CM35 -> 0 | ... CT17: =+'Midttrafik '!CR35 -> 0 | CV17: =+'Midttrafik '!CS35 -> 0 | CW17: =+'Midttrafik '!CT35 -> 0 | CX17: =+'Midttrafik '!CU35 -> 0 | CY17: =+'Midttrafik '!CV35 -> 0 | CZ17: =+'Midttrafik '!CW35 -> 0 | DA17: =+'Midttrafik '!CX35 -> 0 | DB17: =+'Midttrafik '!CY35 -> 0 | DC17: =+'Midttrafik '!CZ35 -> 0 | ... DH17: =+'Midttrafik '!DE35 -> 0 | DJ17: =+'Midttrafik '!DF35 -> 0 | DK17: =+'Midttrafik '!DG35 -> 0 | DL17: =+'Midttrafik '!DH35 -> 0 | DM17: =+'Midttrafik '!DI35 -> 0 | DN17: =+'Midttrafik '!DJ35 -> 0 | DO17: =+'Midttrafik '!DK35 -> 0 | DP17: =+'Midttrafik '!DL35 -> 0 | DQ17: =+'Midttrafik '!DM35 -> 0 | ... DV17: =+'Midttrafik '!DR35 -> 0 | DX17: =+'Midttrafik '!DS35 -> 1895043.9 | DY17: =+'Midttrafik '!DT35 -> 1854608.3 | DZ17: =+'Midttrafik '!DU35 -> 1854469.6 | EA17: =+'Midttrafik '!DV35 -> 1847286 | EB17: =+'Midttrafik '!DW35 -> 1791486.2 | EC17: =+'Midttrafik '!DX35 -> 1713778.4 | ED17: =+'Midttrafik '!DY35 -> 1655443 | EE17: =+'Midttrafik '!DZ35 -> 1647967 | ... EJ17: =+'Midttrafik '!EE35 -> 0 | EL17: =+'Midttrafik '!EF35 -> 0 | EM17: =+'Midttrafik '!EG35 -> 0 | EN17: =+'Midttrafik '!EH35 -> 0 | EO17: =+'Midttrafik '!EI35 -> 0 | EP17: =+'Midttrafik '!EJ35 -> 0 | EQ17: =+'Midttrafik '!EK35 -> 0 | ER17: =+'Midttrafik '!EL35 -> 0 | ES17: =+'Midttrafik '!EM35 -> 0 | ... EX17: =+'Midttrafik '!ER35 -> 0 | EZ17: =+'Midttrafik '!ES35 -> 47762705 | FA17: =+'Midttrafik '!ET35 -> 30802886 | FB17: =+'Midttrafik '!EU35 -> 30076033 | FC17: =+'Midttrafik '!EV35 -> 39635856 | FD17: =+'Midttrafik '!EW35 -> 42961260 | FE17: =+'Midttrafik '!EX35 -> 48830000 | FF17: =+'Midttrafik '!EY35 -> 48440000 | FG17: =+'Midttrafik '!EZ35 -> 48400000 | ... FL17: =+'Midttrafik '!FE35 -> 0 | FN17: =+'Midttrafik '!FF35 -> 0 | FO17: =+'Midttrafik '!FG35 -> 0 | FP17: =+'Midttrafik '!FH35 -> 0 | FQ17: =+'Midttrafik '!FI35 -> 0 | FR17: =+'Midttrafik '!FJ35 -> 0 | FS17: =+'Midttrafik '!FK35 -> 0 | FT17: =+'Midttrafik '!FL35 -> 0 | FU17: =+'Midttrafik '!FM35 -> 0 | ... FZ17: =+'Midttrafik '!FR35 -> 0 | GB17: =IFERROR(P17*1000000/DX17,"") -> 738.24148 | GC17: =IFERROR(Q17*1000000/DY17,"") -> 738.64655 | GD17: =IFERROR(R17*1000000/DZ17,"") -> 760.27129 | GE17: =IFERROR(S17*1000000/EA17,"") -> 833.11409 | GF17: =IFERROR(T17*1000000/EB17,"") -> 822.38981 | GG17: =IFERROR(U17*1000000/EC17,"") -> 871.99139 | GH17: =IFERROR(V17*1000000/ED17,"") -> 895.92257 | GI17: =IFERROR(W17*1000000/EE17,"") -> 899.29568 | ... GN17: =IFERROR(AB17*1000000/EJ17,"") | GP17: =IFERROR(DX17/$DX17*100,"") -> 100 | GQ17: =IFERROR(DY17/$DX17*100,"") -> 97.866244 | GR17: =IFERROR(DZ17/$DX17*100,"") -> 97.858926 | GS17: =IFERROR(EA17/$DX17*100,"") -> 97.479853 | GT17: =IFERROR(EB17/$DX17*100,"") -> 94.535341 | GU17: =IFERROR(EC17/$DX17*100,"") -> 90.434759 | GV17: =IFERROR(ED17/$DX17*100,"") -> 87.356446 | GW17: =IFERROR(EE17/$DX17*100,"") -> 86.961944 | ... HB17: =IFERROR(EJ17/$DX17*100,"") -> 0 | HD17: =IFERROR((P17/DX17)/($P$17/$DX$17)*100,"") -> 100 | HE17: =IFERROR((Q17/DY17)/($P$17/$DX$17)*100,"") -> 100.05487 | HF17: =IFERROR((R17/DZ17)/($P$17/$DX$17)*100,"") -> 102.98409 | HG17: =IFERROR((S17/EA17)/($P$17/$DX$17)*100,"") -> 112.85116 | HH17: =IFERROR((T17/EB17)/($P$17/$DX$17)*100,"") -> 111.39848 | HI17: =IFERROR((U17/EC17)/($P$17/$DX$17)*100,"") -> 118.11737 | HJ17: =IFERROR((V17/ED17)/($P$17/$DX$17)*100,"") -> 121.35901 | HK17: =IFERROR((W17/EE17)/($P$17/$DX$17)*100,"") -> 121.81592 | ... HP17: =IFERROR((AB17/EJ17)/($P$17/$DX$17)*100,"") | HR17: =IFERROR(EZ17/$EZ$17*100,"") -> 100 | HS17: =IFERROR(FA17/$EZ$17*100,"") -> 64.491502 | HT17: =IFERROR(FB17/$EZ$17*100,"") -> 62.969702 | HU17: =IFERROR(FC17/$EZ$17*100,"") -> 82.984948 | HV17: =IFERROR(FD17/$EZ$17*100,"") -> 89.947293 | HW17: =IFERROR(FE17/$EZ$17*100,"") -> 102.23458 | HX17: =IFERROR(FF17/$EZ$17*100,"") -> 101.41804 | HY17: =IFERROR(FG17/$EZ$17*100,"") -> 101.33429 | ... ID17: =IFERROR(FL17/$EZ$17*100,"") -> 0
A18: Movia | B18: =+Movia!F67 -> 1696.3558 | C18: =+Movia!G67 -> 1116.017 | D18: =+Movia!H67 -> 1205.1069 | E18: =+Movia!I67 -> 1451.5634 | F18: =+Movia!J67 -> 1663.9977 | G18: =+Movia!K67 -> 1850.1409 | H18: =+Movia!L67 -> 1811.3344 | I18: =+Movia!M67 -> 1741.5145 | ... N18: =+Movia!R67 -> 0 | P18: =+Movia!S67 -> 3110.7431 | Q18: =+Movia!T67 -> 3060.2948 | R18: =+Movia!U67 -> 3173.0968 | S18: =+Movia!V67 -> 3480.3062 | T18: =+Movia!W67 -> 3512.4327 | U18: =+Movia!X67 -> 3400.2647 | V18: =+Movia!Y67 -> 3464.6592 | W18: =+Movia!Z67 -> 3405.673 | ... AB18: =+Movia!AE67 -> 0 | AD18: =+Movia!AF67 -> 359.92364 | AE18: =+Movia!AG67 -> 370.4121 | AF18: =+Movia!AH67 -> 391.02592 | AG18: =+Movia!AI67 -> 365.40596 | AH18: =+Movia!AJ67 -> 392.20179 | AI18: =+Movia!AK67 -> 414.58988 | AJ18: =+Movia!AL67 -> 420.95926 | AK18: =+Movia!AM67 -> 423.02182 | ... AP18: =+Movia!AR67 -> 0 | AR18: =+Movia!AS67 -> 18.5569 | AS18: =+Movia!AT67 -> 20.62186 | AT18: =+Movia!AU67 -> 21.31146 | AU18: =+Movia!AV67 -> 22.51975 | AV18: =+Movia!AW67 -> 23.59828 | AW18: =+Movia!AX67 -> 26.7543 | AX18: =+Movia!AY67 -> 24.65137 | AY18: =+Movia!AZ67 -> 29.76613 | ... BD18: =+Movia!BE67 -> 0 | BF18: =+Movia!BF67 -> 16.32312 | BG18: =+Movia!BG67 -> 32.78936 | BH18: =+Movia!BH67 -> 6.84719 | BI18: =+Movia!BI67 -> 6.80575 | BJ18: =+Movia!BJ67 -> 12.20787 | BK18: =+Movia!BK67 -> 4.72356 | BL18: =+Movia!BL67 -> 11.22718 | BM18: =+Movia!BM67 -> 2.79293 | ... BR18: =+Movia!BR67 -> 0 | BT18: =+Movia!BS67 -> 0 | BU18: =+Movia!BT67 -> -499.35624 | BV18: =+Movia!BU67 -> -446.91748 | BW18: =+Movia!BV67 -> -103.78071 | BX18: =+Movia!BW67 -> -62.06972 | BY18: =+Movia!BX67 -> -1.69436 | BZ18: =+Movia!BY67 -> 0 | CA18: =+Movia!BZ67 -> 0 | ... CF18: =+Movia!CE67 -> 0 | CH18: =+Movia!CF67 -> 3505.5468 | CI18: =+Movia!CG67 -> 3484.1181 | CJ18: =+Movia!CH67 -> 3592.2814 | CK18: =+Movia!CI67 -> 3875.0377 | CL18: =+Movia!CJ67 -> 3940.4407 | CM18: =+Movia!CK67 -> 3846.3324 | CN18: =+Movia!CL67 -> 3921.497 | CO18: =+Movia!CM67 -> 3861.2539 | ... CT18: =+Movia!CR67 -> 0 | CV18: =+Movia!CS67 -> 1809.191 | CW18: =+Movia!CT67 -> 1868.7449 | CX18: =+Movia!CU67 -> 1940.257 | CY18: =+Movia!CV67 -> 2319.6936 | CZ18: =+Movia!CW67 -> 2214.3733 | DA18: =+Movia!CX67 -> 1994.4971 | DB18: =+Movia!CY67 -> 2110.1626 | DC18: =+Movia!CZ67 -> 2119.7394 | ... DH18: =+Movia!DE67 -> 0 | DJ18: =+Movia!DF67 -> 0.1027 | DK18: =+Movia!DG67 -> 0.1063 | DL18: =+Movia!DH67 -> 0.1089 | DM18: =+Movia!DI67 -> 0.0943 | DN18: =+Movia!DJ67 -> 0.0995 | DO18: =+Movia!DK67 -> 0.1078 | DP18: =+Movia!DL67 -> 0.1073 | DQ18: =+Movia!DM67 -> 0.1096 | ... DV18: =+Movia!DR67 -> 0 | DX18: =+Movia!DS67 -> 4232703.6 | DY18: =+Movia!DT67 -> 4084195.9 | DZ18: =+Movia!DU67 -> 4077598.3 | EA18: =+Movia!DV67 -> 4119024 | EB18: =+Movia!DW67 -> 4114494 | EC18: =+Movia!DX67 -> 4061247.3 | ED18: =+Movia!DY67 -> 4028943.2 | EE18: =+Movia!DZ67 -> 3997256.4 | ... EJ18: =+Movia!EE67 -> 0 | EL18: =+Movia!EF67 -> 0 | EM18: =+Movia!EG67 -> 0 | EN18: =+Movia!EH67 -> 0 | EO18: =+Movia!EI67 -> 0 | EP18: =+Movia!EJ67 -> 0 | EQ18: =+Movia!EK67 -> 0 | ER18: =+Movia!EL67 -> 0 | ES18: =+Movia!EM67 -> 0 | ... EX18: =+Movia!ER67 -> 0 | EZ18: =+Movia!ES67 -> 1.8843245e+08 | FA18: =+Movia!ET67 -> 1.1957818e+08 | FB18: =+Movia!EU67 -> 1.1763289e+08 | FC18: =+Movia!EV67 -> 1.4700139e+08 | FD18: =+Movia!EW67 -> 1.6011168e+08 | FE18: =+Movia!EX67 -> 1.6214147e+08 | FF18: =+Movia!EY67 -> 1.596628e+08 | FG18: =+Movia!EZ67 -> 1.5637608e+08 | ... FL18: =+Movia!FE67 -> 0 | FN18: =+Movia!FF67 -> 0 | FO18: =+Movia!FG67 -> 0 | FP18: =+Movia!FH67 -> 0 | FQ18: =+Movia!FI67 -> 0 | FR18: =+Movia!FJ67 -> 0 | FS18: =+Movia!FK67 -> 0 | FT18: =+Movia!FL67 -> 0 | FU18: =+Movia!FM67 -> 0 | ... FZ18: =+Movia!FR67 -> 0 | GB18: =IFERROR(P18*1000000/DX18,"") -> 734.93053 | GC18: =IFERROR(Q18*1000000/DY18,"") -> 749.30167 | GD18: =IFERROR(R18*1000000/DZ18,"") -> 778.17788 | GE18: =IFERROR(S18*1000000/EA18,"") -> 844.93469 | GF18: =IFERROR(T18*1000000/EB18,"") -> 853.67308 | GG18: =IFERROR(U18*1000000/EC18,"") -> 837.24639 | GH18: =IFERROR(V18*1000000/ED18,"") -> 859.94243 | GI18: =IFERROR(W18*1000000/EE18,"") -> 852.00265 | ... GN18: =IFERROR(AB18*1000000/EJ18,"") | GP18: =IFERROR(DX18/$DX18*100,"") -> 100 | GQ18: =IFERROR(DY18/$DX18*100,"") -> 96.491422 | GR18: =IFERROR(DZ18/$DX18*100,"") -> 96.33555 | GS18: =IFERROR(EA18/$DX18*100,"") -> 97.314255 | GT18: =IFERROR(EB18/$DX18*100,"") -> 97.207231 | GU18: =IFERROR(EC18/$DX18*100,"") -> 95.949248 | GV18: =IFERROR(ED18/$DX18*100,"") -> 95.186047 | GW18: =IFERROR(EE18/$DX18*100,"") -> 94.437427 | ... HB18: =IFERROR(EJ18/$DX18*100,"") -> 0 | HD18: =IFERROR((P18/DX18)/($P$18/$DX$18)*100,"") -> 100 | HE18: =IFERROR((Q18/DY18)/($P$18/$DX$18)*100,"") -> 101.95544 | HF18: =IFERROR((R18/DZ18)/($P$18/$DX$18)*100,"") -> 105.88455 | HG18: =IFERROR((S18/EA18)/($P$18/$DX$18)*100,"") -> 114.96797 | HH18: =IFERROR((T18/EB18)/($P$18/$DX$18)*100,"") -> 116.15698 | HI18: =IFERROR((U18/EC18)/($P$18/$DX$18)*100,"") -> 113.92184 | HJ18: =IFERROR((V18/ED18)/($P$18/$DX$18)*100,"") -> 117.01003 | HK18: =IFERROR((W18/EE18)/($P$18/$DX$18)*100,"") -> 115.92969 | ... HP18: =IFERROR((AB18/EJ18)/($P$18/$DX$18)*100,"") | HR18: =IFERROR(EZ18/$EZ$18*100,"") -> 100 | HS18: =IFERROR(FA18/$EZ$18*100,"") -> 63.459439 | HT18: =IFERROR(FB18/$EZ$18*100,"") -> 62.427085 | HU18: =IFERROR(FC18/$EZ$18*100,"") -> 78.012779 | HV18: =IFERROR(FD18/$EZ$18*100,"") -> 84.970334 | HW18: =IFERROR(FE18/$EZ$18*100,"") -> 86.047529 | HX18: =IFERROR(FF18/$EZ$18*100,"") -> 84.732115 | HY18: =IFERROR(FG18/$EZ$18*100,"") -> 82.98787 | ... ID18: =IFERROR(FL18/$EZ$18*100,"") -> 0
A19: NT | B19: =+NT!F35 -> 292.58901 | C19: =+NT!G35 -> 212.09785 | D19: =+NT!H35 -> 209.79303 | E19: =+NT!I35 -> 263.02589 | F19: =+NT!J35 -> 302.98759 | G19: =+NT!K35 -> 325.92227 | H19: =+NT!L35 -> 322.38243 | I19: =+NT!M35 -> 342.99485 | ... N19: =+NT!R35 -> 0 | P19: =+NT!S35 -> 695.06337 | Q19: =+NT!T35 -> 706.30174 | R19: =+NT!U35 -> 734.54132 | S19: =+NT!V35 -> 810.13407 | T19: =+NT!W35 -> 781.88199 | U19: =+NT!X35 -> 743.75048 | V19: =+NT!Y35 -> 787.00537 | W19: =+NT!Z35 -> 807.4561 | ... AB19: =+NT!AE35 -> 0 | AD19: =+NT!AF35 -> 96.376574 | AE19: =+NT!AG35 -> 106.6149 | AF19: =+NT!AH35 -> 96.978764 | AG19: =+NT!AI35 -> 93.261496 | AH19: =+NT!AJ35 -> 99.72974 | AI19: =+NT!AK35 -> 104.04387 | AJ19: =+NT!AL35 -> 104.32566 | AK19: =+NT!AM35 -> 113.29484 | ... AP19: =+NT!AR35 -> 0 | AR19: =+NT!AS35 -> 0 | AS19: =+NT!AT35 -> 0 | AT19: =+NT!AU35 -> 0 | AU19: =+NT!AV35 -> 0 | AV19: =+NT!AW35 -> 0 | AW19: =+NT!AX35 -> 0 | AX19: =+NT!AY35 -> 0 | AY19: =+NT!AZ35 -> 0 | ... BD19: =+NT!BE35 -> 0 | BF19: =+NT!BF35 -> 3.1373987 | BG19: =+NT!BG35 -> 5.318676 | BH19: =+NT!BH35 -> 3.0640188 | BI19: =+NT!BI35 -> 0.6741727 | BJ19: =+NT!BJ35 -> 5.7294563 | BK19: =+NT!BK35 -> 3.6647931 | BL19: =+NT!BL35 -> 4.7102963 | BM19: =+NT!BM35 -> 5.5729863 | ... BR19: =+NT!BR35 -> 0 | BT19: =+NT!BS35 -> 0 | BU19: =+NT!BT35 -> 112.93558 | BV19: =+NT!BU35 -> 120.95768 | BW19: =+NT!BV35 -> 38.739127 | BX19: =+NT!BW35 -> 11.298228 | BY19: =+NT!BX35 -> -0.5789675 | BZ19: =+NT!BY35 -> 0 | CA19: =+NT!BZ35 -> 0 | ... CF19: =+NT!CE35 -> 0 | CH19: =+NT!CF35 -> 794.57734 | CI19: =+NT!CG35 -> 818.23531 | CJ19: =+NT!CH35 -> 834.5841 | CK19: =+NT!CI35 -> 904.06973 | CL19: =+NT!CJ35 -> 887.34118 | CM19: =+NT!CK35 -> 851.45914 | CN19: =+NT!CL35 -> 896.04133 | CO19: =+NT!CM35 -> 926.32393 | ... CT19: =+NT!CR35 -> 0 | CV19: =+NT!CS35 -> 501.98833 | CW19: =+NT!CT35 -> 493.20188 | CX19: =+NT!CU35 -> 503.83339 | CY19: =+NT!CV35 -> 602.30472 | CZ19: =+NT!CW35 -> 573.05536 | DA19: =+NT!CX35 -> 526.11584 | DB19: =+NT!CY35 -> 573.6589 | DC19: =+NT!CZ35 -> 583.32908 | ... DH19: =+NT!DE35 -> 0 | DJ19: =+NT!DF35 -> 0.12129288 | DK19: =+NT!DG35 -> 0.13029858 | DL19: =+NT!DH35 -> 0.11620011 | DM19: =+NT!DI35 -> 0.10315741 | DN19: =+NT!DJ35 -> 0.11239165 | DO19: =+NT!DK35 -> 0.12219479 | DP19: =+NT!DL35 -> 0.11642952 | DQ19: =+NT!DM35 -> 0.12230586 | ... DV19: =+NT!DR35 -> 0 | DX19: =+NT!DS35 -> 914096.12 | DY19: =+NT!DT35 -> 908325.76 | DZ19: =+NT!DU35 -> 902110.55 | EA19: =+NT!DV35 -> 899044.1 | EB19: =+NT!DW35 -> 863332.1 | EC19: =+NT!DX35 -> 840986 | ED19: =+NT!DY35 -> 844435 | EE19: =+NT!DZ35 -> 852061 | ... EJ19: =+NT!EE35 -> 0 | EL19: =+NT!EF35 -> 0 | EM19: =+NT!EG35 -> 0 | EN19: =+NT!EH35 -> 0 | EO19: =+NT!EI35 -> 0 | EP19: =+NT!EJ35 -> 0 | EQ19: =+NT!EK35 -> 0 | ER19: =+NT!EL35 -> 0 | ES19: =+NT!EM35 -> 0 | ... EX19: =+NT!ER35 -> 0 | EZ19: =+NT!ES35 -> 21218482 | FA19: =+NT!ET35 -> 12667394 | FB19: =+NT!EU35 -> 11598830 | FC19: =+NT!EV35 -> 15723048 | FD19: =+NT!EW35 -> 17826495 | FE19: =+NT!EX35 -> 18258876 | FF19: =+NT!EY35 -> 18765805 | FG19: =+NT!EZ35 -> 0 | ... FL19: =+NT!FE35 -> 0 | FN19: =+NT!FF35 -> 0 | FO19: =+NT!FG35 -> 0 | FP19: =+NT!FH35 -> 0 | FQ19: =+NT!FI35 -> 0 | FR19: =+NT!FJ35 -> 0 | FS19: =+NT!FK35 -> 0 | FT19: =+NT!FL35 -> 0 | FU19: =+NT!FM35 -> 0 | ... FZ19: =+NT!FR35 -> 0 | GB19: =IFERROR(P19*1000000/DX19,"") -> 760.38325 | GC19: =IFERROR(Q19*1000000/DY19,"") -> 777.58638 | GD19: =IFERROR(R19*1000000/DZ19,"") -> 814.24757 | GE19: =IFERROR(S19*1000000/EA19,"") -> 901.10604 | GF19: =IFERROR(T19*1000000/EB19,"") -> 905.6561 | GG19: =IFERROR(U19*1000000/EC19,"") -> 884.37915 | GH19: =IFERROR(V19*1000000/ED19,"") -> 931.99047 | GI19: =IFERROR(W19*1000000/EE19,"") -> 947.65058 | ... GN19: =IFERROR(AB19*1000000/EJ19,"") | GP19: =IFERROR(DX19/$DX19*100,"") -> 100 | GQ19: =IFERROR(DY19/$DX19*100,"") -> 99.368736 | GR19: =IFERROR(DZ19/$DX19*100,"") -> 98.688807 | GS19: =IFERROR(EA19/$DX19*100,"") -> 98.353344 | GT19: =IFERROR(EB19/$DX19*100,"") -> 94.446534 | GU19: =IFERROR(EC19/$DX19*100,"") -> 92.001922 | GV19: =IFERROR(ED19/$DX19*100,"") -> 92.379235 | GW19: =IFERROR(EE19/$DX19*100,"") -> 93.213502 | ... HB19: =IFERROR(EJ19/$DX19*100,"") -> 0 | HD19: =IFERROR((P19/DX19)/($P$19/$DX$19)*100,"") -> 100 | HE19: =IFERROR((Q19/DY19)/($P$19/$DX$19)*100,"") -> 102.26243 | HF19: =IFERROR((R19/DZ19)/($P$19/$DX$19)*100,"") -> 107.08384 | HG19: =IFERROR((S19/EA19)/($P$19/$DX$19)*100,"") -> 118.50682 | HH19: =IFERROR((T19/EB19)/($P$19/$DX$19)*100,"") -> 119.10522 | HI19: =IFERROR((U19/EC19)/($P$19/$DX$19)*100,"") -> 116.30703 | HJ19: =IFERROR((V19/ED19)/($P$19/$DX$19)*100,"") -> 122.56852 | HK19: =IFERROR((W19/EE19)/($P$19/$DX$19)*100,"") -> 124.62802 | ... HP19: =IFERROR((AB19/EJ19)/($P$19/$DX$19)*100,"") | HR19: =IFERROR(EZ19/$EZ$19*100,"") -> 100 | HS19: =IFERROR(FA19/$EZ$19*100,"") -> 59.699813 | HT19: =IFERROR(FB19/$EZ$19*100,"") -> 54.663807 | HU19: =IFERROR(FC19/$EZ$19*100,"") -> 74.10072 | HV19: =IFERROR(FD19/$EZ$19*100,"") -> 84.013998 | HW19: =IFERROR(FE19/$EZ$19*100,"") -> 86.051754 | HX19: =IFERROR(FF19/$EZ$19*100,"") -> 88.440846 | HY19: =IFERROR(FG19/$EZ$19*100,"") -> 0 | ... ID19: =IFERROR(FL19/$EZ$19*100,"") -> 0
A20: Sydtrafik | B20: =+Sydtrafik!F35 -> 243.6 | C20: =+Sydtrafik!G35 -> 185.7 | D20: =+Sydtrafik!H35 -> 159.5 | E20: =+Sydtrafik!I35 -> 226.3 | F20: =+Sydtrafik!J35 -> 237 | G20: =+Sydtrafik!K35 -> 247.5 | H20: =+Sydtrafik!L35 -> 235.5 | I20: =+Sydtrafik!M35 -> 233.9 | ... N20: =+Sydtrafik!R35 -> 0 | P20: =+Sydtrafik!S35 -> 605.2 | Q20: =+Sydtrafik!T35 -> 588.5 | R20: =+Sydtrafik!U35 -> 589 | S20: =+Sydtrafik!V35 -> 641.8 | T20: =+Sydtrafik!W35 -> 649.2 | U20: =+Sydtrafik!X35 -> 644.4 | V20: =+Sydtrafik!Y35 -> 653 | W20: =+Sydtrafik!Z35 -> 674.5 | ... AB20: =+Sydtrafik!AE35 -> 0 | AD20: =+Sydtrafik!AF35 -> 79.8 | AE20: =+Sydtrafik!AG35 -> 73.6 | AF20: =+Sydtrafik!AH35 -> 80.8 | AG20: =+Sydtrafik!AI35 -> 80.2 | AH20: =+Sydtrafik!AJ35 -> 78.2 | AI20: =+Sydtrafik!AK35 -> 76 | AJ20: =+Sydtrafik!AL35 -> 80.5 | AK20: =+Sydtrafik!AM35 -> 90.5 | ... AP20: =+Sydtrafik!AR35 -> 0 | AR20: =+Sydtrafik!AS35 -> 0 | AS20: =+Sydtrafik!AT35 -> 0 | AT20: =+Sydtrafik!AU35 -> 0 | AU20: =+Sydtrafik!AV35 -> 0 | AV20: =+Sydtrafik!AW35 -> 0 | AW20: =+Sydtrafik!AX35 -> 0 | AX20: =+Sydtrafik!AY35 -> 0 | AY20: =+Sydtrafik!AZ35 -> 0 | ... BD20: =+Sydtrafik!BE35 -> 0 | BF20: =+Sydtrafik!BF35 -> 0 | BG20: =+Sydtrafik!BG35 -> 0 | BH20: =+Sydtrafik!BH35 -> 0 | BI20: =+Sydtrafik!BI35 -> 0 | BJ20: =+Sydtrafik!BJ35 -> 0 | BK20: =+Sydtrafik!BK35 -> 0 | BL20: =+Sydtrafik!BL35 -> 0 | BM20: =+Sydtrafik!BM35 -> 0 | ... BR20: =+Sydtrafik!BR35 -> 0 | BT20: =+Sydtrafik!BS35 -> 0 | BU20: =+Sydtrafik!BT35 -> 73.4 | BV20: =+Sydtrafik!BU35 -> 88 | BW20: =+Sydtrafik!BV35 -> 26.3 | BX20: =+Sydtrafik!BW35 -> 9.2 | BY20: =+Sydtrafik!BX35 -> 0 | BZ20: =+Sydtrafik!BY35 -> 0 | CA20: =+Sydtrafik!BZ35 -> 0 | ... CF20: =+Sydtrafik!CE35 -> 0 | CH20: =+Sydtrafik!CF35 -> 0 | CI20: =+Sydtrafik!CG35 -> 0 | CJ20: =+Sydtrafik!CH35 -> 0 | CK20: =+Sydtrafik!CI35 -> 0 | CL20: =+Sydtrafik!CJ35 -> 0 | CM20: =+Sydtrafik!CK35 -> 0 | CN20: =+Sydtrafik!CL35 -> 0 | CO20: =+Sydtrafik!CM35 -> 0 | ... CT20: =+Sydtrafik!CR35 -> 0 | CV20: =+Sydtrafik!CS35 -> 0 | CW20: =+Sydtrafik!CT35 -> 0 | CX20: =+Sydtrafik!CU35 -> 0 | CY20: =+Sydtrafik!CV35 -> 0 | CZ20: =+Sydtrafik!CW35 -> 0 | DA20: =+Sydtrafik!CX35 -> 0 | DB20: =+Sydtrafik!CY35 -> 0 | DC20: =+Sydtrafik!CZ35 -> 0 | ... DH20: =+Sydtrafik!DE35 -> 0 | DJ20: =+Sydtrafik!DF35 -> 0 | DK20: =+Sydtrafik!DG35 -> 0 | DL20: =+Sydtrafik!DH35 -> 0 | DM20: =+Sydtrafik!DI35 -> 0 | DN20: =+Sydtrafik!DJ35 -> 0 | DO20: =+Sydtrafik!DK35 -> 0 | DP20: =+Sydtrafik!DL35 -> 0 | DQ20: =+Sydtrafik!DM35 -> 0 | ... DV20: =+Sydtrafik!DR35 -> 0 | DX20: =+Sydtrafik!DS35 -> 841838 | DY20: =+Sydtrafik!DT35 -> 833700 | DZ20: =+Sydtrafik!DU35 -> 804414 | EA20: =+Sydtrafik!DV35 -> 796022 | EB20: =+Sydtrafik!DW35 -> 785940 | EC20: =+Sydtrafik!DX35 -> 773528 | ED20: =+Sydtrafik!DY35 -> 771832 | EE20: =+Sydtrafik!DZ35 -> 778171 | ... EJ20: =+Sydtrafik!EE35 -> 0 | EL20: =+Sydtrafik!EF35 -> 0 | EM20: =+Sydtrafik!EG35 -> 0 | EN20: =+Sydtrafik!EH35 -> 0 | EO20: =+Sydtrafik!EI35 -> 0 | EP20: =+Sydtrafik!EJ35 -> 0 | EQ20: =+Sydtrafik!EK35 -> 0 | ER20: =+Sydtrafik!EL35 -> 0 | ES20: =+Sydtrafik!EM35 -> 0 | ... EX20: =+Sydtrafik!ER35 -> 0 | EZ20: =+Sydtrafik!ES35 -> 14119161 | FA20: =+Sydtrafik!ET35 -> 9261016 | FB20: =+Sydtrafik!EU35 -> 8358961 | FC20: =+Sydtrafik!EV35 -> 11354419 | FD20: =+Sydtrafik!EW35 -> 11586082 | FE20: =+Sydtrafik!EX35 -> 11723996 | FF20: =+Sydtrafik!EY35 -> 12070577 | FG20: =+Sydtrafik!EZ35 -> 0 | ... FL20: =+Sydtrafik!FE35 -> 0 | FN20: =+Sydtrafik!FF35 -> 0 | FO20: =+Sydtrafik!FG35 -> 0 | FP20: =+Sydtrafik!FH35 -> 0 | FQ20: =+Sydtrafik!FI35 -> 0 | FR20: =+Sydtrafik!FJ35 -> 0 | FS20: =+Sydtrafik!FK35 -> 0 | FT20: =+Sydtrafik!FL35 -> 0 | FU20: =+Sydtrafik!FM35 -> 0 | ... FZ20: =+Sydtrafik!FR35 -> 0 | GB20: =IFERROR(P20*1000000/DX20,"") -> 718.90316 | GC20: =IFERROR(Q20*1000000/DY20,"") -> 705.88941 | GD20: =IFERROR(R20*1000000/DZ20,"") -> 732.21003 | GE20: =IFERROR(S20*1000000/EA20,"") -> 806.25912 | GF20: =IFERROR(T20*1000000/EB20,"") -> 826.01725 | GG20: =IFERROR(U20*1000000/EC20,"") -> 833.06616 | GH20: =IFERROR(V20*1000000/ED20,"") -> 846.03903 | GI20: =IFERROR(W20*1000000/EE20,"") -> 866.77607 | ... GN20: =IFERROR(AB20*1000000/EJ20,"") | GP20: =IFERROR(DX20/$DX20*100,"") -> 100 | GQ20: =IFERROR(DY20/$DX20*100,"") -> 99.033306 | GR20: =IFERROR(DZ20/$DX20*100,"") -> 95.554489 | GS20: =IFERROR(EA20/$DX20*100,"") -> 94.557623 | GT20: =IFERROR(EB20/$DX20*100,"") -> 93.360005 | GU20: =IFERROR(EC20/$DX20*100,"") -> 91.885612 | GV20: =IFERROR(ED20/$DX20*100,"") -> 91.684148 | GW20: =IFERROR(EE20/$DX20*100,"") -> 92.437143 | ... HB20: =IFERROR(EJ20/$DX20*100,"") -> 0 | HD20: =IFERROR((P20/DX20)/($P$20/$DX$20)*100,"") -> 100 | HE20: =IFERROR((Q20/DY20)/($P$20/$DX$20)*100,"") -> 98.189777 | HF20: =IFERROR((R20/DZ20)/($P$20/$DX$20)*100,"") -> 101.851 | HG20: =IFERROR((S20/EA20)/($P$20/$DX$20)*100,"") -> 112.15128 | HH20: =IFERROR((T20/EB20)/($P$20/$DX$20)*100,"") -> 114.89966 | HI20: =IFERROR((U20/EC20)/($P$20/$DX$20)*100,"") -> 115.88016 | HJ20: =IFERROR((V20/ED20)/($P$20/$DX$20)*100,"") -> 117.6847 | HK20: =IFERROR((W20/EE20)/($P$20/$DX$20)*100,"") -> 120.56924 | ... HP20: =IFERROR((AB20/EJ20)/($P$20/$DX$20)*100,"") | HR20: =IFERROR(EZ20/$EZ$20*100,"") -> 100 | HS20: =IFERROR(FA20/$EZ$20*100,"") -> 65.591829 | HT20: =IFERROR(FB20/$EZ$20*100,"") -> 59.202958 | HU20: =IFERROR(FC20/$EZ$20*100,"") -> 80.418511 | HV20: =IFERROR(FD20/$EZ$20*100,"") -> 82.059281 | HW20: =IFERROR(FE20/$EZ$20*100,"") -> 83.036067 | HX20: =IFERROR(FF20/$EZ$20*100,"") -> 85.490753 | HY20: =IFERROR(FG20/$EZ$20*100,"") -> 0 | ... ID20: =IFERROR(FL20/$EZ$20*100,"") -> 0
A21: Total | B21: =SUM(B15:B20) -> 3143.2428 | C21: =SUM(C15:C20) -> 2147.1419 | D21: =SUM(D15:D20) -> 2193.1429 | E21: =SUM(E15:E20) -> 2751.5163 | F21: =SUM(F15:F20) -> 3068.1223 | G21: =SUM(G15:G20) -> 3325.7711 | H21: =SUM(H15:H20) -> 3250.1458 | I21: =SUM(I15:I20) -> 3220.3724 | ... N21: =SUM(N15:N20) -> 0 | P21: =SUM(P15:P20) -> 6350.8275 | Q21: =SUM(Q15:Q20) -> 6265.3845 | R21: =SUM(R15:R20) -> 6468.9121 | S21: =SUM(S15:S20) -> 7072.5603 | T21: =SUM(T15:T20) -> 6995.6467 | U21: =SUM(U15:U20) -> 6865.6591 | V21: =SUM(V15:V20) -> 6964.3344 | W21: =SUM(W15:W20) -> 6962.0951 | ... AB21: =SUM(AB15:AB20) -> 0 | AD21: =SUM(AD15:AD20) -> 621.65121 | AE21: =SUM(AE15:AE20) -> 636.957 | AF21: =SUM(AF15:AF20) -> 658.62968 | AG21: =SUM(AG15:AG20) -> 629.34246 | AH21: =SUM(AH15:AH20) -> 661.42453 | AI21: =SUM(AI15:AI20) -> 687.02275 | AJ21: =SUM(AJ15:AJ20) -> 694.89592 | AK21: =SUM(AK15:AK20) -> 728.37166 | ... AP21: =SUM(AP15:AP20) -> 0 | AR21: =SUM(AR15:AR20) -> 18.5569 | AS21: =SUM(AS15:AS20) -> 20.62186 | AT21: =SUM(AT15:AT20) -> 21.31146 | AU21: =SUM(AU15:AU20) -> 22.51975 | AV21: =SUM(AV15:AV20) -> 23.59828 | AW21: =SUM(AW15:AW20) -> 26.7543 | AX21: =SUM(AX15:AX20) -> 24.65137 | AY21: =SUM(AY15:AY20) -> 29.76613 | ... BD21: =SUM(BD15:BD20) -> 0 | BF21: =SUM(BF15:BF20) -> 19.460519 | BG21: =SUM(BG15:BG20) -> 38.108036 | BH21: =SUM(BH15:BH20) -> 9.9112088 | BI21: =SUM(BI15:BI20) -> 7.4799227 | BJ21: =SUM(BJ15:BJ20) -> 17.937326 | BK21: =SUM(BK15:BK20) -> 8.3883531 | BL21: =SUM(BL15:BL20) -> 15.937476 | BM21: =SUM(BM15:BM20) -> 8.3659163 | ... BR21: =SUM(BR15:BR20) -> 0 | BT21: =SUM(BT15:BT20) -> 0 | BU21: =SUM(BU15:BU20) -> -90.420661 | BV21: =SUM(BV15:BV20) -> -11.359797 | BW21: =SUM(BW15:BW20) -> 14.258417 | BX21: =SUM(BX15:BX20) -> -11.571492 | BY21: =SUM(BY15:BY20) -> -2.2733275 | BZ21: =SUM(BZ15:BZ20) -> 0 | CA21: =SUM(CA15:CA20) -> 0 | ... CF21: =SUM(CF15:CF20) -> 0 | CH21: =SUM(CH15:CH20) -> 4300.1241 | CI21: =SUM(CI15:CI20) -> 4302.3534 | CJ21: =SUM(CJ15:CJ20) -> 4426.8655 | CK21: =SUM(CK15:CK20) -> 4779.1074 | CL21: =SUM(CL15:CL20) -> 4827.7819 | CM21: =SUM(CM15:CM20) -> 4697.7915 | CN21: =SUM(CN15:CN20) -> 4817.5384 | CO21: =SUM(CO15:CO20) -> 4787.5779 | ... CT21: =SUM(CT15:CT20) -> 0 | CV21: =SUM(CV15:CV20) -> 2311.1793 | CW21: =SUM(CW15:CW20) -> 2361.9467 | CX21: =SUM(CX15:CX20) -> 2444.0904 | CY21: =SUM(CY15:CY20) -> 2921.9983 | CZ21: =SUM(CZ15:CZ20) -> 2787.4286 | DA21: =SUM(DA15:DA20) -> 2520.613 | DB21: =SUM(DB15:DB20) -> 2683.8215 | DC21: =SUM(DC15:DC20) -> 2703.0685 | ... DH21: =SUM(DH15:DH20) -> 0 | DJ21: =IFERROR(AD21/CH21,"") -> 0.14456588 | DK21: =IFERROR(AE21/CI21,"") -> 0.14804851 | DL21: =IFERROR(AF21/CJ21,"") -> 0.14878014 | DM21: =IFERROR(AG21/CK21,"") -> 0.13168619 | DN21: =IFERROR(AH21/CL21,"") -> 0.13700381 | DO21: =IFERROR(AI21/CM21,"") -> 0.14624377 | DP21: =IFERROR(AJ21/CN21,"") -> 0.14424294 | DQ21: =IFERROR(AK21/CO21,"") -> 0.15213782 | ... DV21: =IFERROR(AP21/CT21,"") | DX21: =SUM(DX15:DX20) -> 8586158.6 | DY21: =SUM(DY15:DY20) -> 8382211.9 | DZ21: =SUM(DZ15:DZ20) -> 8330758.5 | EA21: =SUM(EA15:EA20) -> 8334624.1 | EB21: =SUM(EB15:EB20) -> 8196206.3 | EC21: =SUM(EC15:EC20) -> 8018514.7 | ED21: =SUM(ED15:ED20) -> 7924309.2 | EE21: =SUM(EE15:EE20) -> 7896049.4 | ... EJ21: =SUM(EJ15:EJ20) -> 0 | EL21: =SUM(EL15:EL20) -> 0 | EM21: =SUM(EM15:EM20) -> 0 | EN21: =SUM(EN15:EN20) -> 0 | EO21: =SUM(EO15:EO20) -> 0 | EP21: =SUM(EP15:EP20) -> 0 | EQ21: =SUM(EQ15:EQ20) -> 0 | ER21: =SUM(ER15:ER20) -> 0 | ES21: =SUM(ES15:ES20) -> 0 | ... EX21: =SUM(EX15:EX20) -> 0 | EZ21: =SUM(EZ15:EZ20) -> 2.860538e+08 | FA21: =SUM(FA15:FA20) -> 1.8178147e+08 | FB21: =SUM(FB15:FB20) -> 1.7660471e+08 | FC21: =SUM(FC15:FC20) -> 2.2487671e+08 | FD21: =SUM(FD15:FD20) -> 2.4355952e+08 | FE21: =SUM(FE15:FE20) -> 2.5225534e+08 | FF21: =SUM(FF15:FF20) -> 2.4990118e+08 | FG21: =SUM(FG15:FG20) -> 2.1574708e+08 | ... FL21: =SUM(FL15:FL20) -> 0 | FN21: =SUM(FN15:FN20) -> 0 | FO21: =SUM(FO15:FO20) -> 0 | FP21: =SUM(FP15:FP20) -> 0 | FQ21: =SUM(FQ15:FQ20) -> 0 | FR21: =SUM(FR15:FR20) -> 0 | FS21: =SUM(FS15:FS20) -> 0 | FT21: =SUM(FT15:FT20) -> 0 | FU21: =SUM(FU15:FU20) -> 0 | ... FZ21: =SUM(FZ15:FZ20) -> 0 | GB21: =IFERROR(P21*1000000/DX21,"") -> 739.65876 | GC21: =IFERROR(Q21*1000000/DY21,"") -> 747.46196 | GD21: =IFERROR(R21*1000000/DZ21,"") -> 776.50938 | GE21: =IFERROR(S21*1000000/EA21,"") -> 848.5758 | GF21: =IFERROR(T21*1000000/EB21,"") -> 853.52253 | GG21: =IFERROR(U21*1000000/EC21,"") -> 856.2258 | GH21: =IFERROR(V21*1000000/ED21,"") -> 878.85696 | GI21: =IFERROR(W21*1000000/EE21,"") -> 881.71879 | ... GN21: =IFERROR(AB21*1000000/EJ21,"") | GP21: =IFERROR(DX21/$DX21*100,"") -> 100 | GQ21: =IFERROR(DY21/$DX21*100,"") -> 97.624704 | GR21: =IFERROR(DZ21/$DX21*100,"") -> 97.025443 | GS21: =IFERROR(EA21/$DX21*100,"") -> 97.070465 | GT21: =IFERROR(EB21/$DX21*100,"") -> 95.458361 | GU21: =IFERROR(EC21/$DX21*100,"") -> 93.388849 | GV21: =IFERROR(ED21/$DX21*100,"") -> 92.291671 | GW21: =IFERROR(EE21/$DX21*100,"") -> 91.962538 | ... HB21: =IFERROR(EJ21/$DX21*100,"") -> 0 | HD21: =IFERROR((P21/DX21)/($P$21/$DX$21)*100,"") -> 100 | HE21: =IFERROR((Q21/DY21)/($P$21/$DX$21)*100,"") -> 101.05497 | HF21: =IFERROR((R21/DZ21)/($P$21/$DX$21)*100,"") -> 104.98211 | HG21: =IFERROR((S21/EA21)/($P$21/$DX$21)*100,"") -> 114.72531 | HH21: =IFERROR((T21/EB21)/($P$21/$DX$21)*100,"") -> 115.39409 | HI21: =IFERROR((U21/EC21)/($P$21/$DX$21)*100,"") -> 115.75957 | HJ21: =IFERROR((V21/ED21)/($P$21/$DX$21)*100,"") -> 118.81925 | HK21: =IFERROR((W21/EE21)/($P$21/$DX$21)*100,"") -> 119.20616 | ... HP21: =IFERROR((AB21/EJ21)/($P$21/$DX$21)*100,"") | HR21: =IFERROR(EZ21/$EZ$21*100,"") -> 100 | HS21: =IFERROR(FA21/$EZ$21*100,"") -> 63.548002 | HT21: =IFERROR(FB21/$EZ$21*100,"") -> 61.738285 | HU21: =IFERROR(FC21/$EZ$21*100,"") -> 78.613434 | HV21: =IFERROR(FD21/$EZ$21*100,"") -> 85.144655 | HW21: =IFERROR(FE21/$EZ$21*100,"") -> 88.184579 | HX21: =IFERROR(FF21/$EZ$21*100,"") -> 87.361603 | HY21: =IFERROR(FG21/$EZ$21*100,"") -> 75.421854 | ... ID21: =IFERROR(FL21/$EZ$21*100,"") -> 0
A23: BANER (LOKALBANER/LETBANE MV.)
A24: BAT | B24: =+BAT!F31 -> 0 | C24: =+BAT!G31 -> 0 | D24: =+BAT!H31 -> 0 | E24: =+BAT!I31 -> 0 | F24: =+BAT!J31 -> 0 | G24: =+BAT!K31 -> 0 | H24: =+BAT!L31 -> 0 | I24: =+BAT!M31 -> 0 | ... N24: =+BAT!R31 -> 0 | P24: =+BAT!S31 -> 0 | Q24: =+BAT!T31 -> 0 | R24: =+BAT!U31 -> 0 | S24: =+BAT!V31 -> 0 | T24: =+BAT!W31 -> 0 | U24: =+BAT!X31 -> 0 | V24: =+BAT!Y31 -> 0 | W24: =+BAT!Z31 -> 0 | ... AB24: =+BAT!AE31 -> 0 | AD24: =+BAT!AF31 -> 0 | AE24: =+BAT!AG31 -> 0 | AF24: =+BAT!AH31 -> 0 | AG24: =+BAT!AI31 -> 0 | AH24: =+BAT!AJ31 -> 0 | AI24: =+BAT!AK31 -> 0 | AJ24: =+BAT!AL31 -> 0 | AK24: =+BAT!AM31 -> 0 | ... AP24: =+BAT!AR31 -> 0 | AR24: =+BAT!AS31 -> 0 | AS24: =+BAT!AT31 -> 0 | AT24: =+BAT!AU31 -> 0 | AU24: =+BAT!AV31 -> 0 | AV24: =+BAT!AW31 -> 0 | AW24: =+BAT!AX31 -> 0 | AX24: =+BAT!AY31 -> 0 | AY24: =+BAT!AZ31 -> 0 | ... BD24: =+BAT!BE31 -> 0 | BF24: =+BAT!BF31 -> 0 | BG24: =+BAT!BG31 -> 0 | BH24: =+BAT!BH31 -> 0 | BI24: =+BAT!BI31 -> 0 | BJ24: =+BAT!BJ31 -> 0 | BK24: =+BAT!BK31 -> 0 | BL24: =+BAT!BL31 -> 0 | BM24: =+BAT!BM31 -> 0 | ... BR24: =+BAT!BR31 -> 0 | BT24: =+BAT!BS31 -> 0 | BU24: =+BAT!BT31 -> 0 | BV24: =+BAT!BU31 -> 0 | BW24: =+BAT!BV31 -> 0 | BX24: =+BAT!BW31 -> 0 | BY24: =+BAT!BX31 -> 0 | BZ24: =+BAT!BY31 -> 0 | CA24: =+BAT!BZ31 -> 0 | ... CF24: =+BAT!CE31 -> 0 | CH24: =+BAT!CF31 -> 0 | CI24: =+BAT!CG31 -> 0 | CJ24: =+BAT!CH31 -> 0 | CK24: =+BAT!CI31 -> 0 | CL24: =+BAT!CJ31 -> 0 | CM24: =+BAT!CK31 -> 0 | CN24: =+BAT!CL31 -> 0 | CO24: =+BAT!CM31 -> 0 | ... CT24: =+BAT!CR31 -> 0 | CV24: =+BAT!CS31 -> 0 | CW24: =+BAT!CT31 -> 0 | CX24: =+BAT!CU31 -> 0 | CY24: =+BAT!CV31 -> 0 | CZ24: =+BAT!CW31 -> 0 | DA24: =+BAT!CX31 -> 0 | DB24: =+BAT!CY31 -> 0 | DC24: =+BAT!CZ31 -> 0 | ... DH24: =+BAT!DE31 -> 0 | DJ24: =+BAT!DF31 -> 0 | DK24: =+BAT!DG31 -> 0 | DL24: =+BAT!DH31 -> 0 | DM24: =+BAT!DI31 -> 0 | DN24: =+BAT!DJ31 -> 0 | DO24: =+BAT!DK31 -> 0 | DP24: =+BAT!DL31 -> 0 | DQ24: =+BAT!DM31 -> 0 | ... DV24: =+BAT!DR31 -> 0 | DX24: =+BAT!DS31 -> 0 | DY24: =+BAT!DT31 -> 0 | DZ24: =+BAT!DU31 -> 0 | EA24: =+BAT!DV31 -> 0 | EB24: =+BAT!DW31 -> 0 | EC24: =+BAT!DX31 -> 0 | ED24: =+BAT!DY31 -> 0 | EE24: =+BAT!DZ31 -> 0 | ... EJ24: =+BAT!EE31 -> 0 | EL24: =+BAT!EF31 -> 0 | EM24: =+BAT!EG31 -> 0 | EN24: =+BAT!EH31 -> 0 | EO24: =+BAT!EI31 -> 0 | EP24: =+BAT!EJ31 -> 0 | EQ24: =+BAT!EK31 -> 0 | ER24: =+BAT!EL31 -> 0 | ES24: =+BAT!EM31 -> 0 | ... EX24: =+BAT!ER31 -> 0 | EZ24: =+BAT!ES31 -> 0 | FA24: =+BAT!ET31 -> 0 | FB24: =+BAT!EU31 -> 0 | FC24: =+BAT!EV31 -> 0 | FD24: =+BAT!EW31 -> 0 | FE24: =+BAT!EX31 -> 0 | FF24: =+BAT!EY31 -> 0 | FG24: =+BAT!EZ31 -> 0 | ... FL24: =+BAT!FE31 -> 0 | FN24: =+BAT!FF31 -> 0 | FO24: =+BAT!FG31 -> 0 | FP24: =+BAT!FH31 -> 0 | FQ24: =+BAT!FI31 -> 0 | FR24: =+BAT!FJ31 -> 0 | FS24: =+BAT!FK31 -> 0 | FT24: =+BAT!FL31 -> 0 | FU24: =+BAT!FM31 -> 0 | ... FZ24: =+BAT!FR31 -> 0 | GB24: =IFERROR(P24*1000000/EL24,"") | GC24: =IFERROR(Q24*1000000/EM24,"") | GD24: =IFERROR(R24*1000000/EN24,"") | GE24: =IFERROR(S24*1000000/EO24,"") | GF24: =IFERROR(T24*1000000/EP24,"") | GG24: =IFERROR(U24*1000000/EQ24,"") | GH24: =IFERROR(V24*1000000/ER24,"") | GI24: =IFERROR(W24*1000000/ES24,"") | ... GN24: =IFERROR(AB24*1000000/EX24,"") | GP24: =IFERROR(EL24/$EL24*100,"") | GQ24: =IFERROR(EM24/$EL24*100,"") | GR24: =IFERROR(EN24/$EL24*100,"") | GS24: =IFERROR(EO24/$EL24*100,"") | GT24: =IFERROR(EP24/$EL24*100,"") | GU24: =IFERROR(EQ24/$EL24*100,"") | GV24: =IFERROR(ER24/$EL24*100,"") | GW24: =IFERROR(ES24/$EL24*100,"") | ... HB24: =IFERROR(EX24/$EL24*100,"") | HD24: =IFERROR((P24/EL24)/($P$24/$EL$24)*100,"") | HE24: =IFERROR((Q24/EM24)/($P$24/$EL$24)*100,"") | HF24: =IFERROR((R24/EN24)/($P$24/$EL$24)*100,"") | HG24: =IFERROR((S24/EO24)/($P$24/$EL$24)*100,"") | HH24: =IFERROR((T24/EP24)/($P$24/$EL$24)*100,"") | HI24: =IFERROR((U24/EQ24)/($P$24/$EL$24)*100,"") | HJ24: =IFERROR((V24/ER24)/($P$24/$EL$24)*100,"") | HK24: =IFERROR((W24/ES24)/($P$24/$EL$24)*100,"") | ... HP24: =IFERROR((AB24/EX24)/($P$24/$EL$24)*100,"") | HR24: =IFERROR(EZ24/$EZ$24*100,"") | HS24: =IFERROR(FA24/$EZ$24*100,"") | HT24: =IFERROR(FB24/$EZ$24*100,"") | HU24: =IFERROR(FC24/$EZ$24*100,"") | HV24: =IFERROR(FD24/$EZ$24*100,"") | HW24: =IFERROR(FE24/$EZ$24*100,"") | HX24: =IFERROR(FF24/$EZ$24*100,"") | HY24: =IFERROR(FG24/$EZ$24*100,"") | ... ID24: =IFERROR(FL24/$EZ$24*100,"")
A25: FynBus | B25: =+FynBus!F31 -> 0 | C25: =+FynBus!G31 -> 0 | D25: =+FynBus!H31 -> 0 | E25: =+FynBus!I31 -> 0 | F25: =+FynBus!J31 -> 0 | G25: =+FynBus!K31 -> 0 | H25: =+FynBus!L31 -> 0 | I25: =+FynBus!M31 -> 0 | ... N25: =+FynBus!R31 -> 0 | P25: =+FynBus!S31 -> 0 | Q25: =+FynBus!T31 -> 0 | R25: =+FynBus!U31 -> 0 | S25: =+FynBus!V31 -> 0 | T25: =+FynBus!W31 -> 0 | U25: =+FynBus!X31 -> 0 | V25: =+FynBus!Y31 -> 0 | W25: =+FynBus!Z31 -> 0 | ... AB25: =+FynBus!AE31 -> 0 | AD25: =+FynBus!AF31 -> 0 | AE25: =+FynBus!AG31 -> 0 | AF25: =+FynBus!AH31 -> 0 | AG25: =+FynBus!AI31 -> 0 | AH25: =+FynBus!AJ31 -> 0 | AI25: =+FynBus!AK31 -> 0 | AJ25: =+FynBus!AL31 -> 0 | AK25: =+FynBus!AM31 -> 0 | ... AP25: =+FynBus!AR31 -> 0 | AR25: =+FynBus!AS31 -> 0 | AS25: =+FynBus!AT31 -> 0 | AT25: =+FynBus!AU31 -> 0 | AU25: =+FynBus!AV31 -> 0 | AV25: =+FynBus!AW31 -> 0 | AW25: =+FynBus!AX31 -> 0 | AX25: =+FynBus!AY31 -> 0 | AY25: =+FynBus!AZ31 -> 0 | ... BD25: =+FynBus!BE31 -> 0 | BF25: =+FynBus!BF31 -> 0 | BG25: =+FynBus!BG31 -> 0 | BH25: =+FynBus!BH31 -> 0 | BI25: =+FynBus!BI31 -> 0 | BJ25: =+FynBus!BJ31 -> 0 | BK25: =+FynBus!BK31 -> 0 | BL25: =+FynBus!BL31 -> 0 | BM25: =+FynBus!BM31 -> 0 | ... BR25: =+FynBus!BR31 -> 0 | BT25: =+FynBus!BS31 -> 0 | BU25: =+FynBus!BT31 -> 0 | BV25: =+FynBus!BU31 -> 0 | BW25: =+FynBus!BV31 -> 0 | BX25: =+FynBus!BW31 -> 0 | BY25: =+FynBus!BX31 -> 0 | BZ25: =+FynBus!BY31 -> 0 | CA25: =+FynBus!BZ31 -> 0 | ... CF25: =+FynBus!CE31 -> 0 | CH25: =+FynBus!CF31 -> 0 | CI25: =+FynBus!CG31 -> 0 | CJ25: =+FynBus!CH31 -> 0 | CK25: =+FynBus!CI31 -> 0 | CL25: =+FynBus!CJ31 -> 0 | CM25: =+FynBus!CK31 -> 0 | CN25: =+FynBus!CL31 -> 0 | CO25: =+FynBus!CM31 -> 0 | ... CT25: =+FynBus!CR31 -> 0 | CV25: =+FynBus!CS31 -> 0 | CW25: =+FynBus!CT31 -> 0 | CX25: =+FynBus!CU31 -> 0 | CY25: =+FynBus!CV31 -> 0 | CZ25: =+FynBus!CW31 -> 0 | DA25: =+FynBus!CX31 -> 0 | DB25: =+FynBus!CY31 -> 0 | DC25: =+FynBus!CZ31 -> 0 | ... DH25: =+FynBus!DE31 -> 0 | DJ25: =+FynBus!DF31 -> 0 | DK25: =+FynBus!DG31 -> 0 | DL25: =+FynBus!DH31 -> 0 | DM25: =+FynBus!DI31 -> 0 | DN25: =+FynBus!DJ31 -> 0 | DO25: =+FynBus!DK31 -> 0 | DP25: =+FynBus!DL31 -> 0 | DQ25: =+FynBus!DM31 -> 0 | ... DV25: =+FynBus!DR31 -> 0 | DX25: =+FynBus!DS31 -> 0 | DY25: =+FynBus!DT31 -> 0 | DZ25: =+FynBus!DU31 -> 0 | EA25: =+FynBus!DV31 -> 0 | EB25: =+FynBus!DW31 -> 0 | EC25: =+FynBus!DX31 -> 0 | ED25: =+FynBus!DY31 -> 0 | EE25: =+FynBus!DZ31 -> 0 | ... EJ25: =+FynBus!EE31 -> 0 | EL25: =+FynBus!EF31 -> 0 | EM25: =+FynBus!EG31 -> 0 | EN25: =+FynBus!EH31 -> 0 | EO25: =+FynBus!EI31 -> 0 | EP25: =+FynBus!EJ31 -> 0 | EQ25: =+FynBus!EK31 -> 0 | ER25: =+FynBus!EL31 -> 0 | ES25: =+FynBus!EM31 -> 0 | ... EX25: =+FynBus!ER31 -> 0 | EZ25: =+FynBus!ES31 -> 0 | FA25: =+FynBus!ET31 -> 0 | FB25: =+FynBus!EU31 -> 0 | FC25: =+FynBus!EV31 -> 0 | FD25: =+FynBus!EW31 -> 0 | FE25: =+FynBus!EX31 -> 0 | FF25: =+FynBus!EY31 -> 0 | FG25: =+FynBus!EZ31 -> 0 | ... FL25: =+FynBus!FE31 -> 0 | FN25: =+FynBus!FF31 -> 0 | FO25: =+FynBus!FG31 -> 0 | FP25: =+FynBus!FH31 -> 0 | FQ25: =+FynBus!FI31 -> 0 | FR25: =+FynBus!FJ31 -> 0 | FS25: =+FynBus!FK31 -> 0 | FT25: =+FynBus!FL31 -> 0 | FU25: =+FynBus!FM31 -> 0 | ... FZ25: =+FynBus!FR31 -> 0 | GB25: =IFERROR(P25*1000000/EL25,"") | GC25: =IFERROR(Q25*1000000/EM25,"") | GD25: =IFERROR(R25*1000000/EN25,"") | GE25: =IFERROR(S25*1000000/EO25,"") | GF25: =IFERROR(T25*1000000/EP25,"") | GG25: =IFERROR(U25*1000000/EQ25,"") | GH25: =IFERROR(V25*1000000/ER25,"") | GI25: =IFERROR(W25*1000000/ES25,"") | ... GN25: =IFERROR(AB25*1000000/EX25,"") | GP25: =IFERROR(EL25/$EL25*100,"") | GQ25: =IFERROR(EM25/$EL25*100,"") | GR25: =IFERROR(EN25/$EL25*100,"") | GS25: =IFERROR(EO25/$EL25*100,"") | GT25: =IFERROR(EP25/$EL25*100,"") | GU25: =IFERROR(EQ25/$EL25*100,"") | GV25: =IFERROR(ER25/$EL25*100,"") | GW25: =IFERROR(ES25/$EL25*100,"") | ... HB25: =IFERROR(EX25/$EL25*100,"") | HD25: =IFERROR((P25/EL25)/($P$25/$EL$25)*100,"") | HE25: =IFERROR((Q25/EM25)/($P$25/$EL$25)*100,"") | HF25: =IFERROR((R25/EN25)/($P$25/$EL$25)*100,"") | HG25: =IFERROR((S25/EO25)/($P$25/$EL$25)*100,"") | HH25: =IFERROR((T25/EP25)/($P$25/$EL$25)*100,"") | HI25: =IFERROR((U25/EQ25)/($P$25/$EL$25)*100,"") | HJ25: =IFERROR((V25/ER25)/($P$25/$EL$25)*100,"") | HK25: =IFERROR((W25/ES25)/($P$25/$EL$25)*100,"") | ... HP25: =IFERROR((AB25/EX25)/($P$25/$EL$25)*100,"") | HR25: =IFERROR(EZ25/$EZ$25*100,"") | HS25: =IFERROR(FA25/$EZ$25*100,"") | HT25: =IFERROR(FB25/$EZ$25*100,"") | HU25: =IFERROR(FC25/$EZ$25*100,"") | HV25: =IFERROR(FD25/$EZ$25*100,"") | HW25: =IFERROR(FE25/$EZ$25*100,"") | HX25: =IFERROR(FF25/$EZ$25*100,"") | HY25: =IFERROR(FG25/$EZ$25*100,"") | ... ID25: =IFERROR(FL25/$EZ$25*100,"")
A26: Midttrafik | B26: =+'Midttrafik '!F31 -> 71.3 | C26: =+'Midttrafik '!G31 -> 54.3 | D26: =+'Midttrafik '!H31 -> 75.4 | E26: =+'Midttrafik '!I31 -> 90.8 | F26: =+'Midttrafik '!J31 -> 102.4 | G26: =+'Midttrafik '!K31 -> 113.6 | H26: =+'Midttrafik '!L31 -> 117.57677 | I26: =+'Midttrafik '!M31 -> 127.644 | ... N26: =+'Midttrafik '!R31 -> 0 | P26: =+'Midttrafik '!S31 -> 276.2 | Q26: =+'Midttrafik '!T31 -> 294.6 | R26: =+'Midttrafik '!U31 -> 330.3 | S26: =+'Midttrafik '!V31 -> 341.1 | T26: =+'Midttrafik '!W31 -> 378.2 | U26: =+'Midttrafik '!X31 -> 410.4 | V26: =+'Midttrafik '!Y31 -> 441.2997 | W26: =+'Midttrafik '!Z31 -> 495.445 | ... AB26: =+'Midttrafik '!AE31 -> 0 | AD26: =+'Midttrafik '!AF31 -> 0 | AE26: =+'Midttrafik '!AG31 -> 0 | AF26: =+'Midttrafik '!AH31 -> 0 | AG26: =+'Midttrafik '!AI31 -> 0 | AH26: =+'Midttrafik '!AJ31 -> 0 | AI26: =+'Midttrafik '!AK31 -> 0 | AJ26: =+'Midttrafik '!AL31 -> 0 | AK26: =+'Midttrafik '!AM31 -> 0 | ... AP26: =+'Midttrafik '!AR31 -> 0 | AR26: =+'Midttrafik '!AS31 -> 0 | AS26: =+'Midttrafik '!AT31 -> 0 | AT26: =+'Midttrafik '!AU31 -> 0 | AU26: =+'Midttrafik '!AV31 -> 0 | AV26: =+'Midttrafik '!AW31 -> 0 | AW26: =+'Midttrafik '!AX31 -> 0 | AX26: =+'Midttrafik '!AY31 -> 0 | AY26: =+'Midttrafik '!AZ31 -> 0 | ... BD26: =+'Midttrafik '!BE31 -> 0 | BF26: =+'Midttrafik '!BF31 -> 0 | BG26: =+'Midttrafik '!BG31 -> 0 | BH26: =+'Midttrafik '!BH31 -> 0 | BI26: =+'Midttrafik '!BI31 -> 0 | BJ26: =+'Midttrafik '!BJ31 -> 0 | BK26: =+'Midttrafik '!BK31 -> 0 | BL26: =+'Midttrafik '!BL31 -> 0 | BM26: =+'Midttrafik '!BM31 -> 0 | ... BR26: =+'Midttrafik '!BR31 -> 0 | BT26: =+'Midttrafik '!BS31 -> 0 | BU26: =+'Midttrafik '!BT31 -> 25.3 | BV26: =+'Midttrafik '!BU31 -> 21.3 | BW26: =+'Midttrafik '!BV31 -> 10.1 | BX26: =+'Midttrafik '!BW31 -> 6.4 | BY26: =+'Midttrafik '!BX31 -> 0 | BZ26: =+'Midttrafik '!BY31 -> 0 | CA26: =+'Midttrafik '!BZ31 -> 0 | ... CF26: =+'Midttrafik '!CE31 -> 0 | CH26: =+'Midttrafik '!CF31 -> 0 | CI26: =+'Midttrafik '!CG31 -> 0 | CJ26: =+'Midttrafik '!CH31 -> 0 | CK26: =+'Midttrafik '!CI31 -> 0 | CL26: =+'Midttrafik '!CJ31 -> 0 | CM26: =+'Midttrafik '!CK31 -> 0 | CN26: =+'Midttrafik '!CL31 -> 0 | CO26: =+'Midttrafik '!CM31 -> 0 | ... CT26: =+'Midttrafik '!CR31 -> 0 | CV26: =+'Midttrafik '!CS31 -> 0 | CW26: =+'Midttrafik '!CT31 -> 0 | CX26: =+'Midttrafik '!CU31 -> 0 | CY26: =+'Midttrafik '!CV31 -> 0 | CZ26: =+'Midttrafik '!CW31 -> 0 | DA26: =+'Midttrafik '!CX31 -> 0 | DB26: =+'Midttrafik '!CY31 -> 0 | DC26: =+'Midttrafik '!CZ31 -> 0 | ... DH26: =+'Midttrafik '!DE31 -> 0 | DJ26: =+'Midttrafik '!DF31 -> 0 | DK26: =+'Midttrafik '!DG31 -> 0 | DL26: =+'Midttrafik '!DH31 -> 0 | DM26: =+'Midttrafik '!DI31 -> 0 | DN26: =+'Midttrafik '!DJ31 -> 0 | DO26: =+'Midttrafik '!DK31 -> 0 | DP26: =+'Midttrafik '!DL31 -> 0 | DQ26: =+'Midttrafik '!DM31 -> 0 | ... DV26: =+'Midttrafik '!DR31 -> 0 | DX26: =+'Midttrafik '!DS31 -> 0 | DY26: =+'Midttrafik '!DT31 -> 0 | DZ26: =+'Midttrafik '!DU31 -> 0 | EA26: =+'Midttrafik '!DV31 -> 0 | EB26: =+'Midttrafik '!DW31 -> 0 | EC26: =+'Midttrafik '!DX31 -> 0 | ED26: =+'Midttrafik '!DY31 -> 0 | EE26: =+'Midttrafik '!DZ31 -> 0 | ... EJ26: =+'Midttrafik '!EE31 -> 0 | EL26: =+'Midttrafik '!EF31 -> 76318 | EM26: =+'Midttrafik '!EG31 -> 82955 | EN26: =+'Midttrafik '!EH31 -> 95564 | EO26: =+'Midttrafik '!EI31 -> 97239 | EP26: =+'Midttrafik '!EJ31 -> 99206 | EQ26: =+'Midttrafik '!EK31 -> 92455 | ER26: =+'Midttrafik '!EL31 -> 90277.33 | ES26: =+'Midttrafik '!EM31 -> 100700 | ... EX26: =+'Midttrafik '!ER31 -> 0 | EZ26: =+'Midttrafik '!ES31 -> 4991025 | FA26: =+'Midttrafik '!ET31 -> 3751938 | FB26: =+'Midttrafik '!EU31 -> 4222354 | FC26: =+'Midttrafik '!EV31 -> 5908765 | FD26: =+'Midttrafik '!EW31 -> 6192335 | FE26: =+'Midttrafik '!EX31 -> 6796000 | FF26: =+'Midttrafik '!EY31 -> 6380000 | FG26: =+'Midttrafik '!EZ31 -> 6504000 | ... FL26: =+'Midttrafik '!FE31 -> 0 | FN26: =+'Midttrafik '!FF31 -> 2967950 | FO26: =+'Midttrafik '!FG31 -> 3186555 | FP26: =+'Midttrafik '!FH31 -> 3989278 | FQ26: =+'Midttrafik '!FI31 -> 4125086 | FR26: =+'Midttrafik '!FJ31 -> 4214795 | FS26: =+'Midttrafik '!FK31 -> 4190000 | FT26: =+'Midttrafik '!FL31 -> 4136815 | FU26: =+'Midttrafik '!FM31 -> 4305000 | ... FZ26: =+'Midttrafik '!FR31 -> 0 | GB26: =IFERROR(P26*1000000/EL26,"") -> 3619.0676 | GC26: =IFERROR(Q26*1000000/EM26,"") -> 3551.323 | GD26: =IFERROR(R26*1000000/EN26,"") -> 3456.3225 | GE26: =IFERROR(S26*1000000/EO26,"") -> 3507.8518 | GF26: =IFERROR(T26*1000000/EP26,"") -> 3812.2694 | GG26: =IFERROR(U26*1000000/EQ26,"") -> 4438.9162 | GH26: =IFERROR(V26*1000000/ER26,"") -> 4888.2671 | GI26: =IFERROR(W26*1000000/ES26,"") -> 4920.0099 | ... GN26: =IFERROR(AB26*1000000/EX26,"") | GP26: =IFERROR(EL26/$EL26*100,"") -> 100 | GQ26: =IFERROR(EM26/$EL26*100,"") -> 108.69651 | GR26: =IFERROR(EN26/$EL26*100,"") -> 125.21817 | GS26: =IFERROR(EO26/$EL26*100,"") -> 127.41293 | GT26: =IFERROR(EP26/$EL26*100,"") -> 129.9903 | GU26: =IFERROR(EQ26/$EL26*100,"") -> 121.14442 | GV26: =IFERROR(ER26/$EL26*100,"") -> 118.29101 | GW26: =IFERROR(ES26/$EL26*100,"") -> 131.9479 | ... HB26: =IFERROR(EX26/$EL26*100,"") -> 0 | HD26: =IFERROR((P26/EL26)/($P$26/$EL$26)*100,"") -> 100 | HE26: =IFERROR((Q26/EM26)/($P$26/$EL$26)*100,"") -> 98.128121 | HF26: =IFERROR((R26/EN26)/($P$26/$EL$26)*100,"") -> 95.50312 | HG26: =IFERROR((S26/EO26)/($P$26/$EL$26)*100,"") -> 96.926949 | HH26: =IFERROR((T26/EP26)/($P$26/$EL$26)*100,"") -> 105.33844 | HI26: =IFERROR((U26/EQ26)/($P$26/$EL$26)*100,"") -> 122.65359 | HJ26: =IFERROR((V26/ER26)/($P$26/$EL$26)*100,"") -> 135.06979 | HK26: =IFERROR((W26/ES26)/($P$26/$EL$26)*100,"") -> 135.94689 | ... HP26: =IFERROR((AB26/EX26)/($P$26/$EL$26)*100,"") | HR26: =IFERROR(EZ26/$EZ$26*100,"") -> 100 | HS26: =IFERROR(FA26/$EZ$26*100,"") -> 75.173697 | HT26: =IFERROR(FB26/$EZ$26*100,"") -> 84.598935 | HU26: =IFERROR(FC26/$EZ$26*100,"") -> 118.38781 | HV26: =IFERROR(FD26/$EZ$26*100,"") -> 124.0694 | HW26: =IFERROR(FE26/$EZ$26*100,"") -> 136.16442 | HX26: =IFERROR(FF26/$EZ$26*100,"") -> 127.82945 | HY26: =IFERROR(FG26/$EZ$26*100,"") -> 130.31391 | ... ID26: =IFERROR(FL26/$EZ$26*100,"") -> 0
A27: Movia | B27: =+Movia!F63 -> 177.57811 | C27: =+Movia!G63 -> 136.98068 | D27: =+Movia!H63 -> 161.17116 | E27: =+Movia!I63 -> 185.74288 | F27: =+Movia!J63 -> 206.19626 | G27: =+Movia!K63 -> 219.54371 | H27: =+Movia!L63 -> 226.7425 | I27: =+Movia!M63 -> 233.55758 | ... N27: =+Movia!R63 -> 0 | P27: =+Movia!S63 -> 494.11469 | Q27: =+Movia!T63 -> 502.91898 | R27: =+Movia!U63 -> 528.95282 | S27: =+Movia!V63 -> 558.45399 | T27: =+Movia!W63 -> 582.96357 | U27: =+Movia!X63 -> 604.94506 | V27: =+Movia!Y63 -> 639.1836 | W27: =+Movia!Z63 -> 667.87641 | ... AB27: =+Movia!AE63 -> 0 | AD27: =+Movia!AF63 -> 28.77096 | AE27: =+Movia!AG63 -> 17.36099 | AF27: =+Movia!AH63 -> 19.67087 | AG27: =+Movia!AI63 -> 21.40555 | AH27: =+Movia!AJ63 -> 19.68222 | AI27: =+Movia!AK63 -> 19.8505 | AJ27: =+Movia!AL63 -> 24.59392 | AK27: =+Movia!AM63 -> 23.25802 | ... AP27: =+Movia!AR63 -> 0 | AR27: =+Movia!AS63 -> 0 | AS27: =+Movia!AT63 -> 0 | AT27: =+Movia!AU63 -> 0 | AU27: =+Movia!AV63 -> 0 | AV27: =+Movia!AW63 -> 0 | AW27: =+Movia!AX63 -> 0 | AX27: =+Movia!AY63 -> 0 | AY27: =+Movia!AZ63 -> 0 | ... BD27: =+Movia!BE63 -> 0 | BF27: =+Movia!BF63 -> 0 | BG27: =+Movia!BG63 -> 0 | BH27: =+Movia!BH63 -> 0 | BI27: =+Movia!BI63 -> 0 | BJ27: =+Movia!BJ63 -> 0 | BK27: =+Movia!BK63 -> 0 | BL27: =+Movia!BL63 -> 0 | BM27: =+Movia!BM63 -> 0 | ... BR27: =+Movia!BR63 -> 0 | BT27: =+Movia!BS63 -> 0 | BU27: =+Movia!BT63 -> -44.35132 | BV27: =+Movia!BU63 -> -39.17141 | BW27: =+Movia!BV63 -> -7.37189 | BX27: =+Movia!BW63 -> -9.57195 | BY27: =+Movia!BX63 -> -0.28122 | BZ27: =+Movia!BY63 -> 0 | CA27: =+Movia!BZ63 -> 0 | ... CF27: =+Movia!CE63 -> 0 | CH27: =+Movia!CF63 -> 522.88564 | CI27: =+Movia!CG63 -> 520.27996 | CJ27: =+Movia!CH63 -> 548.62368 | CK27: =+Movia!CI63 -> 579.85954 | CL27: =+Movia!CJ63 -> 602.6458 | CM27: =+Movia!CK63 -> 624.79556 | CN27: =+Movia!CL63 -> 663.77752 | CO27: =+Movia!CM63 -> 691.13443 | ... CT27: =+Movia!CR63 -> 0 | CV27: =+Movia!CS63 -> 345.30754 | CW27: =+Movia!CT63 -> 338.94796 | CX27: =+Movia!CU63 -> 348.28111 | CY27: =+Movia!CV63 -> 386.74478 | CZ27: =+Movia!CW63 -> 386.8776 | DA27: =+Movia!CX63 -> 404.97063 | DB27: =+Movia!CY63 -> 437.03502 | DC27: =+Movia!CZ63 -> 457.57685 | ... DH27: =+Movia!DE63 -> 0 | DJ27: =+Movia!DF63 -> 0.055 | DK27: =+Movia!DG63 -> 0.0334 | DL27: =+Movia!DH63 -> 0.0359 | DM27: =+Movia!DI63 -> 0.0369 | DN27: =+Movia!DJ63 -> 0.0327 | DO27: =+Movia!DK63 -> 0.0318 | DP27: =+Movia!DL63 -> 0.0371 | DQ27: =+Movia!DM63 -> 0.0337 | ... DV27: =+Movia!DR63 -> 0 | DX27: =+Movia!DS63 -> 0 | DY27: =+Movia!DT63 -> 0 | DZ27: =+Movia!DU63 -> 0 | EA27: =+Movia!DV63 -> 0 | EB27: =+Movia!DW63 -> 0 | EC27: =+Movia!DX63 -> 0 | ED27: =+Movia!DY63 -> 0 | EE27: =+Movia!DZ63 -> 0 | ... EJ27: =+Movia!EE63 -> 0 | EL27: =+Movia!EF63 -> 151818 | EM27: =+Movia!EG63 -> 151573 | EN27: =+Movia!EH63 -> 158157 | EO27: =+Movia!EI63 -> 156802 | EP27: =+Movia!EJ63 -> 154941 | EQ27: =+Movia!EK63 -> 157654.08 | ER27: =+Movia!EL63 -> 167419.1 | ES27: =+Movia!EM63 -> 173653 | ... EX27: =+Movia!ER63 -> 0 | EZ27: =+Movia!ES63 -> 9510459 | FA27: =+Movia!ET63 -> 7498834 | FB27: =+Movia!EU63 -> 7739653 | FC27: =+Movia!EV63 -> 9458059 | FD27: =+Movia!EW63 -> 9786192.8 | FE27: =+Movia!EX63 -> 9623347.3 | FF27: =+Movia!EY63 -> 9497453.7 | FG27: =+Movia!EZ63 -> 10222575 | ... FL27: =+Movia!FE63 -> 0 | FN27: =+Movia!FF63 -> 7825683 | FO27: =+Movia!FG63 -> 7629001 | FP27: =+Movia!FH63 -> 8034836 | FQ27: =+Movia!FI63 -> 7998171 | FR27: =+Movia!FJ63 -> 7987375 | FS27: =+Movia!FK63 -> 8076229 | FT27: =+Movia!FL63 -> 8442977 | FU27: =+Movia!FM63 -> 8932495 | ... FZ27: =+Movia!FR63 -> 0 | GB27: =IFERROR(P27*1000000/EL27,"") -> 3254.6516 | GC27: =IFERROR(Q27*1000000/EM27,"") -> 3317.9985 | GD27: =IFERROR(R27*1000000/EN27,"") -> 3344.4793 | GE27: =IFERROR(S27*1000000/EO27,"") -> 3561.5234 | GF27: =IFERROR(T27*1000000/EP27,"") -> 3762.4875 | GG27: =IFERROR(U27*1000000/EQ27,"") -> 3837.1672 | GH27: =IFERROR(V27*1000000/ER27,"") -> 3817.8655 | GI27: =IFERROR(W27*1000000/ES27,"") -> 3846.0401 | ... GN27: =IFERROR(AB27*1000000/EX27,"") | GP27: =IFERROR(EL27/$EL27*100,"") -> 100 | GQ27: =IFERROR(EM27/$EL27*100,"") -> 99.838623 | GR27: =IFERROR(EN27/$EL27*100,"") -> 104.17539 | GS27: =IFERROR(EO27/$EL27*100,"") -> 103.28288 | GT27: =IFERROR(EP27/$EL27*100,"") -> 102.05707 | GU27: =IFERROR(EQ27/$EL27*100,"") -> 103.84413 | GV27: =IFERROR(ER27/$EL27*100,"") -> 110.27619 | GW27: =IFERROR(ES27/$EL27*100,"") -> 114.38235 | ... HB27: =IFERROR(EX27/$EL27*100,"") -> 0 | HD27: =IFERROR((P27/EL27)/($P$27/$EL$27)*100,"") -> 100 | HE27: =IFERROR((Q27/EM27)/($P$27/$EL$27)*100,"") -> 101.94635 | HF27: =IFERROR((R27/EN27)/($P$27/$EL$27)*100,"") -> 102.75998 | HG27: =IFERROR((S27/EO27)/($P$27/$EL$27)*100,"") -> 109.42872 | HH27: =IFERROR((T27/EP27)/($P$27/$EL$27)*100,"") -> 115.60339 | HI27: =IFERROR((U27/EQ27)/($P$27/$EL$27)*100,"") -> 117.89794 | HJ27: =IFERROR((V27/ER27)/($P$27/$EL$27)*100,"") -> 117.30489 | HK27: =IFERROR((W27/ES27)/($P$27/$EL$27)*100,"") -> 118.17057 | ... HP27: =IFERROR((AB27/EX27)/($P$27/$EL$27)*100,"") | HR27: =IFERROR(EZ27/$EZ$27*100,"") -> 100 | HS27: =IFERROR(FA27/$EZ$27*100,"") -> 78.848287 | HT27: =IFERROR(FB27/$EZ$27*100,"") -> 81.380436 | HU27: =IFERROR(FC27/$EZ$27*100,"") -> 99.449028 | HV27: =IFERROR(FD27/$EZ$27*100,"") -> 102.89927 | HW27: =IFERROR(FE27/$EZ$27*100,"") -> 101.18699 | HX27: =IFERROR(FF27/$EZ$27*100,"") -> 99.863252 | HY27: =IFERROR(FG27/$EZ$27*100,"") -> 107.48771 | ... ID27: =IFERROR(FL27/$EZ$27*100,"") -> 0
A28: NT | B28: =+NT!F31 -> 78.752384 | C28: =+NT!G31 -> 46.026198 | D28: =+NT!H31 -> 58.255307 | E28: =+NT!I31 -> 78.561819 | F28: =+NT!J31 -> 81.783112 | G28: =+NT!K31 -> 75.831539 | H28: =+NT!L31 -> 89.351517 | I28: =+NT!M31 -> 98.597573 | ... N28: =+NT!R31 -> 0 | P28: =+NT!S31 -> 165.87666 | Q28: =+NT!T31 -> 168.73388 | R28: =+NT!U31 -> 179.94283 | S28: =+NT!V31 -> 196.72164 | T28: =+NT!W31 -> 194.97314 | U28: =+NT!X31 -> 212.3106 | V28: =+NT!Y31 -> 218.97997 | W28: =+NT!Z31 -> 239.07712 | ... AB28: =+NT!AE31 -> 0 | AD28: =+NT!AF31 -> 10.186021 | AE28: =+NT!AG31 -> 10.333456 | AF28: =+NT!AH31 -> 11.097246 | AG28: =+NT!AI31 -> 11.544368 | AH28: =+NT!AJ31 -> 11.733702 | AI28: =+NT!AK31 -> 10.824511 | AJ28: =+NT!AL31 -> 12.443279 | AK28: =+NT!AM31 -> 13.586212 | ... AP28: =+NT!AR31 -> 0 | AR28: =+NT!AS31 -> 0 | AS28: =+NT!AT31 -> 0 | AT28: =+NT!AU31 -> 0 | AU28: =+NT!AV31 -> 0 | AV28: =+NT!AW31 -> 0 | AW28: =+NT!AX31 -> 0 | AX28: =+NT!AY31 -> 0 | AY28: =+NT!AZ31 -> 0 | ... BD28: =+NT!BE31 -> 0 | BF28: =+NT!BF31 -> 0.3336696 | BG28: =+NT!BG31 -> 0.5665862 | BH28: =+NT!BH31 -> 0.3358222 | BI28: =+NT!BI31 -> 0.0746661 | BJ28: =+NT!BJ31 -> 0.7355392 | BK28: =+NT!BK31 -> 0.6097118 | BL28: =+NT!BL31 -> 0.6977924 | BM28: =+NT!BM31 -> 0.8422006 | ... BR28: =+NT!BR31 -> 0 | BT28: =+NT!BS31 -> 0 | BU28: =+NT!BT31 -> 17.789325 | BV28: =+NT!BU31 -> 7.7874469 | BW28: =+NT!BV31 -> 2.6041801 | BX28: =+NT!BW31 -> 2.9575979 | BY28: =+NT!BX31 -> -0.1463692 | BZ28: =+NT!BY31 -> 0 | CA28: =+NT!BZ31 -> 0 | ... CF28: =+NT!CE31 -> 0 | CH28: =+NT!CF31 -> 176.39635 | CI28: =+NT!CG31 -> 179.63392 | CJ28: =+NT!CH31 -> 191.3759 | CK28: =+NT!CI31 -> 208.34067 | CL28: =+NT!CJ31 -> 207.44238 | CM28: =+NT!CK31 -> 223.74483 | CN28: =+NT!CL31 -> 232.12104 | CO28: =+NT!CM31 -> 253.50554 | ... CT28: =+NT!CR31 -> 0 | CV28: =+NT!CS31 -> 97.643966 | CW28: =+NT!CT31 -> 115.8184 | CX28: =+NT!CU31 -> 125.33315 | CY28: =+NT!CV31 -> 127.17467 | CZ28: =+NT!CW31 -> 122.70167 | DA28: =+NT!CX31 -> 148.05966 | DB28: =+NT!CY31 -> 142.76952 | DC28: =+NT!CZ31 -> 154.90796 | ... DH28: =+NT!DE31 -> 0 | DJ28: =+NT!DF31 -> 0.057745078 | DK28: =+NT!DG31 -> 0.057525081 | DL28: =+NT!DH31 -> 0.057986644 | DM28: =+NT!DI31 -> 0.055411017 | DN28: =+NT!DJ31 -> 0.056563666 | DO28: =+NT!DK31 -> 0.04837882 | DP28: =+NT!DL31 -> 0.053606854 | DQ28: =+NT!DM31 -> 0.053593354 | ... DV28: =+NT!DR31 -> 0 | DX28: =+NT!DS31 -> 0 | DY28: =+NT!DT31 -> 0 | DZ28: =+NT!DU31 -> 0 | EA28: =+NT!DV31 -> 0 | EB28: =+NT!DW31 -> 0 | EC28: =+NT!DX31 -> 0 | ED28: =+NT!DY31 -> 0 | EE28: =+NT!DZ31 -> 0 | ... EJ28: =+NT!EE31 -> 0 | EL28: =+NT!EF31 -> 44993 | EM28: =+NT!EG31 -> 43805 | EN28: =+NT!EH31 -> 43904 | EO28: =+NT!EI31 -> 45238 | EP28: =+NT!EJ31 -> 45238 | EQ28: =+NT!EK31 -> 0 | ER28: =+NT!EL31 -> 0 | ES28: =+NT!EM31 -> 0 | ... EX28: =+NT!ER31 -> 0 | EZ28: =+NT!ES31 -> 2803008 | FA28: =+NT!ET31 -> 1762704 | FB28: =+NT!EU31 -> 2035530 | FC28: =+NT!EV31 -> 2800820 | FD28: =+NT!EW31 -> 2955269 | FE28: =+NT!EX31 -> 2477438 | FF28: =+NT!EY31 -> 2855363 | FG28: =+NT!EZ31 -> 0 | ... FL28: =+NT!FE31 -> 0 | FN28: =+NT!FF31 -> 2978604 | FO28: =+NT!FG31 -> 2785257 | FP28: =+NT!FH31 -> 3095161.5 | FQ28: =+NT!FI31 -> 3070974 | FR28: =+NT!FJ31 -> 3113098 | FS28: =+NT!FK31 -> 2804180 | FT28: =+NT!FL31 -> 3088580 | FU28: =+NT!FM31 -> 3504902 | ... FZ28: =+NT!FR31 -> 0 | GB28: =IFERROR(P28*1000000/EL28,"") -> 3686.7215 | GC28: =IFERROR(Q28*1000000/EM28,"") -> 3851.932 | GD28: =IFERROR(R28*1000000/EN28,"") -> 4098.5521 | GE28: =IFERROR(S28*1000000/EO28,"") -> 4348.5927 | GF28: =IFERROR(T28*1000000/EP28,"") -> 4309.9416 | GG28: =IFERROR(U28*1000000/EQ28,"") | GH28: =IFERROR(V28*1000000/ER28,"") | GI28: =IFERROR(W28*1000000/ES28,"") | ... GN28: =IFERROR(AB28*1000000/EX28,"") | GP28: =IFERROR(EL28/$EL28*100,"") -> 100 | GQ28: =IFERROR(EM28/$EL28*100,"") -> 97.359589 | GR28: =IFERROR(EN28/$EL28*100,"") -> 97.579623 | GS28: =IFERROR(EO28/$EL28*100,"") -> 100.54453 | GT28: =IFERROR(EP28/$EL28*100,"") -> 100.54453 | GU28: =IFERROR(EQ28/$EL28*100,"") -> 0 | GV28: =IFERROR(ER28/$EL28*100,"") -> 0 | GW28: =IFERROR(ES28/$EL28*100,"") -> 0 | ... HB28: =IFERROR(EX28/$EL28*100,"") -> 0 | HD28: =IFERROR((P28/EL28)/($P$28/$EL$28)*100,"") -> 100 | HE28: =IFERROR((Q28/EM28)/($P$28/$EL$28)*100,"") -> 104.48123 | HF28: =IFERROR((R28/EN28)/($P$28/$EL$28)*100,"") -> 111.17065 | HG28: =IFERROR((S28/EO28)/($P$28/$EL$28)*100,"") -> 117.95284 | HH28: =IFERROR((T28/EP28)/($P$28/$EL$28)*100,"") -> 116.90445 | HI28: =IFERROR((U28/EQ28)/($P$28/$EL$28)*100,"") | HJ28: =IFERROR((V28/ER28)/($P$28/$EL$28)*100,"") | HK28: =IFERROR((W28/ES28)/($P$28/$EL$28)*100,"") | ... HP28: =IFERROR((AB28/EX28)/($P$28/$EL$28)*100,"") | HR28: =IFERROR(EZ28/$EZ$28*100,"") -> 100 | HS28: =IFERROR(FA28/$EZ$28*100,"") -> 62.886157 | HT28: =IFERROR(FB28/$EZ$28*100,"") -> 72.619486 | HU28: =IFERROR(FC28/$EZ$28*100,"") -> 99.921941 | HV28: =IFERROR(FD28/$EZ$28*100,"") -> 105.43206 | HW28: =IFERROR(FE28/$EZ$28*100,"") -> 88.384978 | HX28: =IFERROR(FF28/$EZ$28*100,"") -> 101.86781 | HY28: =IFERROR(FG28/$EZ$28*100,"") -> 0 | ... ID28: =IFERROR(FL28/$EZ$28*100,"") -> 0
A29: Sydtrafik | B29: =+Sydtrafik!F31 -> 3 | C29: =+Sydtrafik!G31 -> 1.8 | D29: =+Sydtrafik!H31 -> 0 | E29: =+Sydtrafik!I31 -> 0 | F29: =+Sydtrafik!J31 -> 0 | G29: =+Sydtrafik!K31 -> 0 | H29: =+Sydtrafik!L31 -> 0 | I29: =+Sydtrafik!M31 -> 0 | ... N29: =+Sydtrafik!R31 -> 0 | P29: =+Sydtrafik!S31 -> 30.7 | Q29: =+Sydtrafik!T31 -> 30.3 | R29: =+Sydtrafik!U31 -> 15.7 | S29: =+Sydtrafik!V31 -> 17.5 | T29: =+Sydtrafik!W31 -> 19.3 | U29: =+Sydtrafik!X31 -> 19.7 | V29: =+Sydtrafik!Y31 -> 20.3 | W29: =+Sydtrafik!Z31 -> 20.3 | ... AB29: =+Sydtrafik!AE31 -> 0 | AD29: =+Sydtrafik!AF31 -> 0.4 | AE29: =+Sydtrafik!AG31 -> 0.4 | AF29: =+Sydtrafik!AH31 -> 0.4 | AG29: =+Sydtrafik!AI31 -> 0.4 | AH29: =+Sydtrafik!AJ31 -> 0.4 | AI29: =+Sydtrafik!AK31 -> 0.4 | AJ29: =+Sydtrafik!AL31 -> 0.4 | AK29: =+Sydtrafik!AM31 -> 0.5 | ... AP29: =+Sydtrafik!AR31 -> 0 | AR29: =+Sydtrafik!AS31 -> 0 | AS29: =+Sydtrafik!AT31 -> 0 | AT29: =+Sydtrafik!AU31 -> 0 | AU29: =+Sydtrafik!AV31 -> 0 | AV29: =+Sydtrafik!AW31 -> 0 | AW29: =+Sydtrafik!AX31 -> 0 | AX29: =+Sydtrafik!AY31 -> 0 | AY29: =+Sydtrafik!AZ31 -> 0 | ... BD29: =+Sydtrafik!BE31 -> 0 | BF29: =+Sydtrafik!BF31 -> 0 | BG29: =+Sydtrafik!BG31 -> 0 | BH29: =+Sydtrafik!BH31 -> 0 | BI29: =+Sydtrafik!BI31 -> 0 | BJ29: =+Sydtrafik!BJ31 -> 0 | BK29: =+Sydtrafik!BK31 -> 0 | BL29: =+Sydtrafik!BL31 -> 0 | BM29: =+Sydtrafik!BM31 -> 0 | ... BR29: =+Sydtrafik!BR31 -> 0 | BT29: =+Sydtrafik!BS31 -> 0 | BU29: =+Sydtrafik!BT31 -> 0.8 | BV29: =+Sydtrafik!BU31 -> 0 | BW29: =+Sydtrafik!BV31 -> 0 | BX29: =+Sydtrafik!BW31 -> 0 | BY29: =+Sydtrafik!BX31 -> 0 | BZ29: =+Sydtrafik!BY31 -> 0 | CA29: =+Sydtrafik!BZ31 -> 0 | ... CF29: =+Sydtrafik!CE31 -> 0 | CH29: =+Sydtrafik!CF31 -> 0 | CI29: =+Sydtrafik!CG31 -> 0 | CJ29: =+Sydtrafik!CH31 -> 0 | CK29: =+Sydtrafik!CI31 -> 0 | CL29: =+Sydtrafik!CJ31 -> 0 | CM29: =+Sydtrafik!CK31 -> 0 | CN29: =+Sydtrafik!CL31 -> 0 | CO29: =+Sydtrafik!CM31 -> 0 | ... CT29: =+Sydtrafik!CR31 -> 0 | CV29: =+Sydtrafik!CS31 -> 0 | CW29: =+Sydtrafik!CT31 -> 0 | CX29: =+Sydtrafik!CU31 -> 0 | CY29: =+Sydtrafik!CV31 -> 0 | CZ29: =+Sydtrafik!CW31 -> 0 | DA29: =+Sydtrafik!CX31 -> 0 | DB29: =+Sydtrafik!CY31 -> 0 | DC29: =+Sydtrafik!CZ31 -> 0 | ... DH29: =+Sydtrafik!DE31 -> 0 | DJ29: =+Sydtrafik!DF31 -> 0 | DK29: =+Sydtrafik!DG31 -> 0 | DL29: =+Sydtrafik!DH31 -> 0 | DM29: =+Sydtrafik!DI31 -> 0 | DN29: =+Sydtrafik!DJ31 -> 0 | DO29: =+Sydtrafik!DK31 -> 0 | DP29: =+Sydtrafik!DL31 -> 0 | DQ29: =+Sydtrafik!DM31 -> 0 | ... DV29: =+Sydtrafik!DR31 -> 0 | DX29: =+Sydtrafik!DS31 -> 0 | DY29: =+Sydtrafik!DT31 -> 0 | DZ29: =+Sydtrafik!DU31 -> 0 | EA29: =+Sydtrafik!DV31 -> 0 | EB29: =+Sydtrafik!DW31 -> 0 | EC29: =+Sydtrafik!DX31 -> 0 | ED29: =+Sydtrafik!DY31 -> 0 | EE29: =+Sydtrafik!DZ31 -> 0 | ... EJ29: =+Sydtrafik!EE31 -> 0 | EL29: =+Sydtrafik!EF31 -> 5851 | EM29: =+Sydtrafik!EG31 -> 5752 | EN29: =+Sydtrafik!EH31 -> 5743 | EO29: =+Sydtrafik!EI31 -> 5848 | EP29: =+Sydtrafik!EJ31 -> 5774 | EQ29: =+Sydtrafik!EK31 -> 5747 | ER29: =+Sydtrafik!EL31 -> 5615 | ES29: =+Sydtrafik!EM31 -> 0 | ... EX29: =+Sydtrafik!ER31 -> 0 | EZ29: =+Sydtrafik!ES31 -> 219211 | FA29: =+Sydtrafik!ET31 -> 159332 | FB29: =+Sydtrafik!EU31 -> 131141 | FC29: =+Sydtrafik!EV31 -> 180465 | FD29: =+Sydtrafik!EW31 -> 186156 | FE29: =+Sydtrafik!EX31 -> 167201 | FF29: =+Sydtrafik!EY31 -> 150653 | FG29: =+Sydtrafik!EZ31 -> 0 | ... FL29: =+Sydtrafik!FE31 -> 0 | FN29: =+Sydtrafik!FF31 -> 310000 | FO29: =+Sydtrafik!FG31 -> 305000 | FP29: =+Sydtrafik!FH31 -> 304000 | FQ29: =+Sydtrafik!FI31 -> 310000 | FR29: =+Sydtrafik!FJ31 -> 306000 | FS29: =+Sydtrafik!FK31 -> 316000 | FT29: =+Sydtrafik!FL31 -> 297581 | FU29: =+Sydtrafik!FM31 -> 297581 | ... FZ29: =+Sydtrafik!FR31 -> 0 | GB29: =IFERROR(P29*1000000/EL29,"") -> 5246.9663 | GC29: =IFERROR(Q29*1000000/EM29,"") -> 5267.733 | GD29: =IFERROR(R29*1000000/EN29,"") -> 2733.7628 | GE29: =IFERROR(S29*1000000/EO29,"") -> 2992.4761 | GF29: =IFERROR(T29*1000000/EP29,"") -> 3342.5701 | GG29: =IFERROR(U29*1000000/EQ29,"") -> 3427.8754 | GH29: =IFERROR(V29*1000000/ER29,"") -> 3615.3161 | GI29: =IFERROR(W29*1000000/ES29,"") | ... GN29: =IFERROR(AB29*1000000/EX29,"") | GP29: =IFERROR(EL29/$EL29*100,"") -> 100 | GQ29: =IFERROR(EM29/$EL29*100,"") -> 98.307982 | GR29: =IFERROR(EN29/$EL29*100,"") -> 98.154162 | GS29: =IFERROR(EO29/$EL29*100,"") -> 99.948727 | GT29: =IFERROR(EP29/$EL29*100,"") -> 98.683986 | GU29: =IFERROR(EQ29/$EL29*100,"") -> 98.222526 | GV29: =IFERROR(ER29/$EL29*100,"") -> 95.966501 | GW29: =IFERROR(ES29/$EL29*100,"") -> 0 | ... HB29: =IFERROR(EX29/$EL29*100,"") -> 0 | HD29: =IFERROR((P29/EL29)/($P$29/$EL$29)*100,"") -> 100 | HE29: =IFERROR((Q29/EM29)/($P$29/$EL$29)*100,"") -> 100.39578 | HF29: =IFERROR((R29/EN29)/($P$29/$EL$29)*100,"") -> 52.10178 | HG29: =IFERROR((S29/EO29)/($P$29/$EL$29)*100,"") -> 57.0325 | HH29: =IFERROR((T29/EP29)/($P$29/$EL$29)*100,"") -> 63.704814 | HI29: =IFERROR((U29/EQ29)/($P$29/$EL$29)*100,"") -> 65.330616 | HJ29: =IFERROR((V29/ER29)/($P$29/$EL$29)*100,"") -> 68.902979 | HK29: =IFERROR((W29/ES29)/($P$29/$EL$29)*100,"") | ... HP29: =IFERROR((AB29/EX29)/($P$29/$EL$29)*100,"") | HR29: =IFERROR(EZ29/$EZ$29*100,"") -> 100 | HS29: =IFERROR(FA29/$EZ$29*100,"") -> 72.684309 | HT29: =IFERROR(FB29/$EZ$29*100,"") -> 59.824096 | HU29: =IFERROR(FC29/$EZ$29*100,"") -> 82.324792 | HV29: =IFERROR(FD29/$EZ$29*100,"") -> 84.920921 | HW29: =IFERROR(FE29/$EZ$29*100,"") -> 76.274001 | HX29: =IFERROR(FF29/$EZ$29*100,"") -> 68.72511 | HY29: =IFERROR(FG29/$EZ$29*100,"") -> 0 | ... ID29: =IFERROR(FL29/$EZ$29*100,"") -> 0
A30: Total | B30: =SUM(B24:B29) -> 330.63049 | C30: =SUM(C24:C29) -> 239.10688 | D30: =SUM(D24:D29) -> 294.82647 | E30: =SUM(E24:E29) -> 355.1047 | F30: =SUM(F24:F29) -> 390.37937 | G30: =SUM(G24:G29) -> 408.97525 | H30: =SUM(H24:H29) -> 433.67079 | I30: =SUM(I24:I29) -> 459.79915 | ... N30: =SUM(N24:N29) -> 0 | P30: =SUM(P24:P29) -> 966.89135 | Q30: =SUM(Q24:Q29) -> 996.55286 | R30: =SUM(R24:R29) -> 1054.8957 | S30: =SUM(S24:S29) -> 1113.7756 | T30: =SUM(T24:T29) -> 1175.4367 | U30: =SUM(U24:U29) -> 1247.3557 | V30: =SUM(V24:V29) -> 1319.7633 | W30: =SUM(W24:W29) -> 1422.6985 | ... AB30: =SUM(AB24:AB29) -> 0 | AD30: =SUM(AD24:AD29) -> 39.356981 | AE30: =SUM(AE24:AE29) -> 28.094446 | AF30: =SUM(AF24:AF29) -> 31.168116 | AG30: =SUM(AG24:AG29) -> 33.349918 | AH30: =SUM(AH24:AH29) -> 31.815922 | AI30: =SUM(AI24:AI29) -> 31.075011 | AJ30: =SUM(AJ24:AJ29) -> 37.437199 | AK30: =SUM(AK24:AK29) -> 37.344232 | ... AP30: =SUM(AP24:AP29) -> 0 | AR30: =SUM(AR24:AR29) -> 0 | AS30: =SUM(AS24:AS29) -> 0 | AT30: =SUM(AT24:AT29) -> 0 | AU30: =SUM(AU24:AU29) -> 0 | AV30: =SUM(AV24:AV29) -> 0 | AW30: =SUM(AW24:AW29) -> 0 | AX30: =SUM(AX24:AX29) -> 0 | AY30: =SUM(AY24:AY29) -> 0 | ... BD30: =SUM(BD24:BD29) -> 0 | BF30: =SUM(BF24:BF29) -> 0.3336696 | BG30: =SUM(BG24:BG29) -> 0.5665862 | BH30: =SUM(BH24:BH29) -> 0.3358222 | BI30: =SUM(BI24:BI29) -> 0.0746661 | BJ30: =SUM(BJ24:BJ29) -> 0.7355392 | BK30: =SUM(BK24:BK29) -> 0.6097118 | BL30: =SUM(BL24:BL29) -> 0.6977924 | BM30: =SUM(BM24:BM29) -> 0.8422006 | ... BR30: =SUM(BR24:BR29) -> 0 | BT30: =SUM(BT24:BT29) -> 0 | BU30: =SUM(BU24:BU29) -> -0.4619951 | BV30: =SUM(BV24:BV29) -> -10.083963 | BW30: =SUM(BW24:BW29) -> 5.3322901 | BX30: =SUM(BX24:BX29) -> -0.2143521 | BY30: =SUM(BY24:BY29) -> -0.4275892 | BZ30: =SUM(BZ24:BZ29) -> 0 | CA30: =SUM(CA24:CA29) -> 0 | ... CF30: =SUM(CF24:CF29) -> 0 | CH30: =SUM(CH24:CH29) -> 699.28199 | CI30: =SUM(CI24:CI29) -> 699.91388 | CJ30: =SUM(CJ24:CJ29) -> 739.99958 | CK30: =SUM(CK24:CK29) -> 788.20021 | CL30: =SUM(CL24:CL29) -> 810.08818 | CM30: =SUM(CM24:CM29) -> 848.54039 | CN30: =SUM(CN24:CN29) -> 895.89856 | CO30: =SUM(CO24:CO29) -> 944.63996 | ... CT30: =SUM(CT24:CT29) -> 0 | CV30: =SUM(CV24:CV29) -> 442.95151 | CW30: =SUM(CW24:CW29) -> 454.76636 | CX30: =SUM(CX24:CX29) -> 473.61426 | CY30: =SUM(CY24:CY29) -> 513.91945 | CZ30: =SUM(CZ24:CZ29) -> 509.57927 | DA30: =SUM(DA24:DA29) -> 553.03029 | DB30: =SUM(DB24:DB29) -> 579.80454 | DC30: =SUM(DC24:DC29) -> 612.48481 | ... DH30: =SUM(DH24:DH29) -> 0 | DJ30: =IFERROR(AD30/CH30,"") -> 0.056281989 | DK30: =IFERROR(AE30/CI30,"") -> 0.040139861 | DL30: =IFERROR(AF30/CJ30,"") -> 0.0421191 | DM30: =IFERROR(AG30/CK30,"") -> 0.042311481 | DN30: =IFERROR(AH30/CL30,"") -> 0.03927464 | DO30: =IFERROR(AI30/CM30,"") -> 0.036621723 | DP30: =IFERROR(AJ30/CN30,"") -> 0.041787319 | DQ30: =IFERROR(AK30/CO30,"") -> 0.039532767 | ... DV30: =IFERROR(AP30/CT30,"") | DX30: =SUM(DX24:DX29) -> 0 | DY30: =SUM(DY24:DY29) -> 0 | DZ30: =SUM(DZ24:DZ29) -> 0 | EA30: =SUM(EA24:EA29) -> 0 | EB30: =SUM(EB24:EB29) -> 0 | EC30: =SUM(EC24:EC29) -> 0 | ED30: =SUM(ED24:ED29) -> 0 | EE30: =SUM(EE24:EE29) -> 0 | ... EJ30: =SUM(EJ24:EJ29) -> 0 | EL30: =SUM(EL24:EL29) -> 278980 | EM30: =SUM(EM24:EM29) -> 284085 | EN30: =SUM(EN24:EN29) -> 303368 | EO30: =SUM(EO24:EO29) -> 305127 | EP30: =SUM(EP24:EP29) -> 305159 | EQ30: =SUM(EQ24:EQ29) -> 255856.08 | ER30: =SUM(ER24:ER29) -> 263311.43 | ES30: =SUM(ES24:ES29) -> 274353 | ... EX30: =SUM(EX24:EX29) -> 0 | EZ30: =SUM(EZ24:EZ29) -> 17523703 | FA30: =SUM(FA24:FA29) -> 13172808 | FB30: =SUM(FB24:FB29) -> 14128678 | FC30: =SUM(FC24:FC29) -> 18348109 | FD30: =SUM(FD24:FD29) -> 19119953 | FE30: =SUM(FE24:FE29) -> 19063986 | FF30: =SUM(FF24:FF29) -> 18883470 | FG30: =SUM(FG24:FG29) -> 16726575 | ... FL30: =SUM(FL24:FL29) -> 0 | FN30: =SUM(FN24:FN29) -> 14082237 | FO30: =SUM(FO24:FO29) -> 13905813 | FP30: =SUM(FP24:FP29) -> 15423276 | FQ30: =SUM(FQ24:FQ29) -> 15504231 | FR30: =SUM(FR24:FR29) -> 15621268 | FS30: =SUM(FS24:FS29) -> 15386409 | FT30: =SUM(FT24:FT29) -> 15965953 | FU30: =SUM(FU24:FU29) -> 17039978 | ... FZ30: =SUM(FZ24:FZ29) -> 0 | GB30: =IFERROR(P30*1000000/EL30,"") -> 3465.8088 | GC30: =IFERROR(Q30*1000000/EM30,"") -> 3507.939 | GD30: =IFERROR(R30*1000000/EN30,"") -> 3477.2806 | GE30: =IFERROR(S30*1000000/EO30,"") -> 3650.2034 | GF30: =IFERROR(T30*1000000/EP30,"") -> 3851.8828 | GG30: =IFERROR(U30*1000000/EQ30,"") -> 4875.2238 | GH30: =IFERROR(V30*1000000/ER30,"") -> 5012.1762 | GI30: =IFERROR(W30*1000000/ES30,"") -> 5185.6496 | ... GN30: =IFERROR(AB30*1000000/EX30,"") | GP30: =IFERROR(EL30/$EL30*100,"") -> 100 | GQ30: =IFERROR(EM30/$EL30*100,"") -> 101.82988 | GR30: =IFERROR(EN30/$EL30*100,"") -> 108.74185 | GS30: =IFERROR(EO30/$EL30*100,"") -> 109.37236 | GT30: =IFERROR(EP30/$EL30*100,"") -> 109.38383 | GU30: =IFERROR(EQ30/$EL30*100,"") -> 91.711262 | GV30: =IFERROR(ER30/$EL30*100,"") -> 94.383622 | GW30: =IFERROR(ES30/$EL30*100,"") -> 98.341458 | ... HB30: =IFERROR(EX30/$EL30*100,"") -> 0 | HD30: =IFERROR((P30/EL30)/($P$30/$EL$30)*100,"") -> 100 | HE30: =IFERROR((Q30/EM30)/($P$30/$EL$30)*100,"") -> 101.2156 | HF30: =IFERROR((R30/EN30)/($P$30/$EL$30)*100,"") -> 100.331 | HG30: =IFERROR((S30/EO30)/($P$30/$EL$30)*100,"") -> 105.32039 | HH30: =IFERROR((T30/EP30)/($P$30/$EL$30)*100,"") -> 111.13951 | HI30: =IFERROR((U30/EQ30)/($P$30/$EL$30)*100,"") -> 140.66627 | HJ30: =IFERROR((V30/ER30)/($P$30/$EL$30)*100,"") -> 144.61779 | HK30: =IFERROR((W30/ES30)/($P$30/$EL$30)*100,"") -> 149.62307 | ... HP30: =IFERROR((AB30/EX30)/($P$30/$EL$30)*100,"") | HR30: =IFERROR(EZ30/$EZ$30*100,"") -> 100 | HS30: =IFERROR(FA30/$EZ$30*100,"") -> 75.171372 | HT30: =IFERROR(FB30/$EZ$30*100,"") -> 80.626098 | HU30: =IFERROR(FC30/$EZ$30*100,"") -> 104.70452 | HV30: =IFERROR(FD30/$EZ$30*100,"") -> 109.10909 | HW30: =IFERROR(FE30/$EZ$30*100,"") -> 108.78971 | HX30: =IFERROR(FF30/$EZ$30*100,"") -> 107.75959 | HY30: =IFERROR(FG30/$EZ$30*100,"") -> 95.451144 | ... ID30: =IFERROR(FL30/$EZ$30*100,"") -> 0
A32: FLEXTRAFIK
A33: BAT | B33: =+BAT!F9 -> 0 | C33: =+BAT!G9 -> 0 | D33: =+BAT!H9 -> 0 | E33: =+BAT!I9 -> 0 | F33: =+BAT!J9 -> 0 | G33: =+BAT!K9 -> 0 | H33: =+BAT!L9 -> 0 | I33: =+BAT!M9 -> 0 | ... N33: =+BAT!R9 -> 0 | P33: =+BAT!S9 -> 0 | Q33: =+BAT!T9 -> 0 | R33: =+BAT!U9 -> 0 | S33: =+BAT!V9 -> 0 | T33: =+BAT!W9 -> 0 | U33: =+BAT!X9 -> 0 | V33: =+BAT!Y9 -> 0 | W33: =+BAT!Z9 -> 0 | ... AB33: =+BAT!AE9 -> 0 | AD33: =+BAT!AF9 -> 0 | AE33: =+BAT!AG9 -> 0 | AF33: =+BAT!AH9 -> 0 | AG33: =+BAT!AI9 -> 0 | AH33: =+BAT!AJ9 -> 0 | AI33: =+BAT!AK9 -> 0 | AJ33: =+BAT!AL9 -> 0 | AK33: =+BAT!AM9 -> 0 | ... AP33: =+BAT!AR9 -> 0 | AR33: =+BAT!AS9 -> 0 | AS33: =+BAT!AT9 -> 0 | AT33: =+BAT!AU9 -> 0 | AU33: =+BAT!AV9 -> 0 | AV33: =+BAT!AW9 -> 0 | AW33: =+BAT!AX9 -> 0 | AX33: =+BAT!AY9 -> 0 | AY33: =+BAT!AZ9 -> 0 | ... BD33: =+BAT!BE9 -> 0 | BF33: =+BAT!BF9 -> 0 | BG33: =+BAT!BG9 -> 0 | BH33: =+BAT!BH9 -> 0 | BI33: =+BAT!BI9 -> 0 | BJ33: =+BAT!BJ9 -> 0 | BK33: =+BAT!BK9 -> 0 | BL33: =+BAT!BL9 -> 0 | BM33: =+BAT!BM9 -> 0 | ... BR33: =+BAT!BR9 -> 0 | BT33: =+BAT!BS9 -> 0 | BU33: =+BAT!BT9 -> 0 | BV33: =+BAT!BU9 -> 0 | BW33: =+BAT!BV9 -> 0 | BX33: =+BAT!BW9 -> 0 | BY33: =+BAT!BX9 -> 0 | BZ33: =+BAT!BY9 -> 0 | CA33: =+BAT!BZ9 -> 0 | ... CF33: =+BAT!CE9 -> 0 | CH33: =+BAT!CF9 -> 0 | CI33: =+BAT!CG9 -> 0 | CJ33: =+BAT!CH9 -> 0 | CK33: =+BAT!CI9 -> 0 | CL33: =+BAT!CJ9 -> 0 | CM33: =+BAT!CK9 -> 0 | CN33: =+BAT!CL9 -> 0 | CO33: =+BAT!CM9 -> 0 | ... CT33: =+BAT!CR9 -> 0 | CV33: =+BAT!CS9 -> 0 | CW33: =+BAT!CT9 -> 0 | CX33: =+BAT!CU9 -> 0 | CY33: =+BAT!CV9 -> 0 | CZ33: =+BAT!CW9 -> 0 | DA33: =+BAT!CX9 -> 0 | DB33: =+BAT!CY9 -> 0 | DC33: =+BAT!CZ9 -> 0 | ... DH33: =+BAT!DE9 -> 0 | DJ33: =+BAT!DF9 -> 0 | DK33: =+BAT!DG9 -> 0 | DL33: =+BAT!DH9 -> 0 | DM33: =+BAT!DI9 -> 0 | DN33: =+BAT!DJ9 -> 0 | DO33: =+BAT!DK9 -> 0 | DP33: =+BAT!DL9 -> 0 | DQ33: =+BAT!DM9 -> 0 | ... DV33: =+BAT!DR9 -> 0 | DX33: =+BAT!DS9 -> 0 | DY33: =+BAT!DT9 -> 0 | DZ33: =+BAT!DU9 -> 0 | EA33: =+BAT!DV9 -> 0 | EB33: =+BAT!DW9 -> 0 | EC33: =+BAT!DX9 -> 0 | ED33: =+BAT!DY9 -> 0 | EE33: =+BAT!DZ9 -> 0 | ... EJ33: =+BAT!EE9 -> 0 | EL33: =+BAT!EF9 -> 0 | EM33: =+BAT!EG9 -> 0 | EN33: =+BAT!EH9 -> 0 | EO33: =+BAT!EI9 -> 0 | EP33: =+BAT!EJ9 -> 0 | EQ33: =+BAT!EK9 -> 0 | ER33: =+BAT!EL9 -> 0 | ES33: =+BAT!EM9 -> 0 | ... EX33: =+BAT!ER9 -> 0 | EZ33: =+BAT!ES9 -> 0 | FA33: =+BAT!ET9 -> 0 | FB33: =+BAT!EU9 -> 0 | FC33: =+BAT!EV9 -> 0 | FD33: =+BAT!EW9 -> 0 | FE33: =+BAT!EX9 -> 0 | FF33: =+BAT!EY9 -> 0 | FG33: =+BAT!EZ9 -> 0 | ... FL33: =+BAT!FE9 -> 0 | FN33: =+BAT!FF9 -> 0 | FO33: =+BAT!FG9 -> 0 | FP33: =+BAT!FH9 -> 0 | FQ33: =+BAT!FI9 -> 0 | FR33: =+BAT!FJ9 -> 0 | FS33: =+BAT!FK9 -> 0 | FT33: =+BAT!FL9 -> 0 | FU33: =+BAT!FM9 -> 0 | ... FZ33: =+BAT!FR9 -> 0 | HR33: =IFERROR(EZ33/$EZ$33*100,"") | HS33: =IFERROR(FA33/$EZ$33*100,"") | HT33: =IFERROR(FB33/$EZ$33*100,"") | HU33: =IFERROR(FC33/$EZ$33*100,"") | HV33: =IFERROR(FD33/$EZ$33*100,"") | HW33: =IFERROR(FE33/$EZ$33*100,"") | HX33: =IFERROR(FF33/$EZ$33*100,"") | HY33: =IFERROR(FG33/$EZ$33*100,"") | ... ID33: =IFERROR(FL33/$EZ$33*100,"")
A34: FynBus | B34: =+FynBus!F9 -> 6.816 | C34: =+FynBus!G9 -> 7.295 | D34: =+FynBus!H9 -> 8.5 | E34: =+FynBus!I9 -> 9.315 | F34: =+FynBus!J9 -> 10.44 | G34: =+FynBus!K9 -> 12.05 | H34: =+FynBus!L9 -> 12.272 | I34: =+FynBus!M9 -> 13.382516 | ... N34: =+FynBus!R9 -> 0 | P34: =+FynBus!S9 -> 80.662 | Q34: =+FynBus!T9 -> 54.858 | R34: =+FynBus!U9 -> 69.867 | S34: =+FynBus!V9 -> 84.893 | T34: =+FynBus!W9 -> 101.625 | U34: =+FynBus!X9 -> 108.618 | V34: =+FynBus!Y9 -> 101.163 | W34: =+FynBus!Z9 -> 105.08447 | ... AB34: =+FynBus!AE9 -> 0 | AD34: =+FynBus!AF9 -> 24.491 | AE34: =+FynBus!AG9 -> 25.4 | AF34: =+FynBus!AH9 -> 25.38 | AG34: =+FynBus!AI9 -> 28.046 | AH34: =+FynBus!AJ9 -> 28.941 | AI34: =+FynBus!AK9 -> 28.548 | AJ34: =+FynBus!AL9 -> 29.761 | AK34: =+FynBus!AM9 -> 32.302365 | ... AP34: =+FynBus!AR9 -> 0 | AR34: =+FynBus!AS9 -> 0 | AS34: =+FynBus!AT9 -> 0 | AT34: =+FynBus!AU9 -> 0 | AU34: =+FynBus!AV9 -> 0 | AV34: =+FynBus!AW9 -> 0 | AW34: =+FynBus!AX9 -> 0 | AX34: =+FynBus!AY9 -> 0 | AY34: =+FynBus!AZ9 -> 0 | ... BD34: =+FynBus!BE9 -> 0 | BF34: =+FynBus!BF9 -> 0 | BG34: =+FynBus!BG9 -> 0 | BH34: =+FynBus!BH9 -> 0 | BI34: =+FynBus!BI9 -> 0 | BJ34: =+FynBus!BJ9 -> 0 | BK34: =+FynBus!BK9 -> 0 | BL34: =+FynBus!BL9 -> 0 | BM34: =+FynBus!BM9 -> 0 | ... BR34: =+FynBus!BR9 -> 0 | BT34: =+FynBus!BS9 -> 0 | BU34: =+FynBus!BT9 -> 0 | BV34: =+FynBus!BU9 -> 0 | BW34: =+FynBus!BV9 -> 0 | BX34: =+FynBus!BW9 -> 0 | BY34: =+FynBus!BX9 -> 0 | BZ34: =+FynBus!BY9 -> 0 | CA34: =+FynBus!BZ9 -> 0 | ... CF34: =+FynBus!CE9 -> 0 | CH34: =+FynBus!CF9 -> 0 | CI34: =+FynBus!CG9 -> 0 | CJ34: =+FynBus!CH9 -> 0 | CK34: =+FynBus!CI9 -> 0 | CL34: =+FynBus!CJ9 -> 0 | CM34: =+FynBus!CK9 -> 0 | CN34: =+FynBus!CL9 -> 0 | CO34: =+FynBus!CM9 -> 0 | ... CT34: =+FynBus!CR9 -> 0 | CV34: =+FynBus!CS9 -> 0 | CW34: =+FynBus!CT9 -> 0 | CX34: =+FynBus!CU9 -> 0 | CY34: =+FynBus!CV9 -> 0 | CZ34: =+FynBus!CW9 -> 0 | DA34: =+FynBus!CX9 -> 0 | DB34: =+FynBus!CY9 -> 0 | DC34: =+FynBus!CZ9 -> 0 | ... DH34: =+FynBus!DE9 -> 0 | DJ34: =+FynBus!DF9 -> 0 | DK34: =+FynBus!DG9 -> 0 | DL34: =+FynBus!DH9 -> 0 | DM34: =+FynBus!DI9 -> 0 | DN34: =+FynBus!DJ9 -> 0 | DO34: =+FynBus!DK9 -> 0 | DP34: =+FynBus!DL9 -> 0 | DQ34: =+FynBus!DM9 -> 0 | ... DV34: =+FynBus!DR9 -> 0 | DX34: =+FynBus!DS9 -> 0 | DY34: =+FynBus!DT9 -> 0 | DZ34: =+FynBus!DU9 -> 0 | EA34: =+FynBus!DV9 -> 0 | EB34: =+FynBus!DW9 -> 0 | EC34: =+FynBus!DX9 -> 0 | ED34: =+FynBus!DY9 -> 0 | EE34: =+FynBus!DZ9 -> 0 | ... EJ34: =+FynBus!EE9 -> 0 | EL34: =+FynBus!EF9 -> 0 | EM34: =+FynBus!EG9 -> 0 | EN34: =+FynBus!EH9 -> 0 | EO34: =+FynBus!EI9 -> 0 | EP34: =+FynBus!EJ9 -> 0 | EQ34: =+FynBus!EK9 -> 0 | ER34: =+FynBus!EL9 -> 0 | ES34: =+FynBus!EM9 -> 0 | ... EX34: =+FynBus!ER9 -> 0 | EZ34: =+FynBus!ES9 -> 0 | FA34: =+FynBus!ET9 -> 0 | FB34: =+FynBus!EU9 -> 0 | FC34: =+FynBus!EV9 -> 0 | FD34: =+FynBus!EW9 -> 0 | FE34: =+FynBus!EX9 -> 0 | FF34: =+FynBus!EY9 -> 0 | FG34: =+FynBus!EZ9 -> 0 | ... FL34: =+FynBus!FE9 -> 0 | FN34: =+FynBus!FF9 -> 0 | FO34: =+FynBus!FG9 -> 0 | FP34: =+FynBus!FH9 -> 0 | FQ34: =+FynBus!FI9 -> 0 | FR34: =+FynBus!FJ9 -> 0 | FS34: =+FynBus!FK9 -> 0 | FT34: =+FynBus!FL9 -> 0 | FU34: =+FynBus!FM9 -> 0 | ... FZ34: =+FynBus!FR9 -> 0 | HR34: =IFERROR(EZ34/$EZ$34*100,"") | HS34: =IFERROR(FA34/$EZ$34*100,"") | HT34: =IFERROR(FB34/$EZ$34*100,"") | HU34: =IFERROR(FC34/$EZ$34*100,"") | HV34: =IFERROR(FD34/$EZ$34*100,"") | HW34: =IFERROR(FE34/$EZ$34*100,"") | HX34: =IFERROR(FF34/$EZ$34*100,"") | HY34: =IFERROR(FG34/$EZ$34*100,"") | ... ID34: =IFERROR(FL34/$EZ$34*100,"")
A35: Midttrafik | B35: =+'Midttrafik '!F9 -> 18.7 | C35: =+'Midttrafik '!G9 -> 13.3 | D35: =+'Midttrafik '!H9 -> 19.8 | E35: =+'Midttrafik '!I9 -> 22.4 | F35: =+'Midttrafik '!J9 -> 26.6 | G35: =+'Midttrafik '!K9 -> 31.9 | H35: =+'Midttrafik '!L9 -> 34.139844 | I35: =+'Midttrafik '!M9 -> 27.464 | ... N35: =+'Midttrafik '!R9 -> 0 | P35: =+'Midttrafik '!S9 -> 507.5 | Q35: =+'Midttrafik '!T9 -> 486.5 | R35: =+'Midttrafik '!U9 -> 530.8 | S35: =+'Midttrafik '!V9 -> 579 | T35: =+'Midttrafik '!W9 -> 655.7 | U35: =+'Midttrafik '!X9 -> 703.9 | V35: =+'Midttrafik '!Y9 -> 643.15492 | W35: =+'Midttrafik '!Z9 -> 672.2537 | ... AB35: =+'Midttrafik '!AE9 -> 0 | AD35: =+'Midttrafik '!AF9 -> 0 | AE35: =+'Midttrafik '!AG9 -> 0 | AF35: =+'Midttrafik '!AH9 -> 0 | AG35: =+'Midttrafik '!AI9 -> 0 | AH35: =+'Midttrafik '!AJ9 -> 0 | AI35: =+'Midttrafik '!AK9 -> 0 | AJ35: =+'Midttrafik '!AL9 -> 0 | AK35: =+'Midttrafik '!AM9 -> 0 | ... AP35: =+'Midttrafik '!AR9 -> 0 | AR35: =+'Midttrafik '!AS9 -> 0 | AS35: =+'Midttrafik '!AT9 -> 0 | AT35: =+'Midttrafik '!AU9 -> 0 | AU35: =+'Midttrafik '!AV9 -> 0 | AV35: =+'Midttrafik '!AW9 -> 0 | AW35: =+'Midttrafik '!AX9 -> 0 | AX35: =+'Midttrafik '!AY9 -> 0 | AY35: =+'Midttrafik '!AZ9 -> 0 | ... BD35: =+'Midttrafik '!BE9 -> 0 | BF35: =+'Midttrafik '!BF9 -> 0 | BG35: =+'Midttrafik '!BG9 -> 0 | BH35: =+'Midttrafik '!BH9 -> 0 | BI35: =+'Midttrafik '!BI9 -> 0 | BJ35: =+'Midttrafik '!BJ9 -> 0 | BK35: =+'Midttrafik '!BK9 -> 0 | BL35: =+'Midttrafik '!BL9 -> 0 | BM35: =+'Midttrafik '!BM9 -> 0 | ... BR35: =+'Midttrafik '!BR9 -> 0 | BT35: =+'Midttrafik '!BS9 -> 0 | BU35: =+'Midttrafik '!BT9 -> -30.7 | BV35: =+'Midttrafik '!BU9 -> 4.5 | BW35: =+'Midttrafik '!BV9 -> 0 | BX35: =+'Midttrafik '!BW9 -> 4.1 | BY35: =+'Midttrafik '!BX9 -> 0 | BZ35: =+'Midttrafik '!BY9 -> 0 | CA35: =+'Midttrafik '!BZ9 -> 0 | ... CF35: =+'Midttrafik '!CE9 -> 0 | CH35: =+'Midttrafik '!CF9 -> 0 | CI35: =+'Midttrafik '!CG9 -> 0 | CJ35: =+'Midttrafik '!CH9 -> 0 | CK35: =+'Midttrafik '!CI9 -> 0 | CL35: =+'Midttrafik '!CJ9 -> 0 | CM35: =+'Midttrafik '!CK9 -> 0 | CN35: =+'Midttrafik '!CL9 -> 0 | CO35: =+'Midttrafik '!CM9 -> 0 | ... CT35: =+'Midttrafik '!CR9 -> 0 | CV35: =+'Midttrafik '!CS9 -> 0 | CW35: =+'Midttrafik '!CT9 -> 0 | CX35: =+'Midttrafik '!CU9 -> 0 | CY35: =+'Midttrafik '!CV9 -> 0 | CZ35: =+'Midttrafik '!CW9 -> 0 | DA35: =+'Midttrafik '!CX9 -> 0 | DB35: =+'Midttrafik '!CY9 -> 0 | DC35: =+'Midttrafik '!CZ9 -> 0 | ... DH35: =+'Midttrafik '!DE9 -> 0 | DJ35: =+'Midttrafik '!DF9 -> 0 | DK35: =+'Midttrafik '!DG9 -> 0 | DL35: =+'Midttrafik '!DH9 -> 0 | DM35: =+'Midttrafik '!DI9 -> 0 | DN35: =+'Midttrafik '!DJ9 -> 0 | DO35: =+'Midttrafik '!DK9 -> 0 | DP35: =+'Midttrafik '!DL9 -> 0 | DQ35: =+'Midttrafik '!DM9 -> 0 | ... DV35: =+'Midttrafik '!DR9 -> 0 | DX35: =+'Midttrafik '!DS9 -> 0 | DY35: =+'Midttrafik '!DT9 -> 0 | DZ35: =+'Midttrafik '!DU9 -> 0 | EA35: =+'Midttrafik '!DV9 -> 0 | EB35: =+'Midttrafik '!DW9 -> 0 | EC35: =+'Midttrafik '!DX9 -> 0 | ED35: =+'Midttrafik '!DY9 -> 0 | EE35: =+'Midttrafik '!DZ9 -> 0 | ... EJ35: =+'Midttrafik '!EE9 -> 0 | EL35: =+'Midttrafik '!EF9 -> 0 | EM35: =+'Midttrafik '!EG9 -> 0 | EN35: =+'Midttrafik '!EH9 -> 0 | EO35: =+'Midttrafik '!EI9 -> 0 | EP35: =+'Midttrafik '!EJ9 -> 0 | EQ35: =+'Midttrafik '!EK9 -> 0 | ER35: =+'Midttrafik '!EL9 -> 0 | ES35: =+'Midttrafik '!EM9 -> 0 | ... EX35: =+'Midttrafik '!ER9 -> 0 | EZ35: =+'Midttrafik '!ES9 -> 0 | FA35: =+'Midttrafik '!ET9 -> 0 | FB35: =+'Midttrafik '!EU9 -> 0 | FC35: =+'Midttrafik '!EV9 -> 0 | FD35: =+'Midttrafik '!EW9 -> 0 | FE35: =+'Midttrafik '!EX9 -> 0 | FF35: =+'Midttrafik '!EY9 -> 0 | FG35: =+'Midttrafik '!EZ9 -> 0 | ... FL35: =+'Midttrafik '!FE9 -> 0 | FN35: =+'Midttrafik '!FF9 -> 0 | FO35: =+'Midttrafik '!FG9 -> 0 | FP35: =+'Midttrafik '!FH9 -> 0 | FQ35: =+'Midttrafik '!FI9 -> 0 | FR35: =+'Midttrafik '!FJ9 -> 0 | FS35: =+'Midttrafik '!FK9 -> 0 | FT35: =+'Midttrafik '!FL9 -> 0 | FU35: =+'Midttrafik '!FM9 -> 0 | ... FZ35: =+'Midttrafik '!FR9 -> 0 | HR35: =IFERROR(EZ35/$EZ$35*100,"") | HS35: =IFERROR(FA35/$EZ$35*100,"") | HT35: =IFERROR(FB35/$EZ$35*100,"") | HU35: =IFERROR(FC35/$EZ$35*100,"") | HV35: =IFERROR(FD35/$EZ$35*100,"") | HW35: =IFERROR(FE35/$EZ$35*100,"") | HX35: =IFERROR(FF35/$EZ$35*100,"") | HY35: =IFERROR(FG35/$EZ$35*100,"") | ... ID35: =IFERROR(FL35/$EZ$35*100,"")
A36: Movia | B36: =+Movia!F9 -> 56.24971 | C36: =+Movia!G9 -> 43.42403 | D36: =+Movia!H9 -> 51.34275 | E36: =+Movia!I9 -> 58.89356 | F36: =+Movia!J9 -> 64.41786 | G36: =+Movia!K9 -> 73.08459 | H36: =+Movia!L9 -> 81.12655 | I36: =+Movia!M9 -> 83.12865 | ... N36: =+Movia!R9 -> 0 | P36: =+Movia!S9 -> 645.03631 | Q36: =+Movia!T9 -> 591.08105 | R36: =+Movia!U9 -> 642.09876 | S36: =+Movia!V9 -> 786.35913 | T36: =+Movia!W9 -> 803.5136 | U36: =+Movia!X9 -> 789.51058 | V36: =+Movia!Y9 -> 761.38385 | W36: =+Movia!Z9 -> 779.42623 | ... AB36: =+Movia!AE9 -> 0 | AD36: =+Movia!AF9 -> 70.53317 | AE36: =+Movia!AG9 -> 78.42905 | AF36: =+Movia!AH9 -> 84.0743 | AG36: =+Movia!AI9 -> 87.05842 | AH36: =+Movia!AJ9 -> 78.51632 | AI36: =+Movia!AK9 -> 96.318 | AJ36: =+Movia!AL9 -> 100.23259 | AK36: =+Movia!AM9 -> 106.49999 | ... AP36: =+Movia!AR9 -> 0 | AR36: =+Movia!AS9 -> 0 | AS36: =+Movia!AT9 -> 0 | AT36: =+Movia!AU9 -> 0 | AU36: =+Movia!AV9 -> 0 | AV36: =+Movia!AW9 -> 0 | AW36: =+Movia!AX9 -> 0 | AX36: =+Movia!AY9 -> 0 | AY36: =+Movia!AZ9 -> 0 | ... BD36: =+Movia!BE9 -> 0 | BF36: =+Movia!BF9 -> 1.00476 | BG36: =+Movia!BG9 -> 1.17503 | BH36: =+Movia!BH9 -> 0 | BI36: =+Movia!BI9 -> 0 | BJ36: =+Movia!BJ9 -> 0 | BK36: =+Movia!BK9 -> 0 | BL36: =+Movia!BL9 -> 0 | BM36: =+Movia!BM9 -> 0 | ... BR36: =+Movia!BR9 -> 0 | BT36: =+Movia!BS9 -> 0 | BU36: =+Movia!BT9 -> 88.38335 | BV36: =+Movia!BU9 -> 22.1317 | BW36: =+Movia!BV9 -> 0 | BX36: =+Movia!BW9 -> -10.58135 | BY36: =+Movia!BX9 -> -0.38761 | BZ36: =+Movia!BY9 -> 0 | CA36: =+Movia!BZ9 -> 0 | ... CF36: =+Movia!CE9 -> 0 | CH36: =+Movia!CF9 -> 716.57424 | CI36: =+Movia!CG9 -> 670.68514 | CJ36: =+Movia!CH9 -> 726.17306 | CK36: =+Movia!CI9 -> 873.41754 | CL36: =+Movia!CJ9 -> 882.02992 | CM36: =+Movia!CK9 -> 885.82858 | CN36: =+Movia!CL9 -> 861.61644 | CO36: =+Movia!CM9 -> 885.92622 | ... CT36: =+Movia!CR9 -> 0 | CV36: =+Movia!CS9 -> 660.32453 | CW36: =+Movia!CT9 -> 715.64445 | CX36: =+Movia!CU9 -> 696.96201 | CY36: =+Movia!CV9 -> 814.52399 | CZ36: =+Movia!CW9 -> 807.03071 | DA36: =+Movia!CX9 -> 812.35639 | DB36: =+Movia!CY9 -> 780.48989 | DC36: =+Movia!CZ9 -> 802.79757 | ... DH36: =+Movia!DE9 -> 0 | DJ36: =+Movia!DF9 -> 0.0984 | DK36: =+Movia!DG9 -> 0.1169 | DL36: =+Movia!DH9 -> 0.1158 | DM36: =+Movia!DI9 -> 0.0997 | DN36: =+Movia!DJ9 -> 0.089 | DO36: =+Movia!DK9 -> 0.1087 | DP36: =+Movia!DL9 -> 0.1163 | DQ36: =+Movia!DM9 -> 0.1202 | ... DV36: =+Movia!DR9 -> 0 | DX36: =+Movia!DS9 -> 0 | DY36: =+Movia!DT9 -> 0 | DZ36: =+Movia!DU9 -> 0 | EA36: =+Movia!DV9 -> 0 | EB36: =+Movia!DW9 -> 0 | EC36: =+Movia!DX9 -> 0 | ED36: =+Movia!DY9 -> 0 | EE36: =+Movia!DZ9 -> 0 | ... EJ36: =+Movia!EE9 -> 0 | EL36: =+Movia!EF9 -> 0 | EM36: =+Movia!EG9 -> 0 | EN36: =+Movia!EH9 -> 0 | EO36: =+Movia!EI9 -> 0 | EP36: =+Movia!EJ9 -> 0 | EQ36: =+Movia!EK9 -> 0 | ER36: =+Movia!EL9 -> 0 | ES36: =+Movia!EM9 -> 0 | ... EX36: =+Movia!ER9 -> 0 | EZ36: =+Movia!ES9 -> 3703810 | FA36: =+Movia!ET9 -> 3113997 | FB36: =+Movia!EU9 -> 3401204 | FC36: =+Movia!EV9 -> 3669939 | FD36: =+Movia!EW9 -> 3714189 | FE36: =+Movia!EX9 -> 3731352 | FF36: =+Movia!EY9 -> 3656466 | FG36: =+Movia!EZ9 -> 3716173.7 | ... FL36: =+Movia!FE9 -> 0 | FN36: =+Movia!FF9 -> 0 | FO36: =+Movia!FG9 -> 0 | FP36: =+Movia!FH9 -> 0 | FQ36: =+Movia!FI9 -> 0 | FR36: =+Movia!FJ9 -> 0 | FS36: =+Movia!FK9 -> 0 | FT36: =+Movia!FL9 -> 0 | FU36: =+Movia!FM9 -> 0 | ... FZ36: =+Movia!FR9 -> 0 | HR36: =IFERROR(EZ36/$EZ$36*100,"") -> 100 | HS36: =IFERROR(FA36/$EZ$36*100,"") -> 84.075506 | HT36: =IFERROR(FB36/$EZ$36*100,"") -> 91.829872 | HU36: =IFERROR(FC36/$EZ$36*100,"") -> 99.085509 | HV36: =IFERROR(FD36/$EZ$36*100,"") -> 100.28022 | HW36: =IFERROR(FE36/$EZ$36*100,"") -> 100.74361 | HX36: =IFERROR(FF36/$EZ$36*100,"") -> 98.721749 | HY36: =IFERROR(FG36/$EZ$36*100,"") -> 100.33381 | ... ID36: =IFERROR(FL36/$EZ$36*100,"") -> 0
A37: NT | B37: =+NT!F9 -> 11.252598 | C37: =+NT!G9 -> 7.1594538 | D37: =+NT!H9 -> 8.645927 | E37: =+NT!I9 -> 9.5233077 | F37: =+NT!J9 -> 10.445222 | G37: =+NT!K9 -> 9.7435852 | H37: =+NT!L9 -> 11.703284 | I37: =+NT!M9 -> 13.099249 | ... N37: =+NT!R9 -> 0 | P37: =+NT!S9 -> 275.29151 | Q37: =+NT!T9 -> 254.15929 | R37: =+NT!U9 -> 294.36276 | S37: =+NT!V9 -> 323.50509 | T37: =+NT!W9 -> 375.97764 | U37: =+NT!X9 -> 426.352 | V37: =+NT!Y9 -> 427.48983 | W37: =+NT!Z9 -> 455.36806 | ... AB37: =+NT!AE9 -> 0 | AD37: =+NT!AF9 -> 30.567561 | AE37: =+NT!AG9 -> 31.554393 | AF37: =+NT!AH9 -> 30.983213 | AG37: =+NT!AI9 -> 31.033796 | AH37: =+NT!AJ9 -> 35.366503 | AI37: =+NT!AK9 -> 37.720362 | AJ37: =+NT!AL9 -> 37.404962 | AK37: =+NT!AM9 -> 47.710513 | ... AP37: =+NT!AR9 -> 0 | AR37: =+NT!AS9 -> 0 | AS37: =+NT!AT9 -> 0 | AT37: =+NT!AU9 -> 0 | AU37: =+NT!AV9 -> 0 | AV37: =+NT!AW9 -> 0 | AW37: =+NT!AX9 -> 0 | AX37: =+NT!AY9 -> 0 | AY37: =+NT!AZ9 -> 0 | ... BD37: =+NT!BE9 -> 0 | BF37: =+NT!BF9 -> 0.0136552 | BG37: =+NT!BG9 -> 0.0357048 | BH37: =+NT!BH9 -> 0.0311793 | BI37: =+NT!BI9 -> 0.0573185 | BJ37: =+NT!BJ9 -> 0.002726 | BK37: =+NT!BK9 -> -0.5198625 | BL37: =+NT!BL9 -> -0.2364102 | BM37: =+NT!BM9 -> 0.015422 | ... BR37: =+NT!BR9 -> 0 | BT37: =+NT!BS9 -> 0 | BU37: =+NT!BT9 -> -17.826548 | BV37: =+NT!BU9 -> 27.516769 | BW37: =+NT!BV9 -> 4.7362509 | BX37: =+NT!BW9 -> 4.5120069 | BY37: =+NT!BX9 -> -0.2238213 | BZ37: =+NT!BY9 -> 0 | CA37: =+NT!BZ9 -> 0 | ... CF37: =+NT!CE9 -> 0 | CH37: =+NT!CF9 -> 305.87273 | CI37: =+NT!CG9 -> 285.74939 | CJ37: =+NT!CH9 -> 325.37715 | CK37: =+NT!CI9 -> 354.5962 | CL37: =+NT!CJ9 -> 411.34687 | CM37: =+NT!CK9 -> 463.5525 | CN37: =+NT!CL9 -> 464.65838 | CO37: =+NT!CM9 -> 503.09399 | ... CT37: =+NT!CR9 -> 0 | CV37: =+NT!CS9 -> 294.62013 | CW37: =+NT!CT9 -> 296.41648 | CX37: =+NT!CU9 -> 289.21445 | CY37: =+NT!CV9 -> 340.33664 | CZ37: =+NT!CW9 -> 396.38964 | DA37: =+NT!CX9 -> 454.03274 | DB37: =+NT!CY9 -> 452.9551 | DC37: =+NT!CZ9 -> 489.99474 | ... DH37: =+NT!DE9 -> 0 | DJ37: =+NT!DF9 -> 0.099935556 | DK37: =+NT!DG9 -> 0.11042681 | DL37: =+NT!DH9 -> 0.095222463 | DM37: =+NT!DI9 -> 0.087518693 | DN37: =+NT!DJ9 -> 0.085977324 | DO37: =+NT!DK9 -> 0.081372363 | DP37: =+NT!DL9 -> 0.080499918 | DQ37: =+NT!DM9 -> 0.094834193 | ... DV37: =+NT!DR9 -> 0 | DX37: =+NT!DS9 -> 0 | DY37: =+NT!DT9 -> 0 | DZ37: =+NT!DU9 -> 0 | EA37: =+NT!DV9 -> 0 | EB37: =+NT!DW9 -> 0 | EC37: =+NT!DX9 -> 0 | ED37: =+NT!DY9 -> 0 | EE37: =+NT!DZ9 -> 0 | ... EJ37: =+NT!EE9 -> 0 | EL37: =+NT!EF9 -> 0 | EM37: =+NT!EG9 -> 0 | EN37: =+NT!EH9 -> 0 | EO37: =+NT!EI9 -> 0 | EP37: =+NT!EJ9 -> 0 | EQ37: =+NT!EK9 -> 0 | ER37: =+NT!EL9 -> 0 | ES37: =+NT!EM9 -> 0 | ... EX37: =+NT!ER9 -> 0 | EZ37: =+NT!ES9 -> 0 | FA37: =+NT!ET9 -> 0 | FB37: =+NT!EU9 -> 0 | FC37: =+NT!EV9 -> 0 | FD37: =+NT!EW9 -> 0 | FE37: =+NT!EX9 -> 0 | FF37: =+NT!EY9 -> 0 | FG37: =+NT!EZ9 -> 0 | ... FL37: =+NT!FE9 -> 0 | FN37: =+NT!FF9 -> 0 | FO37: =+NT!FG9 -> 0 | FP37: =+NT!FH9 -> 0 | FQ37: =+NT!FI9 -> 0 | FR37: =+NT!FJ9 -> 0 | FS37: =+NT!FK9 -> 0 | FT37: =+NT!FL9 -> 0 | FU37: =+NT!FM9 -> 0 | ... FZ37: =+NT!FR9 -> 0 | HR37: =IFERROR(EZ37/$EZ$37*100,"") | HS37: =IFERROR(FA37/$EZ$37*100,"") | HT37: =IFERROR(FB37/$EZ$37*100,"") | HU37: =IFERROR(FC37/$EZ$37*100,"") | HV37: =IFERROR(FD37/$EZ$37*100,"") | HW37: =IFERROR(FE37/$EZ$37*100,"") | HX37: =IFERROR(FF37/$EZ$37*100,"") | HY37: =IFERROR(FG37/$EZ$37*100,"") | ... ID37: =IFERROR(FL37/$EZ$37*100,"")
A38: Sydtrafik | B38: =+Sydtrafik!F9 -> 17.9 | C38: =+Sydtrafik!G9 -> 13.2 | D38: =+Sydtrafik!H9 -> 17.8 | E38: =+Sydtrafik!I9 -> 20 | F38: =+Sydtrafik!J9 -> 22.6 | G38: =+Sydtrafik!K9 -> 25.1 | H38: =+Sydtrafik!L9 -> 27.1 | I38: =+Sydtrafik!M9 -> 26.2 | ... N38: =+Sydtrafik!R9 -> 0 | P38: =+Sydtrafik!S9 -> 256.6 | Q38: =+Sydtrafik!T9 -> 244.2 | R38: =+Sydtrafik!U9 -> 255.7 | S38: =+Sydtrafik!V9 -> 274.2 | T38: =+Sydtrafik!W9 -> 303.3 | U38: =+Sydtrafik!X9 -> 326.6 | V38: =+Sydtrafik!Y9 -> 294.5 | W38: =+Sydtrafik!Z9 -> 302.7 | ... AB38: =+Sydtrafik!AE9 -> 0 | AD38: =+Sydtrafik!AF9 -> 34.4 | AE38: =+Sydtrafik!AG9 -> 39.1 | AF38: =+Sydtrafik!AH9 -> 35.8 | AG38: =+Sydtrafik!AI9 -> 40 | AH38: =+Sydtrafik!AJ9 -> 37.7 | AI38: =+Sydtrafik!AK9 -> 39.2 | AJ38: =+Sydtrafik!AL9 -> 39.1 | AK38: =+Sydtrafik!AM9 -> 45.2 | ... AP38: =+Sydtrafik!AR9 -> 0 | AR38: =+Sydtrafik!AS9 -> 0 | AS38: =+Sydtrafik!AT9 -> 0 | AT38: =+Sydtrafik!AU9 -> 0 | AU38: =+Sydtrafik!AV9 -> 0 | AV38: =+Sydtrafik!AW9 -> 0 | AW38: =+Sydtrafik!AX9 -> 0 | AX38: =+Sydtrafik!AY9 -> 0 | AY38: =+Sydtrafik!AZ9 -> 0 | ... BD38: =+Sydtrafik!BE9 -> 0 | BF38: =+Sydtrafik!BF9 -> 0 | BG38: =+Sydtrafik!BG9 -> 0 | BH38: =+Sydtrafik!BH9 -> 0 | BI38: =+Sydtrafik!BI9 -> 0 | BJ38: =+Sydtrafik!BJ9 -> 0 | BK38: =+Sydtrafik!BK9 -> 0 | BL38: =+Sydtrafik!BL9 -> 0 | BM38: =+Sydtrafik!BM9 -> 0 | ... BR38: =+Sydtrafik!BR9 -> 0 | BT38: =+Sydtrafik!BS9 -> 0 | BU38: =+Sydtrafik!BT9 -> -28.2 | BV38: =+Sydtrafik!BU9 -> 9.3 | BW38: =+Sydtrafik!BV9 -> 0 | BX38: =+Sydtrafik!BW9 -> 0 | BY38: =+Sydtrafik!BX9 -> 0 | BZ38: =+Sydtrafik!BY9 -> 0 | CA38: =+Sydtrafik!BZ9 -> 0 | ... CF38: =+Sydtrafik!CE9 -> 0 | CH38: =+Sydtrafik!CF9 -> 0 | CI38: =+Sydtrafik!CG9 -> 0 | CJ38: =+Sydtrafik!CH9 -> 0 | CK38: =+Sydtrafik!CI9 -> 0 | CL38: =+Sydtrafik!CJ9 -> 0 | CM38: =+Sydtrafik!CK9 -> 0 | CN38: =+Sydtrafik!CL9 -> 0 | CO38: =+Sydtrafik!CM9 -> 0 | ... CT38: =+Sydtrafik!CR9 -> 0 | CV38: =+Sydtrafik!CS9 -> 0 | CW38: =+Sydtrafik!CT9 -> 0 | CX38: =+Sydtrafik!CU9 -> 0 | CY38: =+Sydtrafik!CV9 -> 0 | CZ38: =+Sydtrafik!CW9 -> 0 | DA38: =+Sydtrafik!CX9 -> 0 | DB38: =+Sydtrafik!CY9 -> 0 | DC38: =+Sydtrafik!CZ9 -> 0 | ... DH38: =+Sydtrafik!DE9 -> 0 | DJ38: =+Sydtrafik!DF9 -> 0 | DK38: =+Sydtrafik!DG9 -> 0 | DL38: =+Sydtrafik!DH9 -> 0 | DM38: =+Sydtrafik!DI9 -> 0 | DN38: =+Sydtrafik!DJ9 -> 0 | DO38: =+Sydtrafik!DK9 -> 0 | DP38: =+Sydtrafik!DL9 -> 0 | DQ38: =+Sydtrafik!DM9 -> 0 | ... DV38: =+Sydtrafik!DR9 -> 0 | DX38: =+Sydtrafik!DS9 -> 0 | DY38: =+Sydtrafik!DT9 -> 0 | DZ38: =+Sydtrafik!DU9 -> 0 | EA38: =+Sydtrafik!DV9 -> 0 | EB38: =+Sydtrafik!DW9 -> 0 | EC38: =+Sydtrafik!DX9 -> 0 | ED38: =+Sydtrafik!DY9 -> 0 | EE38: =+Sydtrafik!DZ9 -> 0 | ... EJ38: =+Sydtrafik!EE9 -> 0 | EL38: =+Sydtrafik!EF9 -> 0 | EM38: =+Sydtrafik!EG9 -> 0 | EN38: =+Sydtrafik!EH9 -> 0 | EO38: =+Sydtrafik!EI9 -> 0 | EP38: =+Sydtrafik!EJ9 -> 0 | EQ38: =+Sydtrafik!EK9 -> 0 | ER38: =+Sydtrafik!EL9 -> 0 | ES38: =+Sydtrafik!EM9 -> 0 | ... EX38: =+Sydtrafik!ER9 -> 0 | EZ38: =+Sydtrafik!ES9 -> 0 | FA38: =+Sydtrafik!ET9 -> 0 | FB38: =+Sydtrafik!EU9 -> 0 | FC38: =+Sydtrafik!EV9 -> 0 | FD38: =+Sydtrafik!EW9 -> 0 | FE38: =+Sydtrafik!EX9 -> 0 | FF38: =+Sydtrafik!EY9 -> 0 | FG38: =+Sydtrafik!EZ9 -> 0 | ... FL38: =+Sydtrafik!FE9 -> 0 | FN38: =+Sydtrafik!FF9 -> 0 | FO38: =+Sydtrafik!FG9 -> 0 | FP38: =+Sydtrafik!FH9 -> 0 | FQ38: =+Sydtrafik!FI9 -> 0 | FR38: =+Sydtrafik!FJ9 -> 0 | FS38: =+Sydtrafik!FK9 -> 0 | FT38: =+Sydtrafik!FL9 -> 0 | FU38: =+Sydtrafik!FM9 -> 0 | ... FZ38: =+Sydtrafik!FR9 -> 0 | HR38: =IFERROR(EZ38/$EZ$38*100,"") | HS38: =IFERROR(FA38/$EZ$38*100,"") | HT38: =IFERROR(FB38/$EZ$38*100,"") | HU38: =IFERROR(FC38/$EZ$38*100,"") | HV38: =IFERROR(FD38/$EZ$38*100,"") | HW38: =IFERROR(FE38/$EZ$38*100,"") | HX38: =IFERROR(FF38/$EZ$38*100,"") | HY38: =IFERROR(FG38/$EZ$38*100,"") | ... ID38: =IFERROR(FL38/$EZ$38*100,"")
A39: Total | B39: =SUM(B33:B38) -> 110.91831 | C39: =SUM(C33:C38) -> 84.378484 | D39: =SUM(D33:D38) -> 106.08868 | E39: =SUM(E33:E38) -> 120.13187 | F39: =SUM(F33:F38) -> 134.50308 | G39: =SUM(G33:G38) -> 151.87818 | H39: =SUM(H33:H38) -> 166.34168 | I39: =SUM(I33:I38) -> 163.27442 | ... N39: =SUM(N33:N38) -> 0 | P39: =SUM(P33:P38) -> 1765.0898 | Q39: =SUM(Q33:Q38) -> 1630.7983 | R39: =SUM(R33:R38) -> 1792.8285 | S39: =SUM(S33:S38) -> 2047.9572 | T39: =SUM(T33:T38) -> 2240.1162 | U39: =SUM(U33:U38) -> 2354.9806 | V39: =SUM(V33:V38) -> 2227.6916 | W39: =SUM(W33:W38) -> 2314.8325 | ... AB39: =SUM(AB33:AB38) -> 0 | AD39: =SUM(AD33:AD38) -> 159.99173 | AE39: =SUM(AE33:AE38) -> 174.48344 | AF39: =SUM(AF33:AF38) -> 176.23751 | AG39: =SUM(AG33:AG38) -> 186.13822 | AH39: =SUM(AH33:AH38) -> 180.52382 | AI39: =SUM(AI33:AI38) -> 201.78636 | AJ39: =SUM(AJ33:AJ38) -> 206.49855 | AK39: =SUM(AK33:AK38) -> 231.71287 | ... AP39: =SUM(AP33:AP38) -> 0 | AR39: =SUM(AR33:AR38) -> 0 | AS39: =SUM(AS33:AS38) -> 0 | AT39: =SUM(AT33:AT38) -> 0 | AU39: =SUM(AU33:AU38) -> 0 | AV39: =SUM(AV33:AV38) -> 0 | AW39: =SUM(AW33:AW38) -> 0 | AX39: =SUM(AX33:AX38) -> 0 | AY39: =SUM(AY33:AY38) -> 0 | ... BD39: =SUM(BD33:BD38) -> 0 | BF39: =SUM(BF33:BF38) -> 1.0184152 | BG39: =SUM(BG33:BG38) -> 1.2107348 | BH39: =SUM(BH33:BH38) -> 0.0311793 | BI39: =SUM(BI33:BI38) -> 0.0573185 | BJ39: =SUM(BJ33:BJ38) -> 0.002726 | BK39: =SUM(BK33:BK38) -> -0.5198625 | BL39: =SUM(BL33:BL38) -> -0.2364102 | BM39: =SUM(BM33:BM38) -> 0.015422 | ... BR39: =SUM(BR33:BR38) -> 0 | BT39: =SUM(BT33:BT38) -> 0 | BU39: =SUM(BU33:BU38) -> 11.656802 | BV39: =SUM(BV33:BV38) -> 63.448469 | BW39: =SUM(BW33:BW38) -> 4.7362509 | BX39: =SUM(BX33:BX38) -> -1.9693431 | BY39: =SUM(BY33:BY38) -> -0.6114313 | BZ39: =SUM(BZ33:BZ38) -> 0 | CA39: =SUM(CA33:CA38) -> 0 | ... CF39: =SUM(CF33:CF38) -> 0 | CH39: =SUM(CH33:CH38) -> 1022.447 | CI39: =SUM(CI33:CI38) -> 956.43453 | CJ39: =SUM(CJ33:CJ38) -> 1051.5502 | CK39: =SUM(CK33:CK38) -> 1228.0137 | CL39: =SUM(CL33:CL38) -> 1293.3768 | CM39: =SUM(CM33:CM38) -> 1349.3811 | CN39: =SUM(CN33:CN38) -> 1326.2748 | CO39: =SUM(CO33:CO38) -> 1389.0202 | ... CT39: =SUM(CT33:CT38) -> 0 | CV39: =SUM(CV33:CV38) -> 954.94466 | CW39: =SUM(CW33:CW38) -> 1012.0609 | CX39: =SUM(CX33:CX38) -> 986.17646 | CY39: =SUM(CY33:CY38) -> 1154.8606 | CZ39: =SUM(CZ33:CZ38) -> 1203.4203 | DA39: =SUM(DA33:DA38) -> 1266.3891 | DB39: =SUM(DB33:DB38) -> 1233.445 | DC39: =SUM(DC33:DC38) -> 1292.7923 | ... DH39: =SUM(DH33:DH38) -> 0 | DJ39: =IFERROR(AD39/CH39,"") -> 0.15647925 | DK39: =IFERROR(AE39/CI39,"") -> 0.18243114 | DL39: =IFERROR(AF39/CJ39,"") -> 0.16759781 | DM39: =IFERROR(AG39/CK39,"") -> 0.15157666 | DN39: =IFERROR(AH39/CL39,"") -> 0.13957559 | DO39: =IFERROR(AI39/CM39,"") -> 0.14953994 | DP39: =IFERROR(AJ39/CN39,"") -> 0.15569816 | DQ39: =IFERROR(AK39/CO39,"") -> 0.16681749 | ... DV39: =IFERROR(AP39/CT39,"") | DX39: =SUM(DX33:DX38) -> 0 | DY39: =SUM(DY33:DY38) -> 0 | DZ39: =SUM(DZ33:DZ38) -> 0 | EA39: =SUM(EA33:EA38) -> 0 | EB39: =SUM(EB33:EB38) -> 0 | EC39: =SUM(EC33:EC38) -> 0 | ED39: =SUM(ED33:ED38) -> 0 | EE39: =SUM(EE33:EE38) -> 0 | ... EJ39: =SUM(EJ33:EJ38) -> 0 | EL39: =SUM(EL33:EL38) -> 0 | EM39: =SUM(EM33:EM38) -> 0 | EN39: =SUM(EN33:EN38) -> 0 | EO39: =SUM(EO33:EO38) -> 0 | EP39: =SUM(EP33:EP38) -> 0 | EQ39: =SUM(EQ33:EQ38) -> 0 | ER39: =SUM(ER33:ER38) -> 0 | ES39: =SUM(ES33:ES38) -> 0 | ... EX39: =SUM(EX33:EX38) -> 0 | EZ39: =SUM(EZ33:EZ38) -> 3703810 | FA39: =SUM(FA33:FA38) -> 3113997 | FB39: =SUM(FB33:FB38) -> 3401204 | FC39: =SUM(FC33:FC38) -> 3669939 | FD39: =SUM(FD33:FD38) -> 3714189 | FE39: =SUM(FE33:FE38) -> 3731352 | FF39: =SUM(FF33:FF38) -> 3656466 | FG39: =SUM(FG33:FG38) -> 3716173.7 | ... FL39: =SUM(FL33:FL38) -> 0 | FN39: =SUM(FN33:FN38) -> 0 | FO39: =SUM(FO33:FO38) -> 0 | FP39: =SUM(FP33:FP38) -> 0 | FQ39: =SUM(FQ33:FQ38) -> 0 | FR39: =SUM(FR33:FR38) -> 0 | FS39: =SUM(FS33:FS38) -> 0 | FT39: =SUM(FT33:FT38) -> 0 | FU39: =SUM(FU33:FU38) -> 0 | ... FZ39: =SUM(FZ33:FZ38) -> 0 | HR39: =IFERROR(EZ39/$EZ$39*100,"") -> 100 | HS39: =IFERROR(FA39/$EZ$39*100,"") -> 84.075506 | HT39: =IFERROR(FB39/$EZ$39*100,"") -> 91.829872 | HU39: =IFERROR(FC39/$EZ$39*100,"") -> 99.085509 | HV39: =IFERROR(FD39/$EZ$39*100,"") -> 100.28022 | HW39: =IFERROR(FE39/$EZ$39*100,"") -> 100.74361 | HX39: =IFERROR(FF39/$EZ$39*100,"") -> 98.721749 | HY39: =IFERROR(FG39/$EZ$39*100,"") -> 100.33381 | ... ID39: =IFERROR(FL39/$EZ$39*100,"") -> 0
A41: ANDET / KONTROLAFGIFT (SAMLET - BUS - BANER - FLEXTRAFIK)
A42: BAT | B42: =IFERROR(N(B6)-N(B15)-N(B24)-N(B33),"") -> 0 | C42: =IFERROR(N(C6)-N(C15)-N(C24)-N(C33),"") -> 0 | D42: =IFERROR(N(D6)-N(D15)-N(D24)-N(D33),"") -> 0 | E42: =IFERROR(N(E6)-N(E15)-N(E24)-N(E33),"") -> 0 | F42: =IFERROR(N(F6)-N(F15)-N(F24)-N(F33),"") -> 0 | G42: =IFERROR(N(G6)-N(G15)-N(G24)-N(G33),"") -> 0 | H42: =IFERROR(N(H6)-N(H15)-N(H24)-N(H33),"") -> 0 | I42: =IFERROR(N(I6)-N(I15)-N(I24)-N(I33),"") -> 0 | ... N42: =IFERROR(N(N6)-N(N15)-N(N24)-N(N33),"") -> 0 | P42: =IFERROR(N(P6)-N(P15)-N(P24)-N(P33),"") -> 0 | Q42: =IFERROR(N(Q6)-N(Q15)-N(Q24)-N(Q33),"") -> 0 | R42: =IFERROR(N(R6)-N(R15)-N(R24)-N(R33),"") -> 0 | S42: =IFERROR(N(S6)-N(S15)-N(S24)-N(S33),"") -> 0 | T42: =IFERROR(N(T6)-N(T15)-N(T24)-N(T33),"") -> 0 | U42: =IFERROR(N(U6)-N(U15)-N(U24)-N(U33),"") -> 0 | V42: =IFERROR(N(V6)-N(V15)-N(V24)-N(V33),"") -> 0 | W42: =IFERROR(N(W6)-N(W15)-N(W24)-N(W33),"") -> 0 | ... AB42: =IFERROR(N(AB6)-N(AB15)-N(AB24)-N(AB33),"") -> 0 | AD42: =IFERROR(N(AD6)-N(AD15)-N(AD24)-N(AD33),"") -> 0 | AE42: =IFERROR(N(AE6)-N(AE15)-N(AE24)-N(AE33),"") -> 0 | AF42: =IFERROR(N(AF6)-N(AF15)-N(AF24)-N(AF33),"") -> 0 | AG42: =IFERROR(N(AG6)-N(AG15)-N(AG24)-N(AG33),"") -> 0 | AH42: =IFERROR(N(AH6)-N(AH15)-N(AH24)-N(AH33),"") -> 0 | AI42: =IFERROR(N(AI6)-N(AI15)-N(AI24)-N(AI33),"") -> 0 | AJ42: =IFERROR(N(AJ6)-N(AJ15)-N(AJ24)-N(AJ33),"") -> 0 | AK42: =IFERROR(N(AK6)-N(AK15)-N(AK24)-N(AK33),"") -> 0 | ... AP42: =IFERROR(N(AP6)-N(AP15)-N(AP24)-N(AP33),"") -> 0 | AR42: =IFERROR(N(AR6)-N(AR15)-N(AR24)-N(AR33),"") -> 0 | AS42: =IFERROR(N(AS6)-N(AS15)-N(AS24)-N(AS33),"") -> 0 | AT42: =IFERROR(N(AT6)-N(AT15)-N(AT24)-N(AT33),"") -> 0 | AU42: =IFERROR(N(AU6)-N(AU15)-N(AU24)-N(AU33),"") -> 0 | AV42: =IFERROR(N(AV6)-N(AV15)-N(AV24)-N(AV33),"") -> 0 | AW42: =IFERROR(N(AW6)-N(AW15)-N(AW24)-N(AW33),"") -> 0 | AX42: =IFERROR(N(AX6)-N(AX15)-N(AX24)-N(AX33),"") -> 0 | AY42: =IFERROR(N(AY6)-N(AY15)-N(AY24)-N(AY33),"") -> 0 | ... BD42: =IFERROR(N(BD6)-N(BD15)-N(BD24)-N(BD33),"") -> 0 | BF42: =IFERROR(N(BF6)-N(BF15)-N(BF24)-N(BF33),"") -> 0 | BG42: =IFERROR(N(BG6)-N(BG15)-N(BG24)-N(BG33),"") -> 0 | BH42: =IFERROR(N(BH6)-N(BH15)-N(BH24)-N(BH33),"") -> 0 | BI42: =IFERROR(N(BI6)-N(BI15)-N(BI24)-N(BI33),"") -> 0 | BJ42: =IFERROR(N(BJ6)-N(BJ15)-N(BJ24)-N(BJ33),"") -> 0 | BK42: =IFERROR(N(BK6)-N(BK15)-N(BK24)-N(BK33),"") -> 0 | BL42: =IFERROR(N(BL6)-N(BL15)-N(BL24)-N(BL33),"") -> 0 | BM42: =IFERROR(N(BM6)-N(BM15)-N(BM24)-N(BM33),"") -> 0 | ... BR42: =IFERROR(N(BR6)-N(BR15)-N(BR24)-N(BR33),"") -> 0 | BT42: =IFERROR(N(BT6)-N(BT15)-N(BT24)-N(BT33),"") -> 0 | BU42: =IFERROR(N(BU6)-N(BU15)-N(BU24)-N(BU33),"") -> 7.2 | BV42: =IFERROR(N(BV6)-N(BV15)-N(BV24)-N(BV33),"") -> 8.9 | BW42: =IFERROR(N(BW6)-N(BW15)-N(BW24)-N(BW33),"") -> 3.1 | BX42: =IFERROR(N(BX6)-N(BX15)-N(BX24)-N(BX33),"") -> -1 | BY42: =IFERROR(N(BY6)-N(BY15)-N(BY24)-N(BY33),"") -> 0 | BZ42: =IFERROR(N(BZ6)-N(BZ15)-N(BZ24)-N(BZ33),"") -> 0 | CA42: =IFERROR(N(CA6)-N(CA15)-N(CA24)-N(CA33),"") -> 0 | ... CF42: =IFERROR(N(CF6)-N(CF15)-N(CF24)-N(CF33),"") -> 0 | CH42: =IFERROR(N(CH6)-N(CH15)-N(CH24)-N(CH33),"") -> 61.2 | CI42: =IFERROR(N(CI6)-N(CI15)-N(CI24)-N(CI33),"") -> 55.95 | CJ42: =IFERROR(N(CJ6)-N(CJ15)-N(CJ24)-N(CJ33),"") -> 60.1 | CK42: =IFERROR(N(CK6)-N(CK15)-N(CK24)-N(CK33),"") -> 62.5 | CL42: =IFERROR(N(CL6)-N(CL15)-N(CL24)-N(CL33),"") -> 63.1 | CM42: =IFERROR(N(CM6)-N(CM15)-N(CM24)-N(CM33),"") -> 72 | CN42: =IFERROR(N(CN6)-N(CN15)-N(CN24)-N(CN33),"") -> 66.24 | CO42: =IFERROR(N(CO6)-N(CO15)-N(CO24)-N(CO33),"") -> 64.8 | ... CT42: =IFERROR(N(CT6)-N(CT15)-N(CT24)-N(CT33),"") -> 0 | CV42: =IFERROR(N(CV6)-N(CV15)-N(CV24)-N(CV33),"") -> 31.8 | CW42: =IFERROR(N(CW6)-N(CW15)-N(CW24)-N(CW33),"") -> 26.35 | CX42: =IFERROR(N(CX6)-N(CX15)-N(CX24)-N(CX33),"") -> 29.1 | CY42: =IFERROR(N(CY6)-N(CY15)-N(CY24)-N(CY33),"") -> 34.96 | CZ42: =IFERROR(N(CZ6)-N(CZ15)-N(CZ24)-N(CZ33),"") -> 37.461 | DA42: =IFERROR(N(DA6)-N(DA15)-N(DA24)-N(DA33),"") -> 45.31 | DB42: =IFERROR(N(DB6)-N(DB15)-N(DB24)-N(DB33),"") -> 39.84 | DC42: =IFERROR(N(DC6)-N(DC15)-N(DC24)-N(DC33),"") -> 35.8 | ... DH42: =IFERROR(N(DH6)-N(DH15)-N(DH24)-N(DH33),"") -> 0 | DX42: =IFERROR(N(DX6)-N(DX15)-N(DX24)-N(DX33),"") -> 0 | DY42: =IFERROR(N(DY6)-N(DY15)-N(DY24)-N(DY33),"") -> 0 | DZ42: =IFERROR(N(DZ6)-N(DZ15)-N(DZ24)-N(DZ33),"") -> 0 | EA42: =IFERROR(N(EA6)-N(EA15)-N(EA24)-N(EA33),"") -> 0 | EB42: =IFERROR(N(EB6)-N(EB15)-N(EB24)-N(EB33),"") -> 0 | EC42: =IFERROR(N(EC6)-N(EC15)-N(EC24)-N(EC33),"") -> 0 | ED42: =IFERROR(N(ED6)-N(ED15)-N(ED24)-N(ED33),"") -> 0 | EE42: =IFERROR(N(EE6)-N(EE15)-N(EE24)-N(EE33),"") -> 0 | ... EJ42: =IFERROR(N(EJ6)-N(EJ15)-N(EJ24)-N(EJ33),"") -> 0 | EL42: =IFERROR(N(EL6)-N(EL15)-N(EL24)-N(EL33),"") -> 0 | EM42: =IFERROR(N(EM6)-N(EM15)-N(EM24)-N(EM33),"") -> 0 | EN42: =IFERROR(N(EN6)-N(EN15)-N(EN24)-N(EN33),"") -> 0 | EO42: =IFERROR(N(EO6)-N(EO15)-N(EO24)-N(EO33),"") -> 0 | EP42: =IFERROR(N(EP6)-N(EP15)-N(EP24)-N(EP33),"") -> 0 | EQ42: =IFERROR(N(EQ6)-N(EQ15)-N(EQ24)-N(EQ33),"") -> 0 | ER42: =IFERROR(N(ER6)-N(ER15)-N(ER24)-N(ER33),"") -> 0 | ES42: =IFERROR(N(ES6)-N(ES15)-N(ES24)-N(ES33),"") -> 0 | ... EX42: =IFERROR(N(EX6)-N(EX15)-N(EX24)-N(EX33),"") -> 0 | EZ42: =IFERROR(N(EZ6)-N(EZ15)-N(EZ24)-N(EZ33),"") -> 0 | FA42: =IFERROR(N(FA6)-N(FA15)-N(FA24)-N(FA33),"") -> 0 | FB42: =IFERROR(N(FB6)-N(FB15)-N(FB24)-N(FB33),"") -> 0 | FC42: =IFERROR(N(FC6)-N(FC15)-N(FC24)-N(FC33),"") -> 0 | FD42: =IFERROR(N(FD6)-N(FD15)-N(FD24)-N(FD33),"") -> 0 | FE42: =IFERROR(N(FE6)-N(FE15)-N(FE24)-N(FE33),"") -> 0 | FF42: =IFERROR(N(FF6)-N(FF15)-N(FF24)-N(FF33),"") -> 0 | FG42: =IFERROR(N(FG6)-N(FG15)-N(FG24)-N(FG33),"") -> 0 | ... FL42: =IFERROR(N(FL6)-N(FL15)-N(FL24)-N(FL33),"") -> 0 | FN42: =IFERROR(N(FN6)-N(FN15)-N(FN24)-N(FN33),"") -> 0 | FO42: =IFERROR(N(FO6)-N(FO15)-N(FO24)-N(FO33),"") -> 0 | FP42: =IFERROR(N(FP6)-N(FP15)-N(FP24)-N(FP33),"") -> 0 | FQ42: =IFERROR(N(FQ6)-N(FQ15)-N(FQ24)-N(FQ33),"") -> 0 | FR42: =IFERROR(N(FR6)-N(FR15)-N(FR24)-N(FR33),"") -> 0 | FS42: =IFERROR(N(FS6)-N(FS15)-N(FS24)-N(FS33),"") -> 0 | FT42: =IFERROR(N(FT6)-N(FT15)-N(FT24)-N(FT33),"") -> 0 | FU42: =IFERROR(N(FU6)-N(FU15)-N(FU24)-N(FU33),"") -> 0 | ... FZ42: =IFERROR(N(FZ6)-N(FZ15)-N(FZ24)-N(FZ33),"") -> 0
A43: FynBus | B43: =IFERROR(N(B7)-N(B16)-N(B25)-N(B34),"") -> 2.6645353e-15 | C43: =IFERROR(N(C7)-N(C16)-N(C25)-N(C34),"") -> -1.2434498e-14 | D43: =IFERROR(N(D7)-N(D16)-N(D25)-N(D34),"") -> 0 | E43: =IFERROR(N(E7)-N(E16)-N(E25)-N(E34),"") -> -1.7763568e-15 | F43: =IFERROR(N(F7)-N(F16)-N(F25)-N(F34),"") -> -1.7763568e-15 | G43: =IFERROR(N(G7)-N(G16)-N(G25)-N(G34),"") -> 1.0658141e-14 | H43: =IFERROR(N(H7)-N(H16)-N(H25)-N(H34),"") -> 9.154 | I43: =IFERROR(N(I7)-N(I16)-N(I25)-N(I34),"") -> 24.59496 | ... N43: =IFERROR(N(N7)-N(N16)-N(N25)-N(N34),"") -> 0 | P43: =IFERROR(N(P7)-N(P16)-N(P25)-N(P34),"") -> 2.8421709e-14 | Q43: =IFERROR(N(Q7)-N(Q16)-N(Q25)-N(Q34),"") -> 7.1054274e-15 | R43: =IFERROR(N(R7)-N(R16)-N(R25)-N(R34),"") -> 1.4210855e-14 | S43: =IFERROR(N(S7)-N(S16)-N(S25)-N(S34),"") -> 2.8421709e-14 | T43: =IFERROR(N(T7)-N(T16)-N(T25)-N(T34),"") -> 0 | U43: =IFERROR(N(U7)-N(U16)-N(U25)-N(U34),"") -> 5.6843419e-14 | V43: =IFERROR(N(V7)-N(V16)-N(V25)-N(V34),"") -> 0 | W43: =IFERROR(N(W7)-N(W16)-N(W25)-N(W34),"") -> -5.6843419e-14 | ... AB43: =IFERROR(N(AB7)-N(AB16)-N(AB25)-N(AB34),"") -> 0 | AD43: =IFERROR(N(AD7)-N(AD16)-N(AD25)-N(AD34),"") -> 0 | AE43: =IFERROR(N(AE7)-N(AE16)-N(AE25)-N(AE34),"") -> 7.1054274e-15 | AF43: =IFERROR(N(AF7)-N(AF16)-N(AF25)-N(AF34),"") -> -3.5527137e-15 | AG43: =IFERROR(N(AG7)-N(AG16)-N(AG25)-N(AG34),"") -> 7.1054274e-15 | AH43: =IFERROR(N(AH7)-N(AH16)-N(AH25)-N(AH34),"") -> 3.5527137e-15 | AI43: =IFERROR(N(AI7)-N(AI16)-N(AI25)-N(AI34),"") -> 3.5527137e-15 | AJ43: =IFERROR(N(AJ7)-N(AJ16)-N(AJ25)-N(AJ34),"") -> 7.57 | AK43: =IFERROR(N(AK7)-N(AK16)-N(AK25)-N(AK34),"") -> 12.44 | ... AP43: =IFERROR(N(AP7)-N(AP16)-N(AP25)-N(AP34),"") -> 0 | AR43: =IFERROR(N(AR7)-N(AR16)-N(AR25)-N(AR34),"") -> 5.5 | AS43: =IFERROR(N(AS7)-N(AS16)-N(AS25)-N(AS34),"") -> 9.8 | AT43: =IFERROR(N(AT7)-N(AT16)-N(AT25)-N(AT34),"") -> 9.8 | AU43: =IFERROR(N(AU7)-N(AU16)-N(AU25)-N(AU34),"") -> 23.2 | AV43: =IFERROR(N(AV7)-N(AV16)-N(AV25)-N(AV34),"") -> 7.3 | AW43: =IFERROR(N(AW7)-N(AW16)-N(AW25)-N(AW34),"") -> 8.1 | AX43: =IFERROR(N(AX7)-N(AX16)-N(AX25)-N(AX34),"") -> 8.109 | AY43: =IFERROR(N(AY7)-N(AY16)-N(AY25)-N(AY34),"") -> 12.498 | ... BD43: =IFERROR(N(BD7)-N(BD16)-N(BD25)-N(BD34),"") -> 0 | BF43: =IFERROR(N(BF7)-N(BF16)-N(BF25)-N(BF34),"") -> 0.164 | BG43: =IFERROR(N(BG7)-N(BG16)-N(BG25)-N(BG34),"") -> -0.134 | BH43: =IFERROR(N(BH7)-N(BH16)-N(BH25)-N(BH34),"") -> 0.032 | BI43: =IFERROR(N(BI7)-N(BI16)-N(BI25)-N(BI34),"") -> 0.475 | BJ43: =IFERROR(N(BJ7)-N(BJ16)-N(BJ25)-N(BJ34),"") -> 1.602 | BK43: =IFERROR(N(BK7)-N(BK16)-N(BK25)-N(BK34),"") -> -0.722 | BL43: =IFERROR(N(BL7)-N(BL16)-N(BL25)-N(BL34),"") -> -0.178 | BM43: =IFERROR(N(BM7)-N(BM16)-N(BM25)-N(BM34),"") -> 0.212 | ... BR43: =IFERROR(N(BR7)-N(BR16)-N(BR25)-N(BR34),"") -> 0 | BT43: =IFERROR(N(BT7)-N(BT16)-N(BT25)-N(BT34),"") -> 0 | BU43: =IFERROR(N(BU7)-N(BU16)-N(BU25)-N(BU34),"") -> 46.879 | BV43: =IFERROR(N(BV7)-N(BV16)-N(BV25)-N(BV34),"") -> 53.166 | BW43: =IFERROR(N(BW7)-N(BW16)-N(BW25)-N(BW34),"") -> 18.2 | BX43: =IFERROR(N(BX7)-N(BX16)-N(BX25)-N(BX34),"") -> 10.816 | BY43: =IFERROR(N(BY7)-N(BY16)-N(BY25)-N(BY34),"") -> -0.355 | BZ43: =IFERROR(N(BZ7)-N(BZ16)-N(BZ25)-N(BZ34),"") -> 0 | CA43: =IFERROR(N(CA7)-N(CA16)-N(CA25)-N(CA34),"") -> 0 | ... CF43: =IFERROR(N(CF7)-N(CF16)-N(CF25)-N(CF34),"") -> 0 | CH43: =IFERROR(N(CH7)-N(CH16)-N(CH25)-N(CH34),"") -> 675.989 | CI43: =IFERROR(N(CI7)-N(CI16)-N(CI25)-N(CI34),"") -> 660.692 | CJ43: =IFERROR(N(CJ7)-N(CJ16)-N(CJ25)-N(CJ34),"") -> 697.178 | CK43: =IFERROR(N(CK7)-N(CK16)-N(CK25)-N(CK34),"") -> 765.909 | CL43: =IFERROR(N(CL7)-N(CL16)-N(CL25)-N(CL34),"") -> 746.493 | CM43: =IFERROR(N(CM7)-N(CM16)-N(CM25)-N(CM34),"") -> 747.777 | CN43: =IFERROR(N(CN7)-N(CN16)-N(CN25)-N(CN34),"") -> 745.817 | CO43: =IFERROR(N(CO7)-N(CO16)-N(CO25)-N(CO34),"") -> 791.74821 | ... CT43: =IFERROR(N(CT7)-N(CT16)-N(CT25)-N(CT34),"") -> 0 | CV43: =IFERROR(N(CV7)-N(CV16)-N(CV25)-N(CV34),"") -> 473.375 | CW43: =IFERROR(N(CW7)-N(CW16)-N(CW25)-N(CW34),"") -> 474.791 | CX43: =IFERROR(N(CX7)-N(CX16)-N(CX25)-N(CX34),"") -> 485.469 | CY43: =IFERROR(N(CY7)-N(CY16)-N(CY25)-N(CY34),"") -> 582.607 | CZ43: =IFERROR(N(CZ7)-N(CZ16)-N(CZ25)-N(CZ34),"") -> 564.939 | DA43: =IFERROR(N(DA7)-N(DA16)-N(DA25)-N(DA34),"") -> 578.564 | DB43: =IFERROR(N(DB7)-N(DB16)-N(DB25)-N(DB34),"") -> 565.033 | DC43: =IFERROR(N(DC7)-N(DC16)-N(DC25)-N(DC34),"") -> 592.42274 | ... DH43: =IFERROR(N(DH7)-N(DH16)-N(DH25)-N(DH34),"") -> 0 | DX43: =IFERROR(N(DX7)-N(DX16)-N(DX25)-N(DX34),"") -> 0 | DY43: =IFERROR(N(DY7)-N(DY16)-N(DY25)-N(DY34),"") -> 0 | DZ43: =IFERROR(N(DZ7)-N(DZ16)-N(DZ25)-N(DZ34),"") -> 0 | EA43: =IFERROR(N(EA7)-N(EA16)-N(EA25)-N(EA34),"") -> 0 | EB43: =IFERROR(N(EB7)-N(EB16)-N(EB25)-N(EB34),"") -> 0 | EC43: =IFERROR(N(EC7)-N(EC16)-N(EC25)-N(EC34),"") -> 0 | ED43: =IFERROR(N(ED7)-N(ED16)-N(ED25)-N(ED34),"") -> 0 | EE43: =IFERROR(N(EE7)-N(EE16)-N(EE25)-N(EE34),"") -> 0 | ... EJ43: =IFERROR(N(EJ7)-N(EJ16)-N(EJ25)-N(EJ34),"") -> 0 | EL43: =IFERROR(N(EL7)-N(EL16)-N(EL25)-N(EL34),"") -> 0 | EM43: =IFERROR(N(EM7)-N(EM16)-N(EM25)-N(EM34),"") -> 0 | EN43: =IFERROR(N(EN7)-N(EN16)-N(EN25)-N(EN34),"") -> 0 | EO43: =IFERROR(N(EO7)-N(EO16)-N(EO25)-N(EO34),"") -> 0 | EP43: =IFERROR(N(EP7)-N(EP16)-N(EP25)-N(EP34),"") -> 0 | EQ43: =IFERROR(N(EQ7)-N(EQ16)-N(EQ25)-N(EQ34),"") -> 0 | ER43: =IFERROR(N(ER7)-N(ER16)-N(ER25)-N(ER34),"") -> 0 | ES43: =IFERROR(N(ES7)-N(ES16)-N(ES25)-N(ES34),"") -> 0 | ... EX43: =IFERROR(N(EX7)-N(EX16)-N(EX25)-N(EX34),"") -> 0 | EZ43: =IFERROR(N(EZ7)-N(EZ16)-N(EZ25)-N(EZ34),"") -> 0 | FA43: =IFERROR(N(FA7)-N(FA16)-N(FA25)-N(FA34),"") -> 0 | FB43: =IFERROR(N(FB7)-N(FB16)-N(FB25)-N(FB34),"") -> 0 | FC43: =IFERROR(N(FC7)-N(FC16)-N(FC25)-N(FC34),"") -> 0 | FD43: =IFERROR(N(FD7)-N(FD16)-N(FD25)-N(FD34),"") -> 0 | FE43: =IFERROR(N(FE7)-N(FE16)-N(FE25)-N(FE34),"") -> 0 | FF43: =IFERROR(N(FF7)-N(FF16)-N(FF25)-N(FF34),"") -> 0 | FG43: =IFERROR(N(FG7)-N(FG16)-N(FG25)-N(FG34),"") -> 0 | ... FL43: =IFERROR(N(FL7)-N(FL16)-N(FL25)-N(FL34),"") -> 0 | FN43: =IFERROR(N(FN7)-N(FN16)-N(FN25)-N(FN34),"") -> 0 | FO43: =IFERROR(N(FO7)-N(FO16)-N(FO25)-N(FO34),"") -> 0 | FP43: =IFERROR(N(FP7)-N(FP16)-N(FP25)-N(FP34),"") -> 0 | FQ43: =IFERROR(N(FQ7)-N(FQ16)-N(FQ25)-N(FQ34),"") -> 0 | FR43: =IFERROR(N(FR7)-N(FR16)-N(FR25)-N(FR34),"") -> 0 | FS43: =IFERROR(N(FS7)-N(FS16)-N(FS25)-N(FS34),"") -> 0 | FT43: =IFERROR(N(FT7)-N(FT16)-N(FT25)-N(FT34),"") -> 0 | FU43: =IFERROR(N(FU7)-N(FU16)-N(FU25)-N(FU34),"") -> 0 | ... FZ43: =IFERROR(N(FZ7)-N(FZ16)-N(FZ25)-N(FZ34),"") -> 0
A44: Midttrafik | B44: =IFERROR(N(B8)-N(B17)-N(B26)-N(B35),"") -> 10 | C44: =IFERROR(N(C8)-N(C17)-N(C26)-N(C35),"") -> 12.5 | D44: =IFERROR(N(D8)-N(D17)-N(D26)-N(D35),"") -> 28.2 | E44: =IFERROR(N(E8)-N(E17)-N(E26)-N(E35),"") -> 27.3 | F44: =IFERROR(N(F8)-N(F17)-N(F26)-N(F35),"") -> 36.7 | G44: =IFERROR(N(G8)-N(G17)-N(G26)-N(G35),"") -> 43.7 | H44: =IFERROR(N(H8)-N(H17)-N(H26)-N(H35),"") -> 25.142363 | I44: =IFERROR(N(I8)-N(I17)-N(I26)-N(I35),"") -> 22.493 | ... N44: =IFERROR(N(N8)-N(N17)-N(N26)-N(N35),"") -> 0 | P44: =IFERROR(N(P8)-N(P17)-N(P26)-N(P35),"") -> -295.4 | Q44: =IFERROR(N(Q8)-N(Q17)-N(Q26)-N(Q35),"") -> -258.5 | R44: =IFERROR(N(R8)-N(R17)-N(R26)-N(R35),"") -> -274.8 | S44: =IFERROR(N(S8)-N(S17)-N(S26)-N(S35),"") -> -295.5 | T44: =IFERROR(N(T8)-N(T17)-N(T26)-N(T35),"") -> -335.4 | U44: =IFERROR(N(U8)-N(U17)-N(U26)-N(U35),"") -> -358.6 | V44: =IFERROR(N(V8)-N(V17)-N(V26)-N(V35),"") -> -322.0026 | W44: =IFERROR(N(W8)-N(W17)-N(W26)-N(W35),"") -> -331.5777 | ... AB44: =IFERROR(N(AB8)-N(AB17)-N(AB26)-N(AB35),"") -> 0 | AD44: =IFERROR(N(AD8)-N(AD17)-N(AD26)-N(AD35),"") -> 253.9 | AE44: =IFERROR(N(AE8)-N(AE17)-N(AE26)-N(AE35),"") -> 226.6 | AF44: =IFERROR(N(AF8)-N(AF17)-N(AF26)-N(AF35),"") -> 269.7 | AG44: =IFERROR(N(AG8)-N(AG17)-N(AG26)-N(AG35),"") -> 263.5 | AH44: =IFERROR(N(AH8)-N(AH17)-N(AH26)-N(AH35),"") -> 275.6 | AI44: =IFERROR(N(AI8)-N(AI17)-N(AI26)-N(AI35),"") -> 279.1 | AJ44: =IFERROR(N(AJ8)-N(AJ17)-N(AJ26)-N(AJ35),"") -> 296.49469 | AK44: =IFERROR(N(AK8)-N(AK17)-N(AK26)-N(AK35),"") -> 321.66146 | ... AP44: =IFERROR(N(AP8)-N(AP17)-N(AP26)-N(AP35),"") -> 0 | AR44: =IFERROR(N(AR8)-N(AR17)-N(AR26)-N(AR35),"") -> 1.8 | AS44: =IFERROR(N(AS8)-N(AS17)-N(AS26)-N(AS35),"") -> 1.8 | AT44: =IFERROR(N(AT8)-N(AT17)-N(AT26)-N(AT35),"") -> 1.8 | AU44: =IFERROR(N(AU8)-N(AU17)-N(AU26)-N(AU35),"") -> 2.4 | AV44: =IFERROR(N(AV8)-N(AV17)-N(AV26)-N(AV35),"") -> 2.6 | AW44: =IFERROR(N(AW8)-N(AW17)-N(AW26)-N(AW35),"") -> 2.9 | AX44: =IFERROR(N(AX8)-N(AX17)-N(AX26)-N(AX35),"") -> 3.37374 | AY44: =IFERROR(N(AY8)-N(AY17)-N(AY26)-N(AY35),"") -> 3.28 | ... BD44: =IFERROR(N(BD8)-N(BD17)-N(BD26)-N(BD35),"") -> 0 | BF44: =IFERROR(N(BF8)-N(BF17)-N(BF26)-N(BF35),"") -> 2.9 | BG44: =IFERROR(N(BG8)-N(BG17)-N(BG26)-N(BG35),"") -> -1.2 | BH44: =IFERROR(N(BH8)-N(BH17)-N(BH26)-N(BH35),"") -> 4.3 | BI44: =IFERROR(N(BI8)-N(BI17)-N(BI26)-N(BI35),"") -> 13.8 | BJ44: =IFERROR(N(BJ8)-N(BJ17)-N(BJ26)-N(BJ35),"") -> -10.3 | BK44: =IFERROR(N(BK8)-N(BK17)-N(BK26)-N(BK35),"") -> -10.4 | BL44: =IFERROR(N(BL8)-N(BL17)-N(BL26)-N(BL35),"") -> -5.7284877 | BM44: =IFERROR(N(BM8)-N(BM17)-N(BM26)-N(BM35),"") -> 0 | ... BR44: =IFERROR(N(BR8)-N(BR17)-N(BR26)-N(BR35),"") -> 0 | BT44: =IFERROR(N(BT8)-N(BT17)-N(BT26)-N(BT35),"") -> 0 | BU44: =IFERROR(N(BU8)-N(BU17)-N(BU26)-N(BU35),"") -> 7.9 | BV44: =IFERROR(N(BV8)-N(BV17)-N(BV26)-N(BV35),"") -> 14.9 | BW44: =IFERROR(N(BW8)-N(BW17)-N(BW26)-N(BW35),"") -> 1.7763568e-15 | BX44: =IFERROR(N(BX8)-N(BX17)-N(BX26)-N(BX35),"") -> 0.2 | BY44: =IFERROR(N(BY8)-N(BY17)-N(BY26)-N(BY35),"") -> 0 | BZ44: =IFERROR(N(BZ8)-N(BZ17)-N(BZ26)-N(BZ35),"") -> 0 | CA44: =IFERROR(N(CA8)-N(CA17)-N(CA26)-N(CA35),"") -> 0 | ... CF44: =IFERROR(N(CF8)-N(CF17)-N(CF26)-N(CF35),"") -> 0 | CH44: =IFERROR(N(CH8)-N(CH17)-N(CH26)-N(CH35),"") -> 2145.9 | CI44: =IFERROR(N(CI8)-N(CI17)-N(CI26)-N(CI35),"") -> 2119.7 | CJ44: =IFERROR(N(CJ8)-N(CJ17)-N(CJ26)-N(CJ35),"") -> 2272 | CK44: =IFERROR(N(CK8)-N(CK17)-N(CK26)-N(CK35),"") -> 2443.3 | CL44: =IFERROR(N(CL8)-N(CL17)-N(CL26)-N(CL35),"") -> 2439.7 | CM44: =IFERROR(N(CM8)-N(CM17)-N(CM26)-N(CM35),"") -> 2521.7 | CN44: =IFERROR(N(CN8)-N(CN17)-N(CN26)-N(CN35),"") -> 2539.7407 | CO44: =IFERROR(N(CO8)-N(CO17)-N(CO26)-N(CO35),"") -> 2643.0721 | ... CT44: =IFERROR(N(CT8)-N(CT17)-N(CT26)-N(CT35),"") -> 0 | CV44: =IFERROR(N(CV8)-N(CV17)-N(CV26)-N(CV35),"") -> 1360.4 | CW44: =IFERROR(N(CW8)-N(CW17)-N(CW26)-N(CW35),"") -> 1335.3 | CX44: =IFERROR(N(CX8)-N(CX17)-N(CX26)-N(CX35),"") -> 1434.7 | CY44: =IFERROR(N(CY8)-N(CY17)-N(CY26)-N(CY35),"") -> 1609.3 | CZ44: =IFERROR(N(CZ8)-N(CZ17)-N(CZ26)-N(CZ35),"") -> 1556.1 | DA44: =IFERROR(N(DA8)-N(DA17)-N(DA26)-N(DA35),"") -> 1614.5 | DB44: =IFERROR(N(DB8)-N(DB17)-N(DB26)-N(DB35),"") -> 1667.7108 | DC44: =IFERROR(N(DC8)-N(DC17)-N(DC26)-N(DC35),"") -> 1753.8561 | ... DH44: =IFERROR(N(DH8)-N(DH17)-N(DH26)-N(DH35),"") -> 0 | DX44: =IFERROR(N(DX8)-N(DX17)-N(DX26)-N(DX35),"") -> 0 | DY44: =IFERROR(N(DY8)-N(DY17)-N(DY26)-N(DY35),"") -> 0 | DZ44: =IFERROR(N(DZ8)-N(DZ17)-N(DZ26)-N(DZ35),"") -> 0 | EA44: =IFERROR(N(EA8)-N(EA17)-N(EA26)-N(EA35),"") -> 0 | EB44: =IFERROR(N(EB8)-N(EB17)-N(EB26)-N(EB35),"") -> 0 | EC44: =IFERROR(N(EC8)-N(EC17)-N(EC26)-N(EC35),"") -> 0 | ED44: =IFERROR(N(ED8)-N(ED17)-N(ED26)-N(ED35),"") -> 0 | EE44: =IFERROR(N(EE8)-N(EE17)-N(EE26)-N(EE35),"") -> 0 | ... EJ44: =IFERROR(N(EJ8)-N(EJ17)-N(EJ26)-N(EJ35),"") -> 0 | EL44: =IFERROR(N(EL8)-N(EL17)-N(EL26)-N(EL35),"") -> 0 | EM44: =IFERROR(N(EM8)-N(EM17)-N(EM26)-N(EM35),"") -> 0 | EN44: =IFERROR(N(EN8)-N(EN17)-N(EN26)-N(EN35),"") -> 0 | EO44: =IFERROR(N(EO8)-N(EO17)-N(EO26)-N(EO35),"") -> 0 | EP44: =IFERROR(N(EP8)-N(EP17)-N(EP26)-N(EP35),"") -> 0 | EQ44: =IFERROR(N(EQ8)-N(EQ17)-N(EQ26)-N(EQ35),"") -> 0 | ER44: =IFERROR(N(ER8)-N(ER17)-N(ER26)-N(ER35),"") -> 0 | ES44: =IFERROR(N(ES8)-N(ES17)-N(ES26)-N(ES35),"") -> 0 | ... EX44: =IFERROR(N(EX8)-N(EX17)-N(EX26)-N(EX35),"") -> 0 | EZ44: =IFERROR(N(EZ8)-N(EZ17)-N(EZ26)-N(EZ35),"") -> 0 | FA44: =IFERROR(N(FA8)-N(FA17)-N(FA26)-N(FA35),"") -> 0 | FB44: =IFERROR(N(FB8)-N(FB17)-N(FB26)-N(FB35),"") -> 0 | FC44: =IFERROR(N(FC8)-N(FC17)-N(FC26)-N(FC35),"") -> 0 | FD44: =IFERROR(N(FD8)-N(FD17)-N(FD26)-N(FD35),"") -> 0 | FE44: =IFERROR(N(FE8)-N(FE17)-N(FE26)-N(FE35),"") -> 0 | FF44: =IFERROR(N(FF8)-N(FF17)-N(FF26)-N(FF35),"") -> 0 | FG44: =IFERROR(N(FG8)-N(FG17)-N(FG26)-N(FG35),"") -> 0 | ... FL44: =IFERROR(N(FL8)-N(FL17)-N(FL26)-N(FL35),"") -> 0 | FN44: =IFERROR(N(FN8)-N(FN17)-N(FN26)-N(FN35),"") -> 0 | FO44: =IFERROR(N(FO8)-N(FO17)-N(FO26)-N(FO35),"") -> 0 | FP44: =IFERROR(N(FP8)-N(FP17)-N(FP26)-N(FP35),"") -> 0 | FQ44: =IFERROR(N(FQ8)-N(FQ17)-N(FQ26)-N(FQ35),"") -> 0 | FR44: =IFERROR(N(FR8)-N(FR17)-N(FR26)-N(FR35),"") -> 0 | FS44: =IFERROR(N(FS8)-N(FS17)-N(FS26)-N(FS35),"") -> 0 | FT44: =IFERROR(N(FT8)-N(FT17)-N(FT26)-N(FT35),"") -> 0 | FU44: =IFERROR(N(FU8)-N(FU17)-N(FU26)-N(FU35),"") -> 0 | ... FZ44: =IFERROR(N(FZ8)-N(FZ17)-N(FZ26)-N(FZ35),"") -> 0
